BEGIN:VCALENDAR
VERSION:2.0
PRODID:-//Murphy Deals - ECPv6.15.20//NONSGML v1.0//EN
CALSCALE:GREGORIAN
METHOD:PUBLISH
X-WR-CALNAME:Murphy Deals
X-ORIGINAL-URL:https://murphydeals.com
X-WR-CALDESC:Events for Murphy Deals
REFRESH-INTERVAL;VALUE=DURATION:PT1H
X-Robots-Tag:noindex
X-PUBLISHED-TTL:PT1H
BEGIN:VTIMEZONE
TZID:America/Phoenix
BEGIN:STANDARD
TZOFFSETFROM:-0700
TZOFFSETTO:-0700
TZNAME:MST
DTSTART:20220101T000000
END:STANDARD
END:VTIMEZONE
BEGIN:VEVENT
DTSTART;TZID=America/Phoenix:20230430T210000
DTEND;TZID=America/Phoenix:20230430T223000
DTSTAMP:20260425T092842
CREATED:20230424T233902Z
LAST-MODIFIED:20230424T233902Z
UID:10007618-1682888400-1682893800@murphydeals.com
SUMMARY:Peter Berman at the L.A. Comedy Club at the Edgewater Resort in Laughlin
DESCRIPTION:APRIL 26\, 2023 – APRIL 30\, 2023\nL.A. COMEDY CLUB\nwith Special Guest Comedians \nShow starts at 9pm
URL:https://murphydeals.com/event/peter-berman-at-the-l-a-comedy-club-at-the-edgewater-resort-in-laughlin/2023-04-30/
LOCATION:Edgewater Resort\, 2020 S Casino Dr\, Laughlin\, NV\, 89029\, United States
CATEGORIES:Comedy | Comedian,Event
ATTACH;FMTTYPE=image/jpeg:https://murphydeals.com/wp-content/uploads/2023/04/peterberman-e1682379379559.jpg
END:VEVENT
BEGIN:VEVENT
DTSTART;TZID=America/Phoenix:20230429T210000
DTEND;TZID=America/Phoenix:20230429T223000
DTSTAMP:20260425T092842
CREATED:20230424T233902Z
LAST-MODIFIED:20230424T233902Z
UID:10007617-1682802000-1682807400@murphydeals.com
SUMMARY:Peter Berman at the L.A. Comedy Club at the Edgewater Resort in Laughlin
DESCRIPTION:APRIL 26\, 2023 – APRIL 30\, 2023\nL.A. COMEDY CLUB\nwith Special Guest Comedians \nShow starts at 9pm
URL:https://murphydeals.com/event/peter-berman-at-the-l-a-comedy-club-at-the-edgewater-resort-in-laughlin/2023-04-29/
LOCATION:Edgewater Resort\, 2020 S Casino Dr\, Laughlin\, NV\, 89029\, United States
CATEGORIES:Comedy | Comedian,Event
ATTACH;FMTTYPE=image/jpeg:https://murphydeals.com/wp-content/uploads/2023/04/peterberman-e1682379379559.jpg
END:VEVENT
BEGIN:VEVENT
DTSTART;TZID=America/Phoenix:20230428T210000
DTEND;TZID=America/Phoenix:20230428T223000
DTSTAMP:20260425T092842
CREATED:20230424T233902Z
LAST-MODIFIED:20230424T233902Z
UID:10007616-1682715600-1682721000@murphydeals.com
SUMMARY:Peter Berman at the L.A. Comedy Club at the Edgewater Resort in Laughlin
DESCRIPTION:APRIL 26\, 2023 – APRIL 30\, 2023\nL.A. COMEDY CLUB\nwith Special Guest Comedians \nShow starts at 9pm
URL:https://murphydeals.com/event/peter-berman-at-the-l-a-comedy-club-at-the-edgewater-resort-in-laughlin/2023-04-28/
LOCATION:Edgewater Resort\, 2020 S Casino Dr\, Laughlin\, NV\, 89029\, United States
CATEGORIES:Comedy | Comedian,Event
ATTACH;FMTTYPE=image/jpeg:https://murphydeals.com/wp-content/uploads/2023/04/peterberman-e1682379379559.jpg
END:VEVENT
BEGIN:VEVENT
DTSTART;TZID=America/Phoenix:20230427T210000
DTEND;TZID=America/Phoenix:20230427T223000
DTSTAMP:20260425T092842
CREATED:20230424T233902Z
LAST-MODIFIED:20230424T233902Z
UID:10007615-1682629200-1682634600@murphydeals.com
SUMMARY:Peter Berman at the L.A. Comedy Club at the Edgewater Resort in Laughlin
DESCRIPTION:APRIL 26\, 2023 – APRIL 30\, 2023\nL.A. COMEDY CLUB\nwith Special Guest Comedians \nShow starts at 9pm
URL:https://murphydeals.com/event/peter-berman-at-the-l-a-comedy-club-at-the-edgewater-resort-in-laughlin/2023-04-27/
LOCATION:Edgewater Resort\, 2020 S Casino Dr\, Laughlin\, NV\, 89029\, United States
CATEGORIES:Comedy | Comedian,Event
ATTACH;FMTTYPE=image/jpeg:https://murphydeals.com/wp-content/uploads/2023/04/peterberman-e1682379379559.jpg
END:VEVENT
BEGIN:VEVENT
DTSTART;TZID=America/Phoenix:20230426T210000
DTEND;TZID=America/Phoenix:20230426T223000
DTSTAMP:20260425T092842
CREATED:20230424T233902Z
LAST-MODIFIED:20230424T233902Z
UID:10007614-1682542800-1682548200@murphydeals.com
SUMMARY:Peter Berman at the L.A. Comedy Club at the Edgewater Resort in Laughlin
DESCRIPTION:APRIL 26\, 2023 – APRIL 30\, 2023\nL.A. COMEDY CLUB\nwith Special Guest Comedians \nShow starts at 9pm
URL:https://murphydeals.com/event/peter-berman-at-the-l-a-comedy-club-at-the-edgewater-resort-in-laughlin/2023-04-26/
LOCATION:Edgewater Resort\, 2020 S Casino Dr\, Laughlin\, NV\, 89029\, United States
CATEGORIES:Comedy | Comedian,Event
ATTACH;FMTTYPE=image/jpeg:https://murphydeals.com/wp-content/uploads/2023/04/peterberman-e1682379379559.jpg
END:VEVENT
END:VCALENDAR