BEGIN:VCALENDAR
VERSION:2.0
PRODID:-//Murphy Deals - ECPv6.15.20//NONSGML v1.0//EN
CALSCALE:GREGORIAN
METHOD:PUBLISH
X-ORIGINAL-URL:https://murphydeals.com
X-WR-CALDESC:Events for Murphy Deals
REFRESH-INTERVAL;VALUE=DURATION:PT1H
X-Robots-Tag:noindex
X-PUBLISHED-TTL:PT1H
BEGIN:VTIMEZONE
TZID:America/Phoenix
BEGIN:STANDARD
TZOFFSETFROM:-0700
TZOFFSETTO:-0700
TZNAME:MST
DTSTART:20220101T000000
END:STANDARD
END:VTIMEZONE
BEGIN:VEVENT
DTSTART;TZID=America/Phoenix:20230902T090000
DTEND;TZID=America/Phoenix:20230902T140000
DTSTAMP:20260425T203700
CREATED:20230619T192851Z
LAST-MODIFIED:20230619T192851Z
UID:10008280-1693645200-1693663200@murphydeals.com
SUMMARY:Great American Pizza Classic Car Show in Golden Valley
DESCRIPTION:Great American Pizza\, and AZ Claus Cause Will be having their next classic car show benefiting the kids in town for Christmas. \nAll classics\, hot rods\, Gassers\, lower\, raised\, motorcycles\, anything allowed to participate. \nStarting June 1st We will have a gun up for raffle. We will be pulling the ticket at the show September 2. Lots of other raffles 50-50 all kinds of fun For all the family.
URL:https://murphydeals.com/event/great-american-pizza-classic-car-show-in-golden-valley/
LOCATION:Great American Pizza and Subs\, 6775 HWY 68\, Golden Valley\, AZ\, 86413\, United States
CATEGORIES:Car Show
ATTACH;FMTTYPE=image/jpeg:https://murphydeals.com/wp-content/uploads/2023/06/view-of-yellow-classic-vintage-car-in-old-havana-2022-03-26-04-56-50-utc-1-e1687202834246.jpg
END:VEVENT
BEGIN:VEVENT
DTSTART;TZID=America/Phoenix:20230626T170000
DTEND;TZID=America/Phoenix:20230626T200000
DTSTAMP:20260425T203700
CREATED:20230612T233400Z
LAST-MODIFIED:20230612T233400Z
UID:10008256-1687798800-1687809600@murphydeals.com
SUMMARY:Pizza & Beer Sampling at Laughlin Ranch
DESCRIPTION:
URL:https://murphydeals.com/event/pizza-beer-sampling-at-laughlin-ranch/
LOCATION:Laughlin Ranch\, 1360 William Hardy Dr\, Bullhead City\, AZ\, 86429\, United States
CATEGORIES:Event
ATTACH;FMTTYPE=image/jpeg:https://murphydeals.com/wp-content/uploads/2023/06/italian-pizza-served-with-a-beer-glass-2021-08-28-17-22-02-utc-1-e1686612748246.jpg
END:VEVENT
BEGIN:VEVENT
DTSTART;TZID=America/Phoenix:20230421T173000
DTEND;TZID=America/Phoenix:20230421T200000
DTSTAMP:20260425T203700
CREATED:20230417T182449Z
LAST-MODIFIED:20230417T182449Z
UID:10007527-1682098200-1682107200@murphydeals.com
SUMMARY:Food Truck Festival-Bullhead City Middle School in Bullhead
DESCRIPTION:
URL:https://murphydeals.com/event/food-truck-festival-bullhead-city-middle-school-in-bullhead/
LOCATION:Bullhead City Middle School\, 1062 Hancock Rd\, Bullhead City\, AZ\, 86442\, United States
CATEGORIES:Event
ATTACH;FMTTYPE=image/jpeg:https://murphydeals.com/wp-content/uploads/2023/04/happy-customers-queue-at-food-truck-2022-12-16-09-42-24-utc-1-e1681755858561.jpg
END:VEVENT
BEGIN:VEVENT
DTSTART;TZID=America/Phoenix:20230417T170000
DTEND;TZID=America/Phoenix:20230417T200000
DTSTAMP:20260425T203700
CREATED:20230411T173232Z
LAST-MODIFIED:20230411T173232Z
UID:10007499-1681750800-1681761600@murphydeals.com
SUMMARY:Pizza & Beer Sampling at Laughlin Ranch in Bullhead
DESCRIPTION:Come enjoy Laughlin Ranch’s delicious pizza paired with various beer samples.  Multiple beers to choose from & cauliflower crust pizza is an option.
URL:https://murphydeals.com/event/pizza-beer-sampling-at-laughlin-ranch-in-bullhead/
LOCATION:Laughlin Ranch\, 1360 William Hardy Dr\, Bullhead City\, AZ\, 86429\, United States
CATEGORIES:Event
ATTACH;FMTTYPE=image/jpeg:https://murphydeals.com/wp-content/uploads/2023/04/Pizza_and_Beer-1-e1681234317497.jpg
END:VEVENT
END:VCALENDAR