BEGIN:VCALENDAR
VERSION:2.0
PRODID:-//Murphy Deals - ECPv6.15.20//NONSGML v1.0//EN
CALSCALE:GREGORIAN
METHOD:PUBLISH
X-ORIGINAL-URL:https://murphydeals.com
X-WR-CALDESC:Events for Murphy Deals
REFRESH-INTERVAL;VALUE=DURATION:PT1H
X-Robots-Tag:noindex
X-PUBLISHED-TTL:PT1H
BEGIN:VTIMEZONE
TZID:America/Phoenix
BEGIN:STANDARD
TZOFFSETFROM:-0700
TZOFFSETTO:-0700
TZNAME:MST
DTSTART:20220101T000000
END:STANDARD
END:VTIMEZONE
BEGIN:VEVENT
DTSTART;TZID=America/Phoenix:20231020T170000
DTEND;TZID=America/Phoenix:20231020T200000
DTSTAMP:20260425T120512
CREATED:20231010T234333Z
LAST-MODIFIED:20231010T234700Z
UID:10008554-1697821200-1697832000@murphydeals.com
SUMMARY:Pokemon Benefit Tournament for Rexy
DESCRIPTION:
URL:https://murphydeals.com/event/pokemon-benefit-tournament/
LOCATION:The KAWS\, 2144 McCulloch Boulevard North\, Lake Havasu City\, AZ\, 86403\, United States
CATEGORIES:Charity | Benefits
ATTACH;FMTTYPE=image/jpeg:https://murphydeals.com/wp-content/uploads/2023/10/rexy-1-1-e1696981586929.jpg
END:VEVENT
END:VCALENDAR