BEGIN:VCALENDAR
VERSION:2.0
PRODID:-//Murphy Deals - ECPv6.15.20//NONSGML v1.0//EN
CALSCALE:GREGORIAN
METHOD:PUBLISH
X-ORIGINAL-URL:https://murphydeals.com
X-WR-CALDESC:Events for Murphy Deals
REFRESH-INTERVAL;VALUE=DURATION:PT1H
X-Robots-Tag:noindex
X-PUBLISHED-TTL:PT1H
BEGIN:VTIMEZONE
TZID:America/Phoenix
BEGIN:STANDARD
TZOFFSETFROM:-0700
TZOFFSETTO:-0700
TZNAME:MST
DTSTART:20210101T000000
END:STANDARD
END:VTIMEZONE
BEGIN:VEVENT
DTSTART;TZID=America/Phoenix:20230617T130000
DTEND;TZID=America/Phoenix:20230617T170000
DTSTAMP:20260425T140742
CREATED:20230414T170301Z
LAST-MODIFIED:20230414T170301Z
UID:10007511-1687006800-1687021200@murphydeals.com
SUMMARY:Twisted Poker Run at the Breakwater Grill in Lake Havasu
DESCRIPTION:Check-in begins at 1:00 pm at Breakwater Grill. 3465 Maricopa Avenue \nThis is not a race. It’s a Poker Run with a photo scavenger hunt. Poker Sheets/Clues/Rules at registration \nRegistration fee $5 per entrant/vehicle(Includes Poker Sheet). Additional Poker Sheets are $5 each or 3/$10 \nThe same phone must be used for all photos. The deadline for check-in for the final card is 4:30 pm \n$5Cash at door
URL:https://murphydeals.com/event/twisted-poker-run-at-the-breakwater-grill-in-lake-havasu/
LOCATION:Breakwater Grill & Bar\, 3465 Maricopa Ave\, Lake Havasu City\, AZ\, 86406\, United States
CATEGORIES:Event
ATTACH;FMTTYPE=image/jpeg:https://murphydeals.com/wp-content/uploads/2023/04/Twisted-Poker-Run-1-1-e1681490142841.jpg
END:VEVENT
BEGIN:VEVENT
DTSTART;TZID=America/Phoenix:20230422T090000
DTEND;TZID=America/Phoenix:20230422T160000
DTSTAMP:20260425T140742
CREATED:20230221T205454Z
LAST-MODIFIED:20230221T205454Z
UID:10007240-1682154000-1682179200@murphydeals.com
SUMMARY:Desert Storm Poker Run and Shootout at London Bridge Resort
DESCRIPTION:One Event on April 19th\, 2023 at 10:00am \nOne Event on April 20th\, 2023 at 1:00pm \nOne Event on April 21st\, 2023 at 11:00am \nOne Event on April 22nd\, 2023 at 9:00am \nTHE see and be seen event in the boating industry! Named “One of the Top Five Poker Runs in the Nation” by Performance Boats Magazine\, the Desert Storm Poker Run & Shootout is a world-class collection of the most prestigious performance boats from across the nation! All performance boaters are invited to participate. The air will be buzzing with the participants’ helicopter teams flying above the boats right above the water. \nEVENT SCHEDULE & TIMES\nSpectator boaters\, please be extra careful if you’re boating on the lake over the weekend as boat traffic will be unusually heavy – and fast. Personal watercraft drivers\, if you plan on being on the water during the weekend’s events\, you are urged to peruse our Boating Safety section which provides specific laws pertaining to PWC’s while on the water – Please don’t jump wakes! All PWC’s are legally required to stay at least 60′ from any vessel when outside a no-wake zone. Larger vessels have less control than smaller vessels. PWC operators\, please stay clear of the path of boaters! \nThursday\nThursday Party:  Thursday Party on Main Street is back! Storm Poker Runs is excited to be able to throw this amazing party on Thursday from 1-9pm! Arguably the largest event on Havasu’s Main Street\, as a multi-million dollar presentation of extraordinary super-charged racing vessels from the world’s top custom boat-builders are on display. \nFRIDAY\nDesert Storm Parade Through the Channel: 11-11:30am (subject to change\, weather permitting) High-performance boats are expected to participate in this year’s event! Drivers will be displaying their boats on parade from Thompson Bay and through the Bridgewater Channel. The best views will be along London Bridge Beach and along the Bridgewater Channel. \nDesert Storm Poker Run: After the parade\, the drivers will be taking off for the Poker Run\, picking up cards at various card stops on the lake. \nSATURDAY\nDesert Storm Shootout: 9am – 4pm (subject to change\, weather permitting): Drivers run a course starting near the Site Six Launch Ramp and head south. Best viewing for the Shootout will be on the surrounding bluffs at the end of the Island District\, next to Site Six. \nSUNDAY\nParticipant-only events. \nCONTACTS\nAll spectator events are free! Event dates\, times and/or details are subject to change. Please contact event coordinator or check the event website to verify information. \n 
URL:https://murphydeals.com/event/desert-storm-poker-run-and-shootout-at-london-bridge-resort/2023-04-22/
LOCATION:London Bridge Resort\, 1477 Queens Bay\, Lake Havasu City\, AZ\, 86403
CATEGORIES:Event,Sports | Activities
ATTACH;FMTTYPE=image/jpeg:https://murphydeals.com/wp-content/uploads/2023/02/desertstormpoker-e1677012860101.jpg
END:VEVENT
BEGIN:VEVENT
DTSTART;TZID=America/Phoenix:20230421T110000
DTEND;TZID=America/Phoenix:20230421T170000
DTSTAMP:20260425T140742
CREATED:20230221T205454Z
LAST-MODIFIED:20230221T205454Z
UID:10007239-1682074800-1682096400@murphydeals.com
SUMMARY:Desert Storm Poker Run and Shootout at London Bridge Resort
DESCRIPTION:One Event on April 19th\, 2023 at 10:00am \nOne Event on April 20th\, 2023 at 1:00pm \nOne Event on April 21st\, 2023 at 11:00am \nOne Event on April 22nd\, 2023 at 9:00am \nTHE see and be seen event in the boating industry! Named “One of the Top Five Poker Runs in the Nation” by Performance Boats Magazine\, the Desert Storm Poker Run & Shootout is a world-class collection of the most prestigious performance boats from across the nation! All performance boaters are invited to participate. The air will be buzzing with the participants’ helicopter teams flying above the boats right above the water. \nEVENT SCHEDULE & TIMES\nSpectator boaters\, please be extra careful if you’re boating on the lake over the weekend as boat traffic will be unusually heavy – and fast. Personal watercraft drivers\, if you plan on being on the water during the weekend’s events\, you are urged to peruse our Boating Safety section which provides specific laws pertaining to PWC’s while on the water – Please don’t jump wakes! All PWC’s are legally required to stay at least 60′ from any vessel when outside a no-wake zone. Larger vessels have less control than smaller vessels. PWC operators\, please stay clear of the path of boaters! \nThursday\nThursday Party:  Thursday Party on Main Street is back! Storm Poker Runs is excited to be able to throw this amazing party on Thursday from 1-9pm! Arguably the largest event on Havasu’s Main Street\, as a multi-million dollar presentation of extraordinary super-charged racing vessels from the world’s top custom boat-builders are on display. \nFRIDAY\nDesert Storm Parade Through the Channel: 11-11:30am (subject to change\, weather permitting) High-performance boats are expected to participate in this year’s event! Drivers will be displaying their boats on parade from Thompson Bay and through the Bridgewater Channel. The best views will be along London Bridge Beach and along the Bridgewater Channel. \nDesert Storm Poker Run: After the parade\, the drivers will be taking off for the Poker Run\, picking up cards at various card stops on the lake. \nSATURDAY\nDesert Storm Shootout: 9am – 4pm (subject to change\, weather permitting): Drivers run a course starting near the Site Six Launch Ramp and head south. Best viewing for the Shootout will be on the surrounding bluffs at the end of the Island District\, next to Site Six. \nSUNDAY\nParticipant-only events. \nCONTACTS\nAll spectator events are free! Event dates\, times and/or details are subject to change. Please contact event coordinator or check the event website to verify information. \n 
URL:https://murphydeals.com/event/desert-storm-poker-run-and-shootout-at-london-bridge-resort/2023-04-21/
LOCATION:London Bridge Resort\, 1477 Queens Bay\, Lake Havasu City\, AZ\, 86403
CATEGORIES:Event,Sports | Activities
ATTACH;FMTTYPE=image/jpeg:https://murphydeals.com/wp-content/uploads/2023/02/desertstormpoker-e1677012860101.jpg
END:VEVENT
BEGIN:VEVENT
DTSTART;TZID=America/Phoenix:20230420T130000
DTEND;TZID=America/Phoenix:20230420T210000
DTSTAMP:20260425T140742
CREATED:20230221T205454Z
LAST-MODIFIED:20230221T205454Z
UID:10007238-1681995600-1682024400@murphydeals.com
SUMMARY:Desert Storm Poker Run and Shootout at London Bridge Resort
DESCRIPTION:One Event on April 19th\, 2023 at 10:00am \nOne Event on April 20th\, 2023 at 1:00pm \nOne Event on April 21st\, 2023 at 11:00am \nOne Event on April 22nd\, 2023 at 9:00am \nTHE see and be seen event in the boating industry! Named “One of the Top Five Poker Runs in the Nation” by Performance Boats Magazine\, the Desert Storm Poker Run & Shootout is a world-class collection of the most prestigious performance boats from across the nation! All performance boaters are invited to participate. The air will be buzzing with the participants’ helicopter teams flying above the boats right above the water. \nEVENT SCHEDULE & TIMES\nSpectator boaters\, please be extra careful if you’re boating on the lake over the weekend as boat traffic will be unusually heavy – and fast. Personal watercraft drivers\, if you plan on being on the water during the weekend’s events\, you are urged to peruse our Boating Safety section which provides specific laws pertaining to PWC’s while on the water – Please don’t jump wakes! All PWC’s are legally required to stay at least 60′ from any vessel when outside a no-wake zone. Larger vessels have less control than smaller vessels. PWC operators\, please stay clear of the path of boaters! \nThursday\nThursday Party:  Thursday Party on Main Street is back! Storm Poker Runs is excited to be able to throw this amazing party on Thursday from 1-9pm! Arguably the largest event on Havasu’s Main Street\, as a multi-million dollar presentation of extraordinary super-charged racing vessels from the world’s top custom boat-builders are on display. \nFRIDAY\nDesert Storm Parade Through the Channel: 11-11:30am (subject to change\, weather permitting) High-performance boats are expected to participate in this year’s event! Drivers will be displaying their boats on parade from Thompson Bay and through the Bridgewater Channel. The best views will be along London Bridge Beach and along the Bridgewater Channel. \nDesert Storm Poker Run: After the parade\, the drivers will be taking off for the Poker Run\, picking up cards at various card stops on the lake. \nSATURDAY\nDesert Storm Shootout: 9am – 4pm (subject to change\, weather permitting): Drivers run a course starting near the Site Six Launch Ramp and head south. Best viewing for the Shootout will be on the surrounding bluffs at the end of the Island District\, next to Site Six. \nSUNDAY\nParticipant-only events. \nCONTACTS\nAll spectator events are free! Event dates\, times and/or details are subject to change. Please contact event coordinator or check the event website to verify information. \n 
URL:https://murphydeals.com/event/desert-storm-poker-run-and-shootout-at-london-bridge-resort/2023-04-20/
LOCATION:London Bridge Resort\, 1477 Queens Bay\, Lake Havasu City\, AZ\, 86403
CATEGORIES:Event,Sports | Activities
ATTACH;FMTTYPE=image/jpeg:https://murphydeals.com/wp-content/uploads/2023/02/desertstormpoker-e1677012860101.jpg
END:VEVENT
BEGIN:VEVENT
DTSTART;TZID=America/Phoenix:20230419T100000
DTEND;TZID=America/Phoenix:20230419T220000
DTSTAMP:20260425T140742
CREATED:20230221T205454Z
LAST-MODIFIED:20230221T205454Z
UID:10007237-1681898400-1681941600@murphydeals.com
SUMMARY:Desert Storm Poker Run and Shootout at London Bridge Resort
DESCRIPTION:One Event on April 19th\, 2023 at 10:00am \nOne Event on April 20th\, 2023 at 1:00pm \nOne Event on April 21st\, 2023 at 11:00am \nOne Event on April 22nd\, 2023 at 9:00am \nTHE see and be seen event in the boating industry! Named “One of the Top Five Poker Runs in the Nation” by Performance Boats Magazine\, the Desert Storm Poker Run & Shootout is a world-class collection of the most prestigious performance boats from across the nation! All performance boaters are invited to participate. The air will be buzzing with the participants’ helicopter teams flying above the boats right above the water. \nEVENT SCHEDULE & TIMES\nSpectator boaters\, please be extra careful if you’re boating on the lake over the weekend as boat traffic will be unusually heavy – and fast. Personal watercraft drivers\, if you plan on being on the water during the weekend’s events\, you are urged to peruse our Boating Safety section which provides specific laws pertaining to PWC’s while on the water – Please don’t jump wakes! All PWC’s are legally required to stay at least 60′ from any vessel when outside a no-wake zone. Larger vessels have less control than smaller vessels. PWC operators\, please stay clear of the path of boaters! \nThursday\nThursday Party:  Thursday Party on Main Street is back! Storm Poker Runs is excited to be able to throw this amazing party on Thursday from 1-9pm! Arguably the largest event on Havasu’s Main Street\, as a multi-million dollar presentation of extraordinary super-charged racing vessels from the world’s top custom boat-builders are on display. \nFRIDAY\nDesert Storm Parade Through the Channel: 11-11:30am (subject to change\, weather permitting) High-performance boats are expected to participate in this year’s event! Drivers will be displaying their boats on parade from Thompson Bay and through the Bridgewater Channel. The best views will be along London Bridge Beach and along the Bridgewater Channel. \nDesert Storm Poker Run: After the parade\, the drivers will be taking off for the Poker Run\, picking up cards at various card stops on the lake. \nSATURDAY\nDesert Storm Shootout: 9am – 4pm (subject to change\, weather permitting): Drivers run a course starting near the Site Six Launch Ramp and head south. Best viewing for the Shootout will be on the surrounding bluffs at the end of the Island District\, next to Site Six. \nSUNDAY\nParticipant-only events. \nCONTACTS\nAll spectator events are free! Event dates\, times and/or details are subject to change. Please contact event coordinator or check the event website to verify information. \n 
URL:https://murphydeals.com/event/desert-storm-poker-run-and-shootout-at-london-bridge-resort/2023-04-19/
LOCATION:London Bridge Resort\, 1477 Queens Bay\, Lake Havasu City\, AZ\, 86403
CATEGORIES:Event,Sports | Activities
ATTACH;FMTTYPE=image/jpeg:https://murphydeals.com/wp-content/uploads/2023/02/desertstormpoker-e1677012860101.jpg
END:VEVENT
BEGIN:VEVENT
DTSTART;TZID=America/Phoenix:20230415T093000
DTEND;TZID=America/Phoenix:20230415T170000
DTSTAMP:20260425T140742
CREATED:20230404T205656Z
LAST-MODIFIED:20230404T205859Z
UID:10007446-1681551000-1681578000@murphydeals.com
SUMMARY:Outlaws for vets at the R Bar in Lake Havasu
DESCRIPTION:Come ride and support your local vets and pets with this run \nWe will be helping some local vets adopt shelter pets in need of good homes
URL:https://murphydeals.com/event/outlaws-for-vets-at-the-r-bar-in-lake-havasu/
LOCATION:R Bar and Grill\, 3185 Maricopa Ave\, Lake Havasu City\, AZ\, 86406\, United States
CATEGORIES:Event
ATTACH;FMTTYPE=image/jpeg:https://murphydeals.com/wp-content/uploads/2023/04/outlawvet-1-e1680641923267.jpg
END:VEVENT
BEGIN:VEVENT
DTSTART;TZID=America/Phoenix:20230318T090000
DTEND;TZID=America/Phoenix:20230318T160000
DTSTAMP:20260425T140742
CREATED:20230223T160010Z
LAST-MODIFIED:20230224T233857Z
UID:10007253-1679130000-1679155200@murphydeals.com
SUMMARY:Thank a Customer Poker Run in Lake Havasu
DESCRIPTION:
URL:https://murphydeals.com/event/thank-a-customer-day-poker-run/
LOCATION:Lakeside Appliance\, 1740 McCulloch Blvd\, Lake Havasu City\, AZ\, 86406
CATEGORIES:Event,Music | Concerts
ATTACH;FMTTYPE=image/png:https://murphydeals.com/wp-content/uploads/2023/02/DD-Poker-Run-11-x-17-e1677255001207.png
END:VEVENT
BEGIN:VEVENT
DTSTART;TZID=America/Phoenix:20221209T100000
DTEND;TZID=America/Phoenix:20221211T140000
DTSTAMP:20260425T140742
CREATED:20221031T211248Z
LAST-MODIFIED:20221128T211739Z
UID:10006528-1670580000-1670767200@murphydeals.com
SUMMARY:Desert Bash & Off Road Poker Run in Lake Havasu
DESCRIPTION:GET TICKETS \n\nLocation\n\nStandard Wash Area\, Bureau of Land Management Campground 7001 Arizona 95 Lake Havasu City\, AZ 86406 \nSchedule of Events \nFriday\, December 9\, 2022 \n10:00 AM-12:00PM Camping check in NOTE: if you want to camp near a friend make sure that you arrive together. Camping spaces are pre sold online only and are limited. Campers will be placed in the order they arrive. There is no pulling over and waiting once in the event area. \n10:00 AM- 5:45 PM Packet Pickup (Event registration is limited and will only be sold on this page prior to the event) \n10:00 AM Shirts will be available to pick up \n10:00 AM-6:00 PM Vendors Open \n5:45 PM Packet Pickup closes for Driver’s meeting \n6:00 PM Mandatory Driver’s Meeting – If Not attending the Saturday Morning Meeting \nPM Packet Pickup resumes after Drivers Meeting and goes until 6:30pm \nSaturday\, December 10\, 2022 \n6:30 AM- 8:10 AM Packet Pickup \n7:00 AM Makeup Driver’s Meeting \n8:00 AM (Arizona Time) Poker Run Begins (Drivers will go out in Heats) All Vehicles must have current year event sticker adhered to the vehicle and all registrants wearing wrist bands (given upon packet pickup) Both will be checked on each vehicle. \n8:30 AM (Arizona Time)All Vehicles must be at or through the start gate (Racing/ Driving recklessly will result in disqualification from the poker run) \n10:00 AM – 8:00 PM Vendors Open \n1:00 PM – 5:00 PM LIVE Music – MUDFISH \n4:00 PM All vehicles must be through Checkpoint 5 and have checked in/ turn in poker hand \n4:30PM. When the Poker Run ends all hands must be turned in and all attendees must check back in at registration. You must be present to claim your prize. Prizes are awarded on the basis of the Poker hand you draw at the final checkpoint. Turn hands in to the registration table when you return. All vehicles MUST CHECK IN at registration so we can account for all attendees safely making back to camp. \n5:15 PM Drawings/Winners Announced/Prizes \n8:00 PM Event Area Closes. \nSunday\, December 11\, 2022 \n2:00 PM Camping Check-out. Please pack out what you pack in. \nTicket Information \n50/50 Tickets\, additional poker hands\, and prize drawing tickets will be available at registration \nAvailable for Purchase on this page \nEntry fee for the poker run: $90(includes entry for 1 vehicle\, 1 Poker Hand & 1 Raffle Ticket) A WAIVER MUST BE COMPLETED AND SIGNED BY EACH PARTICIPANT. An email will be sent with a link to the waiver to be completed and returned. \nAdditional Poker Hands: $15 \nEvent Shirts and Hoodies ($20-$45) Event Shirts and Hoodies are available pre sale only and will not be available to purchase at the event. All merchandise is will call pick up only and will not be shipped prior to the event. All orders must be made no later than November 10th\, 2022. \nCampsite: $50 (25’x40′ Campsites will only be available for purchase on this site. If you are planning on camping near a friend or group you will need to arrive together at the event area. There will be no place to pull over and wait for other campers once you enter the turn off from Hwy 95. Please find a safe place to meet and travel together. We will have volunteers to help guide campers to the next spot available. Campsites do not include entry fee for the run or poker hands.) There will be a long line of campers at 10:00AM. Our volunteers are gracious enough to help plan and implement this event and without them this event would not be possible. Please be courteous to any and all volunteers. More campsites may become available closer to the event depending on logistics. If you would like to purchase a camping space and none are available please email Amanda Mehaffey at amandam@havasuchamber.com. \nGeneral Event Information \nLocation \nStandard Wash (Heading South of town on HWY 95 on the left-hand side of the road just past mile marker 173) \nCamping \nThere are approximately 80 camping spaces available. All forms of camping\, Tent\, RV\, etc.\, are the same price\, $50. No power or water hookups. No Open Campfires! Contained heaters and covered fire pits are permitted. \nEquipment & Safety \nOnly Arizona residents must have an Off-Highway Vehicle Decal on their vehicle which is issued by the Motor Vehicle Division in Lake Havasu City. If you would like more information\, please visit www.servicearizona.com\, click on “Off-Highway Vehicle Decal” located at the bottom of the home page. To avoid dehydration\, it is recommended that you bring plenty of drinking water. This course can be a bit rough for most vehicles so spare tires\, tools\, parts etc. are recommended. This is a 60+ mile course with varying terrains so additional fuel should be carried on each vehicle. There will be no running water or fuel on the course available. \nRoute \nThe course is approximately 70 miles long. There will be five check points\, each of which will be visibly marked on the trail accordingly. The routes will be marked with red arrows\, ribbons and flags which will be explained in further detail at the Driver’s Meeting. Note that the Poker Run does not have exclusive use of the trails for the event. TWO-WAY MOTORCYCLE\, ATV\, EQUESTRIAN\, AND PEDESTRIAN TRAFFIC MAY EXIST AT ANY TIME! USE CAUTION AND CONTROL YOUR SPEED! Please obey Search and Rescue’s directions. \nConduct \nThe Poker Run is an organized Trail Ride\, NOT A RACE. \nIf you are being overtaken by a faster rider\, please pull over when safe to do so and allow faster riders to pass. If you overtake a rider\, please pass safely and courteously. Remember you will be sharing the trail with novices. CONTROL YOUR SPEED! A participant may be disqualified from this event for any unsportsmanlike conduct\, illegal activity\, or failure to abide by any of the conditions or rules of the event at the discretion of the Lake Havasu Area Chamber of Commerce. \nMinors \nAll Minors (Children under 18) MUST have a waiver signed by their parent or legal guardian in order to participate. Parent/Guardian present at the event will be required to sign a minor waiver form at registration and ID will be required. If the Parent/Guardian will not be present\, the adult supervising the child must bring a minor waiver form\, signed and notarized by the parent or legal guardian. No children under the age of 4 are permitted on this run. \nFAQs \nIs this a race? \nNO\, THIS IS NOT A RACE. This is a family friendly poker run. Anyone speeding or putting any other vehicle in jeopardy will be banned from registering for this event in the future and will have their poker hand revoked. There will be Sheriff’s Department as well as Search and Rescue on the trails to monitor activity. \nWill there be any alcoholic beverages? \nThis year’s event will not have a “Beer Garden”. You are welcome to bring your own snacks and beverages (Think day in the desert). There will be food vendors on site at the event area. Note: Regulatory Agencies including the Sheriff’s department will be stationed throughout the course. Drinking and driving severely puts yourself and others at risk and is subject to the same laws as the road. DUIs happen on the dirt too. \nWhat are my transport/parking options getting to the event? \nThe Short road to the event area is not paved so we recommend a suitable vehicle for an uneven dirt road. Day parking is free. Campsites are 25′ x 40′ and are $50 for both nights and are only available for purchase prior to the event. \nWhere can I contact the organizer with any questions? \namandam@havasuchamber.com or call 928-855-4115 \nI missed my chance to register! What do I do to get on a wait list? \nThere is an option labeled wait list. This is a free line pass that puts you in a queue. If a ticket becomes available you will be notified in the order received. \nSomething came up and I already purchased my ticket. Can I transfer or sell my ticket? \nIf you wish to sell your ticket all sales would be done between you and the other party. For sales and transfers the original ticket buyer must email amandam@havasuchamber.com with the registered email used to purchase the tickets (this verifies identity) and state that they will be transferring their tickets to First Name Last Name including email address of transferee. We will transfer the ticket and send a new waiver and confirmation to the new ticket holder \nDo you take Credit Cards at the event? \nService is sparse at Standard wash and throughout the course so this is a cash only event. \nWhat is the refund policy? \nNo refunds will be given after the purchase of any items on this page. Event will go on Rain or Shine! \nCan I save a camp spot near me for a friend who also bought a space? \nFor safety reasons\, all campers that wish to camp next to friends or family must arrive together. There is no space to pull over once you turn off the highway to the event to wait for others. Please make arrangements with your group to arrive together. \nCan I just purchase my event ticket/ campsite at the event? \nEvery year this event sells out with a wait list. There will be no registration sold at the event. \nDo I have to partake in the run? \nAbsolutely not\, if you would prefer to hang back at the base camp and Event area\, you are more than welcome. \nWhat should I bring? \nThe run is in no means short. We recommend bringing plenty of water for the day\, some snacks or a packed lunch\, warm clothing (layers)\, and rain/wind/dust/sun protection. While we do our best to make this course as smooth as possible\, this course is not for the timid. Expect some bumps. While some of our checkpoint sponsors do provide light beverages and snacks\, they do so at their sole discretion and should not be counted on in your packed rations. Additional fuel\, spare tires\, parts and tools are highly recommended. \nWhat are the rules in the event area? \nThis is a family friendly event and we expect all attendees to respect each other as well as the volunteers that keep this event running year after year. \nIf I need assistance at the event and no one is at registration who do I look for? \nEvent staff and volunteers will be wearing lanyards. \nWhat’s with the fee? \nConvenience comes at a small price\, we want to be upfront with the convenience fee. \nThank you to all of our sponsors!
URL:https://murphydeals.com/event/anderson-powersports-presents-desert-bash-off-road-poker-run-in-lake-havasu/
LOCATION:Standard Wash Area\, Bureau of Land Management Campground\, 7001 Arizona 95\, Lake Havasu City\, AZ\, 86406\, United States
CATEGORIES:Event
ATTACH;FMTTYPE=image/jpeg:https://murphydeals.com/wp-content/uploads/2022/10/Desert-Bash-1-e1669669603159.jpg
END:VEVENT
BEGIN:VEVENT
DTSTART;TZID=America/Phoenix:20221203T090000
DTEND;TZID=America/Phoenix:20221203T150000
DTSTAMP:20260425T140742
CREATED:20221114T183244Z
LAST-MODIFIED:20221130T204633Z
UID:10006582-1670058000-1670079600@murphydeals.com
SUMMARY:Kiwanis Off-Road Poker Run
DESCRIPTION:Thank you to Anderson Powersports for sponsoring our 2022 – 2023 Kiwanis Poker Runs! \nJoin us for our bi-annual off-road poker run! Registration is now open! We are happy to be collaborating with 928 Desert Riders. \nCost is $75 per vehicle before December 26th. $85 per vehicle starting December 26th. \nThe poker run is roughly 50 miles of off-road fun! Off-road vehicles of all types are welcome. With your vehicle registration you will receive 1 vehicle entry\, 2 lunches\, 1 whip flag (for the first 100 vehicles)\, and 1 poker hand. Breakfast burritos will be available for purchase in the morning for $7 and additional lunches can be purchased for $10. Additional poker hands can be purchased for $15. \nThis poker run is not a race. Enjoy the desert\, friends\, family and play games along the way to determine your poker hand. Bring the kids and take a photo with Santa at the North Pole! \nInformation packets for registered vehicles will be available for pick up Friday December 2nd\, at Anderson Powersports in Bullhead City from 9:00am – 12:00pm. Packets can also be picked up the morning of the event at the site. Drivers report meeting will begin at 8:30AM with the poker run starting at 9:00AM. \nTitle Sponsor: ANDERSON POWERSPORTS \nNo Refunds \n\nLocation\n\n3426 Boundary Cone Rd 3426 Boundary Cone Road Mohave Valley\, AZ 86440 \nGET TICKETS
URL:https://murphydeals.com/event/kiwanis-off-road-poker-run/
LOCATION:AZ
CATEGORIES:Event,Sports | Activities
ATTACH;FMTTYPE=image/jpeg:https://murphydeals.com/wp-content/uploads/2022/11/pokerrun-e1668450754546.jpg
END:VEVENT
END:VCALENDAR