BEGIN:VCALENDAR
VERSION:2.0
PRODID:-//Murphy Deals - ECPv6.15.20//NONSGML v1.0//EN
CALSCALE:GREGORIAN
METHOD:PUBLISH
X-ORIGINAL-URL:https://murphydeals.com
X-WR-CALDESC:Events for Murphy Deals
REFRESH-INTERVAL;VALUE=DURATION:PT1H
X-Robots-Tag:noindex
X-PUBLISHED-TTL:PT1H
BEGIN:VTIMEZONE
TZID:America/Phoenix
BEGIN:STANDARD
TZOFFSETFROM:-0700
TZOFFSETTO:-0700
TZNAME:MST
DTSTART:20220101T000000
END:STANDARD
END:VTIMEZONE
BEGIN:VEVENT
DTSTART;TZID=America/Phoenix:20230715T150000
DTEND;TZID=America/Phoenix:20230715T180000
DTSTAMP:20260425T123134
CREATED:20230626T212020Z
LAST-MODIFIED:20230626T212020Z
UID:10008306-1689433200-1689444000@murphydeals.com
SUMMARY:Saddle Up\, Giddy Up! at The Flying X Saloon
DESCRIPTION:
URL:https://murphydeals.com/event/saddle-up-giddy-up-at-the-flying-x-saloon/
LOCATION:Flying X Saloon\, 2030 McCulloch Blvd N\, Lake Havasu City\, AZ\, 86403
CATEGORIES:Event
ATTACH;FMTTYPE=image/jpeg:https://murphydeals.com/wp-content/uploads/2023/06/Saddle-up-Giddy-up-1-e1687814183504.jpg
END:VEVENT
BEGIN:VEVENT
DTSTART;TZID=America/Phoenix:20230506T120000
DTEND;TZID=America/Phoenix:20230506T160000
DTSTAMP:20260425T123134
CREATED:20230421T183425Z
LAST-MODIFIED:20230421T183922Z
UID:10007568-1683374400-1683388800@murphydeals.com
SUMMARY:Mother's Day Poker Stroll at The Kaws in Lake Havasu
DESCRIPTION:A unique shopping experience just for Mom located in the heart of downtown Lake Havasu City! Gather friends and family and enjoy a day of leisure\, fun and surprises. \n♣️Event check in at KAWS on Saturday May 6th between 11am and 1pm.Check-in to receive event passes and map. \nEvent passes must stay on each participant at all times. \n♦️Participants are welcome to visit each of the 5 participating establishments at their leisure. Participants are not obligated to make any purchases during the event\, nor spend any designated amount of time at any establishment. \nCollect ONE poker card from each establishment. \n👸✨Each business will provide exclusive menus\,offers/discount or gifts to each registered participant!✨️🤴 \nEstablishments remain the right to refuse business regardless or reason. Dwellers & Dreamers and Havasu Mama are not liable for any items lost or stolen\, nor responsible for any unpaid expenses or discrepancies on behalf of any participant. \n♥️Event will end at 4pm at KAWS where we will discover who has the winning poker hand and GRAND PRIZE WINNER! \nBUY TICKET 
URL:https://murphydeals.com/event/mothers-day-poker-stroll-at-the-kaws-in-lake-havasu/
LOCATION:The KAWS\, 2144 McCulloch Boulevard North\, Lake Havasu City\, AZ\, 86403\, United States
CATEGORIES:Event
ATTACH;FMTTYPE=image/jpeg:https://murphydeals.com/wp-content/uploads/2023/04/motherspoker-e1682102355436.jpg
END:VEVENT
BEGIN:VEVENT
DTSTART;TZID=America/Phoenix:20230401T140000
DTEND;TZID=America/Phoenix:20230401T180000
DTSTAMP:20260425T123134
CREATED:20230324T233732Z
LAST-MODIFIED:20230324T233732Z
UID:10007368-1680357600-1680372000@murphydeals.com
SUMMARY:Parrot Head Club Poker Walk in Lake Havasu
DESCRIPTION:
URL:https://murphydeals.com/event/parrot-head-club-poker-walk-in-lake-havasu/
LOCATION:Lake Havasu City\, Virtual Via Zoom\, Lake Havasu City\, AZ\, 86406\, United States
CATEGORIES:Event
ATTACH;FMTTYPE=image/jpeg:https://murphydeals.com/wp-content/uploads/2023/03/phpokerwalk-e1679700790392.jpg
END:VEVENT
END:VCALENDAR