BEGIN:VCALENDAR
VERSION:2.0
PRODID:-//Murphy Deals - ECPv6.15.20//NONSGML v1.0//EN
CALSCALE:GREGORIAN
METHOD:PUBLISH
X-WR-CALNAME:Murphy Deals
X-ORIGINAL-URL:https://murphydeals.com
X-WR-CALDESC:Events for Murphy Deals
REFRESH-INTERVAL;VALUE=DURATION:PT1H
X-Robots-Tag:noindex
X-PUBLISHED-TTL:PT1H
BEGIN:VTIMEZONE
TZID:America/Phoenix
BEGIN:STANDARD
TZOFFSETFROM:-0700
TZOFFSETTO:-0700
TZNAME:MST
DTSTART:20220101T000000
END:STANDARD
END:VTIMEZONE
BEGIN:VEVENT
DTSTART;TZID=America/Phoenix:20230107T120000
DTEND;TZID=America/Phoenix:20230107T140000
DTSTAMP:20260425T094716
CREATED:20221128T233232Z
LAST-MODIFIED:20221128T233232Z
UID:10006649-1673092800-1673100000@murphydeals.com
SUMMARY:Polar Bear Day at London Bridge Beach in Lake Havasu
DESCRIPTION:The Havasu Boat & Ski Club is sponsoring the 49th Annual Lake Havasu Polar Bear Day at London Bridge Beach (Island side of the channel) beginning at noon. \nTo earn your Polar Bear patch you must take the polar plunge! We will be having scheduled group plunges at 12pm\, 12:30pm\, and 1pm\, or you may go on your own. \nThe entry fee is $5 for all participants. \nParticipants may warm themselves by the heaters on the beach and partake in a huge pot of soup to warm their insides. For those not quite so brave\, the Club will provide the traditional blue and yellow “Chicken” patch for those who immerse any portion of their anatomy into the chilly Lake Havasu waters. The entry fee for “Chickens” is $5. \nThe Club invites EVERYONE to join in the fun at London Bridge Beach for an afternoon of thrills and chills! Spectators are always welcome and there is no charge for spectators.
URL:https://murphydeals.com/event/polar-bear-day-at-london-bridge-beach-in-lake-havasu/
LOCATION:London Bridge Beach\, 1340 McCulloch Boulevard North\, Lake Havasu City\, AZ\, 86403\, United States
CATEGORIES:Event
ATTACH;FMTTYPE=image/jpeg:https://murphydeals.com/wp-content/uploads/2022/11/beautiful-polar-bear-playing-in-water-in-autumn-2021-08-26-16-36-24-utc-1-1-e1669678050926.jpg
END:VEVENT
END:VCALENDAR