BEGIN:VCALENDAR
VERSION:2.0
PRODID:-//Murphy Deals - ECPv6.15.20//NONSGML v1.0//EN
CALSCALE:GREGORIAN
METHOD:PUBLISH
X-WR-CALNAME:Murphy Deals
X-ORIGINAL-URL:https://murphydeals.com
X-WR-CALDESC:Events for Murphy Deals
REFRESH-INTERVAL;VALUE=DURATION:PT1H
X-Robots-Tag:noindex
X-PUBLISHED-TTL:PT1H
BEGIN:VTIMEZONE
TZID:America/Phoenix
BEGIN:STANDARD
TZOFFSETFROM:-0700
TZOFFSETTO:-0700
TZNAME:MST
DTSTART:20210101T000000
END:STANDARD
END:VTIMEZONE
BEGIN:VEVENT
DTSTART;TZID=America/Phoenix:20221124T000000
DTEND;TZID=America/Phoenix:20221124T000000
DTSTAMP:20260425T134629
CREATED:20221115T234843Z
LAST-MODIFIED:20221121T223838Z
UID:10006618-1669248000-1669248000@murphydeals.com
SUMMARY:Relax & Enjoy Your Holiday Dining in Lake Havasu
DESCRIPTION:The following restaurants will be open on Thanksgiving Day\, Nov. 24\, 2022 (this is not a complete listing and does not include fast food restaurants). \nPlease check restaurants for their specific times. \nBlack Bear Diner\, 6am-6pm\, Choice of one: turkey or ham or prime rib with mashed potatoes with gravy\, Italian green beans\, cornbread stuffing\, cranberry sauce\, salad or soup\, cornbread muffin \, and slice of pumpkin pie\, no reservations will be accepted\, pick-up orders can be placed up to three days in advance at Black Bear Diner \nCha-Bones\, 10am-1pm\, Cha-Bones and APEX West are sponsoring free take-home Thanksgiving meals\, no reservations \nDenny’s\, 24 hours \nHokkaido\, 11am-9pm \nIHOP\, 7am-3pm \nMartini Bay at the London Bridge Resort\, noon-4:30pm\, reservations required (See flyer below) \nR Bar and Grill\, starting at 1pm\, Traditional full Thanksgiving meals will be served and available until it is gone\, free \nVFW Post 9401\, 11a-2p\, free Thanksgiving lunch \n 
URL:https://murphydeals.com/event/relax-enjoy-your-holiday-dining-in-lake-havasu/
CATEGORIES:Event
ATTACH;FMTTYPE=image/jpeg:https://murphydeals.com/wp-content/uploads/2022/11/Thanks-e1669069577976.jpg
END:VEVENT
END:VCALENDAR