BEGIN:VCALENDAR
VERSION:2.0
PRODID:-//Murphy Deals - ECPv6.15.20//NONSGML v1.0//EN
CALSCALE:GREGORIAN
METHOD:PUBLISH
X-ORIGINAL-URL:https://murphydeals.com
X-WR-CALDESC:Events for Murphy Deals
REFRESH-INTERVAL;VALUE=DURATION:PT1H
X-Robots-Tag:noindex
X-PUBLISHED-TTL:PT1H
BEGIN:VTIMEZONE
TZID:America/Phoenix
BEGIN:STANDARD
TZOFFSETFROM:-0700
TZOFFSETTO:-0700
TZNAME:MST
DTSTART:20220101T000000
END:STANDARD
END:VTIMEZONE
BEGIN:VEVENT
DTSTART;TZID=America/Phoenix:20230507T090000
DTEND;TZID=America/Phoenix:20230507T103000
DTSTAMP:20260425T150737
CREATED:20230501T143820Z
LAST-MODIFIED:20230501T143820Z
UID:10007711-1683450000-1683455400@murphydeals.com
SUMMARY:Quinn Dahle at the L.A. Comedy Club at the Edgewater Resort in Laughlin
DESCRIPTION:MAY 3\, 2023 – MAY 7\, 2023\nL.A. COMEDY CLUB\nwith Special Guest Comedians \nShow starts at 9pm
URL:https://murphydeals.com/event/quinn-dahle-at-the-l-a-comedy-club-at-the-edgewater-resort-in-laughlin/2023-05-07/
LOCATION:Edgewater Resort\, 2020 S Casino Dr\, Laughlin\, NV\, 89029\, United States
CATEGORIES:Comedy | Comedian,Event
ATTACH;FMTTYPE=image/jpeg:https://murphydeals.com/wp-content/uploads/2023/04/quinn-dahle-e1682951761398.jpg
END:VEVENT
BEGIN:VEVENT
DTSTART;TZID=America/Phoenix:20230506T090000
DTEND;TZID=America/Phoenix:20230506T103000
DTSTAMP:20260425T150737
CREATED:20230501T143820Z
LAST-MODIFIED:20230501T143820Z
UID:10007710-1683363600-1683369000@murphydeals.com
SUMMARY:Quinn Dahle at the L.A. Comedy Club at the Edgewater Resort in Laughlin
DESCRIPTION:MAY 3\, 2023 – MAY 7\, 2023\nL.A. COMEDY CLUB\nwith Special Guest Comedians \nShow starts at 9pm
URL:https://murphydeals.com/event/quinn-dahle-at-the-l-a-comedy-club-at-the-edgewater-resort-in-laughlin/2023-05-06/
LOCATION:Edgewater Resort\, 2020 S Casino Dr\, Laughlin\, NV\, 89029\, United States
CATEGORIES:Comedy | Comedian,Event
ATTACH;FMTTYPE=image/jpeg:https://murphydeals.com/wp-content/uploads/2023/04/quinn-dahle-e1682951761398.jpg
END:VEVENT
BEGIN:VEVENT
DTSTART;TZID=America/Phoenix:20230505T090000
DTEND;TZID=America/Phoenix:20230505T103000
DTSTAMP:20260425T150737
CREATED:20230501T143820Z
LAST-MODIFIED:20230501T143820Z
UID:10007709-1683277200-1683282600@murphydeals.com
SUMMARY:Quinn Dahle at the L.A. Comedy Club at the Edgewater Resort in Laughlin
DESCRIPTION:MAY 3\, 2023 – MAY 7\, 2023\nL.A. COMEDY CLUB\nwith Special Guest Comedians \nShow starts at 9pm
URL:https://murphydeals.com/event/quinn-dahle-at-the-l-a-comedy-club-at-the-edgewater-resort-in-laughlin/2023-05-05/
LOCATION:Edgewater Resort\, 2020 S Casino Dr\, Laughlin\, NV\, 89029\, United States
CATEGORIES:Comedy | Comedian,Event
ATTACH;FMTTYPE=image/jpeg:https://murphydeals.com/wp-content/uploads/2023/04/quinn-dahle-e1682951761398.jpg
END:VEVENT
BEGIN:VEVENT
DTSTART;TZID=America/Phoenix:20230504T090000
DTEND;TZID=America/Phoenix:20230504T103000
DTSTAMP:20260425T150737
CREATED:20230501T143820Z
LAST-MODIFIED:20230501T143820Z
UID:10007708-1683190800-1683196200@murphydeals.com
SUMMARY:Quinn Dahle at the L.A. Comedy Club at the Edgewater Resort in Laughlin
DESCRIPTION:MAY 3\, 2023 – MAY 7\, 2023\nL.A. COMEDY CLUB\nwith Special Guest Comedians \nShow starts at 9pm
URL:https://murphydeals.com/event/quinn-dahle-at-the-l-a-comedy-club-at-the-edgewater-resort-in-laughlin/2023-05-04/
LOCATION:Edgewater Resort\, 2020 S Casino Dr\, Laughlin\, NV\, 89029\, United States
CATEGORIES:Comedy | Comedian,Event
ATTACH;FMTTYPE=image/jpeg:https://murphydeals.com/wp-content/uploads/2023/04/quinn-dahle-e1682951761398.jpg
END:VEVENT
BEGIN:VEVENT
DTSTART;TZID=America/Phoenix:20230503T090000
DTEND;TZID=America/Phoenix:20230503T103000
DTSTAMP:20260425T150737
CREATED:20230501T143820Z
LAST-MODIFIED:20230501T143820Z
UID:10007707-1683104400-1683109800@murphydeals.com
SUMMARY:Quinn Dahle at the L.A. Comedy Club at the Edgewater Resort in Laughlin
DESCRIPTION:MAY 3\, 2023 – MAY 7\, 2023\nL.A. COMEDY CLUB\nwith Special Guest Comedians \nShow starts at 9pm
URL:https://murphydeals.com/event/quinn-dahle-at-the-l-a-comedy-club-at-the-edgewater-resort-in-laughlin/2023-05-03/
LOCATION:Edgewater Resort\, 2020 S Casino Dr\, Laughlin\, NV\, 89029\, United States
CATEGORIES:Comedy | Comedian,Event
ATTACH;FMTTYPE=image/jpeg:https://murphydeals.com/wp-content/uploads/2023/04/quinn-dahle-e1682951761398.jpg
END:VEVENT
END:VCALENDAR