BEGIN:VCALENDAR
VERSION:2.0
PRODID:-//Murphy Deals - ECPv6.15.20//NONSGML v1.0//EN
CALSCALE:GREGORIAN
METHOD:PUBLISH
X-ORIGINAL-URL:https://murphydeals.com
X-WR-CALDESC:Events for Murphy Deals
REFRESH-INTERVAL;VALUE=DURATION:PT1H
X-Robots-Tag:noindex
X-PUBLISHED-TTL:PT1H
BEGIN:VTIMEZONE
TZID:America/Phoenix
BEGIN:STANDARD
TZOFFSETFROM:-0700
TZOFFSETTO:-0700
TZNAME:MST
DTSTART:20220101T000000
END:STANDARD
END:VTIMEZONE
BEGIN:VEVENT
DTSTART;TZID=America/Phoenix:20230513T100000
DTEND;TZID=America/Phoenix:20230513T180000
DTSTAMP:20260425T190042
CREATED:20230427T212421Z
LAST-MODIFIED:20230508T204348Z
UID:10007706-1683972000-1684000800@murphydeals.com
SUMMARY:Rainbow Pride Family Day Celebration!
DESCRIPTION:
URL:https://murphydeals.com/event/rainbow-pride-family-day-celebration/
CATEGORIES:Charity | Benefits,Event
ATTACH;FMTTYPE=image/jpeg:https://murphydeals.com/wp-content/uploads/2023/04/Rainbow-Pride-1-e1683578622529.jpg
END:VEVENT
END:VCALENDAR