BEGIN:VCALENDAR
VERSION:2.0
PRODID:-//Murphy Deals - ECPv6.15.20//NONSGML v1.0//EN
CALSCALE:GREGORIAN
METHOD:PUBLISH
X-WR-CALNAME:Murphy Deals
X-ORIGINAL-URL:https://murphydeals.com
X-WR-CALDESC:Events for Murphy Deals
REFRESH-INTERVAL;VALUE=DURATION:PT1H
X-Robots-Tag:noindex
X-PUBLISHED-TTL:PT1H
BEGIN:VTIMEZONE
TZID:America/Phoenix
BEGIN:STANDARD
TZOFFSETFROM:-0700
TZOFFSETTO:-0700
TZNAME:MST
DTSTART:20220101T000000
END:STANDARD
END:VTIMEZONE
BEGIN:VEVENT
DTSTART;TZID=America/Phoenix:20230429T200000
DTEND;TZID=America/Phoenix:20230429T230000
DTSTAMP:20260425T170632
CREATED:20230327T205614Z
LAST-MODIFIED:20230327T205614Z
UID:10007402-1682798400-1682809200@murphydeals.com
SUMMARY:Rebel Heart at the Flying X Saloon
DESCRIPTION:Rebel Heart is a 5 piece Female Fronted High Energy Cover/ Original Band from the Gulf Coast of Florida. Rebel Heart’s show is a diverse mix of upbeat Pop\, Rock\, Country\, and Dance music that ranges from the 70’s through Today’s hits. \n 
URL:https://murphydeals.com/event/rebel-heart-at-the-flying-x-saloon/2023-04-29/
LOCATION:Flying X Saloon\, 2030 McCulloch Blvd N\, Lake Havasu City\, AZ\, 86403
CATEGORIES:Music | Concerts
ATTACH;FMTTYPE=image/jpeg:https://murphydeals.com/wp-content/uploads/2023/03/rebelheart-e1679950504502.jpeg
END:VEVENT
BEGIN:VEVENT
DTSTART;TZID=America/Phoenix:20230428T200000
DTEND;TZID=America/Phoenix:20230428T230000
DTSTAMP:20260425T170632
CREATED:20230327T205614Z
LAST-MODIFIED:20230327T205614Z
UID:10007401-1682712000-1682722800@murphydeals.com
SUMMARY:Rebel Heart at the Flying X Saloon
DESCRIPTION:Rebel Heart is a 5 piece Female Fronted High Energy Cover/ Original Band from the Gulf Coast of Florida. Rebel Heart’s show is a diverse mix of upbeat Pop\, Rock\, Country\, and Dance music that ranges from the 70’s through Today’s hits. \n 
URL:https://murphydeals.com/event/rebel-heart-at-the-flying-x-saloon/2023-04-28/
LOCATION:Flying X Saloon\, 2030 McCulloch Blvd N\, Lake Havasu City\, AZ\, 86403
CATEGORIES:Music | Concerts
ATTACH;FMTTYPE=image/jpeg:https://murphydeals.com/wp-content/uploads/2023/03/rebelheart-e1679950504502.jpeg
END:VEVENT
END:VCALENDAR