BEGIN:VCALENDAR
VERSION:2.0
PRODID:-//Murphy Deals - ECPv6.15.20//NONSGML v1.0//EN
CALSCALE:GREGORIAN
METHOD:PUBLISH
X-WR-CALNAME:Murphy Deals
X-ORIGINAL-URL:https://murphydeals.com
X-WR-CALDESC:Events for Murphy Deals
REFRESH-INTERVAL;VALUE=DURATION:PT1H
X-Robots-Tag:noindex
X-PUBLISHED-TTL:PT1H
BEGIN:VTIMEZONE
TZID:America/Phoenix
BEGIN:STANDARD
TZOFFSETFROM:-0700
TZOFFSETTO:-0700
TZNAME:MST
DTSTART:20220101T000000
END:STANDARD
END:VTIMEZONE
BEGIN:VEVENT
DTSTART;TZID=America/Phoenix:20230624T190000
DTEND;TZID=America/Phoenix:20230624T220000
DTSTAMP:20260425T203038
CREATED:20230320T162747Z
LAST-MODIFIED:20230526T193324Z
UID:10007308-1687633200-1687644000@murphydeals.com
SUMMARY:Rick Springfield at THE EDGE PAVILION
DESCRIPTION:Tickets from $40 \nWith 25 million albums sold and 17 U.S. Top 40 hits\, Rick Springfield is a GRAMMY Award-winning singer\, songwriter and musician who delivers unforgettable\, electrifying performances. Recognized globally for his pop and rock style\, Springfield will perform back-to-back hits including No. 1 Billboard Hot 100 smash hit\, “Jessie’s Girl\,” and other classics such as “Don’t Talk to Strangers\,” “Love Somebody\, “State of the Heart” and more. \n  \nBUT TICKETS 
URL:https://murphydeals.com/event/rick-springfield-at-the-edge-pavilion/
LOCATION:Edge Pavilion\, 2020 S Casino Drive\, Laughlin\, 89029\, 89029
CATEGORIES:Music | Concerts
ATTACH;FMTTYPE=image/jpeg:https://murphydeals.com/wp-content/uploads/2023/03/RickSpringfield-374x345-1-e1685129579927.jpg
END:VEVENT
END:VCALENDAR