BEGIN:VCALENDAR
VERSION:2.0
PRODID:-//Murphy Deals - ECPv6.15.20//NONSGML v1.0//EN
CALSCALE:GREGORIAN
METHOD:PUBLISH
X-WR-CALNAME:Murphy Deals
X-ORIGINAL-URL:https://murphydeals.com
X-WR-CALDESC:Events for Murphy Deals
REFRESH-INTERVAL;VALUE=DURATION:PT1H
X-Robots-Tag:noindex
X-PUBLISHED-TTL:PT1H
BEGIN:VTIMEZONE
TZID:America/Phoenix
BEGIN:STANDARD
TZOFFSETFROM:-0700
TZOFFSETTO:-0700
TZNAME:MST
DTSTART:20220101T000000
END:STANDARD
END:VTIMEZONE
BEGIN:VEVENT
DTSTART;TZID=America/Phoenix:20240218T120000
DTEND;TZID=America/Phoenix:20240218T190000
DTSTAMP:20260425T171439
CREATED:20221010T215711Z
LAST-MODIFIED:20230724T214718Z
UID:10008261-1708257600-1708282800@murphydeals.com
SUMMARY:Rockabilly Reunion 2024 at Lake Havasu State Park
DESCRIPTION:It’s all about cool cats and chicks\, retro-fashion\, rock-n-roll oldies music\, rat-rods!\nGET TICKETS\nTake a three-day stroll down nostalgia lane with 150 vendors of all types\, food\, beer garden\, and the ever popular Pin-Up Girl contest. \nTHE LARGEST & THE BEST ROCKABILLY MUSIC FESTIVAL & CAR SHOW IN THE STATE OF ARIZONA \nThe Best 3 Day Event Around to Entertain All Ages \n\n600 plus Vehicles on display\nBest Food Court Ever with over 10-12 different menus\n150 plus vendors in the Vendor Village – ” SHOP TILL YOU DROP “\nLargest Pin Up Beauty Pageant West of the Mississippi\n19 Bands From all cross the country and Europe performing in 3 days – see band page for line ups and info\nHarley Davidson Motorcycle Stunt Show\nBeauty Salon / Barber Shop\nDry Camping – Motorhome & Trailers only – Sorry No Tenting\nSponsor Displays\nFull Bar with Special Rockabilly Drinks\n$4 Dollar Beers\nMimosa Bar\nSpecialty Drinks\nRockabilly Reunion Jell-O Shots\nVIP ALL ACCESS COUNTRY CLUB LOUNGE\nEvent Merchandise\nEvent Stage Giveaways\n\nLake Havasu State Park\n699 London Bridge Road\nWindsor 4 Beach Main Entrance Next To Hampton Inn\nLake Havasu City\, AZ 86403
URL:https://murphydeals.com/event/15th-annual-rockabilly-reunion-at-lake-havasu-state-park/2024-02-18/
LOCATION:Lake Havasu State Park – Windsor 4\, 699 London Bridge Road\, Lake Havasu City\, AZ\, 86403\, United States
CATEGORIES:Car Show,Event,Festival,Music | Concerts
ATTACH;FMTTYPE=image/webp:https://murphydeals.com/wp-content/uploads/2022/10/Rockabilly-e1690235098960.webp
END:VEVENT
BEGIN:VEVENT
DTSTART;TZID=America/Phoenix:20240217T120000
DTEND;TZID=America/Phoenix:20240217T190000
DTSTAMP:20260425T171439
CREATED:20221010T215711Z
LAST-MODIFIED:20230724T214718Z
UID:10008260-1708171200-1708196400@murphydeals.com
SUMMARY:Rockabilly Reunion 2024 at Lake Havasu State Park
DESCRIPTION:It’s all about cool cats and chicks\, retro-fashion\, rock-n-roll oldies music\, rat-rods!\nGET TICKETS\nTake a three-day stroll down nostalgia lane with 150 vendors of all types\, food\, beer garden\, and the ever popular Pin-Up Girl contest. \nTHE LARGEST & THE BEST ROCKABILLY MUSIC FESTIVAL & CAR SHOW IN THE STATE OF ARIZONA \nThe Best 3 Day Event Around to Entertain All Ages \n\n600 plus Vehicles on display\nBest Food Court Ever with over 10-12 different menus\n150 plus vendors in the Vendor Village – ” SHOP TILL YOU DROP “\nLargest Pin Up Beauty Pageant West of the Mississippi\n19 Bands From all cross the country and Europe performing in 3 days – see band page for line ups and info\nHarley Davidson Motorcycle Stunt Show\nBeauty Salon / Barber Shop\nDry Camping – Motorhome & Trailers only – Sorry No Tenting\nSponsor Displays\nFull Bar with Special Rockabilly Drinks\n$4 Dollar Beers\nMimosa Bar\nSpecialty Drinks\nRockabilly Reunion Jell-O Shots\nVIP ALL ACCESS COUNTRY CLUB LOUNGE\nEvent Merchandise\nEvent Stage Giveaways\n\nLake Havasu State Park\n699 London Bridge Road\nWindsor 4 Beach Main Entrance Next To Hampton Inn\nLake Havasu City\, AZ 86403
URL:https://murphydeals.com/event/15th-annual-rockabilly-reunion-at-lake-havasu-state-park/2024-02-17/
LOCATION:Lake Havasu State Park – Windsor 4\, 699 London Bridge Road\, Lake Havasu City\, AZ\, 86403\, United States
CATEGORIES:Car Show,Event,Festival,Music | Concerts
ATTACH;FMTTYPE=image/webp:https://murphydeals.com/wp-content/uploads/2022/10/Rockabilly-e1690235098960.webp
END:VEVENT
BEGIN:VEVENT
DTSTART;TZID=America/Phoenix:20240216T120000
DTEND;TZID=America/Phoenix:20240216T190000
DTSTAMP:20260425T171439
CREATED:20221010T215711Z
LAST-MODIFIED:20230724T214718Z
UID:10008259-1708084800-1708110000@murphydeals.com
SUMMARY:Rockabilly Reunion 2024 at Lake Havasu State Park
DESCRIPTION:It’s all about cool cats and chicks\, retro-fashion\, rock-n-roll oldies music\, rat-rods!\nGET TICKETS\nTake a three-day stroll down nostalgia lane with 150 vendors of all types\, food\, beer garden\, and the ever popular Pin-Up Girl contest. \nTHE LARGEST & THE BEST ROCKABILLY MUSIC FESTIVAL & CAR SHOW IN THE STATE OF ARIZONA \nThe Best 3 Day Event Around to Entertain All Ages \n\n600 plus Vehicles on display\nBest Food Court Ever with over 10-12 different menus\n150 plus vendors in the Vendor Village – ” SHOP TILL YOU DROP “\nLargest Pin Up Beauty Pageant West of the Mississippi\n19 Bands From all cross the country and Europe performing in 3 days – see band page for line ups and info\nHarley Davidson Motorcycle Stunt Show\nBeauty Salon / Barber Shop\nDry Camping – Motorhome & Trailers only – Sorry No Tenting\nSponsor Displays\nFull Bar with Special Rockabilly Drinks\n$4 Dollar Beers\nMimosa Bar\nSpecialty Drinks\nRockabilly Reunion Jell-O Shots\nVIP ALL ACCESS COUNTRY CLUB LOUNGE\nEvent Merchandise\nEvent Stage Giveaways\n\nLake Havasu State Park\n699 London Bridge Road\nWindsor 4 Beach Main Entrance Next To Hampton Inn\nLake Havasu City\, AZ 86403
URL:https://murphydeals.com/event/15th-annual-rockabilly-reunion-at-lake-havasu-state-park/2024-02-16/
LOCATION:Lake Havasu State Park – Windsor 4\, 699 London Bridge Road\, Lake Havasu City\, AZ\, 86403\, United States
CATEGORIES:Car Show,Event,Festival,Music | Concerts
ATTACH;FMTTYPE=image/webp:https://murphydeals.com/wp-content/uploads/2022/10/Rockabilly-e1690235098960.webp
END:VEVENT
BEGIN:VEVENT
DTSTART;TZID=America/Phoenix:20230405T183000
DTEND;TZID=America/Phoenix:20230405T213000
DTSTAMP:20260425T171439
CREATED:20230327T182938Z
LAST-MODIFIED:20230327T183214Z
UID:10007382-1680719400-1680730200@murphydeals.com
SUMMARY:Top Shelf at the Flying X Saloon in Lake Havasu
DESCRIPTION:The band plays a wide variety of rock\, classic rock and a few classic country songs. The focus is on the audience being able to dance to the songs. We have fun and keep the audience entertained. The band is entirely self-sufficient\, having our own sound system\, lights\, etc. \nRich Navarette\, guitarist and vocalist\, was born in California\, and moved to Lake Havasu City\, AZ in 1999. By age sixteen Rich was performing with various groups at clubs\, weddings and private parties. Rich sings lead on numerous selections and plays lead and rhythm guitar\, and also serves as leader of the group. \nAndrew Clair\, keyboardist and vocalist\, is a native of Iowa\, and has a degree in music from Iowa State University. In addition to playing keyboard in the Top Shelf Band\, he also teaches music in the Parker Unified School District. Andrew sings lead in several of the band’s selection. \nJohn Livengood; drummer and vocalist\, was born in Chicago and has fifty years experience as a professional musician. He played in his first professional band at age sixteen\, and has played in several prominent Chicago-area bands\, touring extensively throughout the USA and Canada. He then relocated to Las Vegas\, where he continued his career as a professional musician. John\, a graduate of Southern Utah University\, has a degree in English and History and currently resides in Lake Havasu City\, AZ. \nRic Zakoor\, bass\, is a also seasoned professional musician with decades of experience playing bass and guitar. Originally from California\, Ric has played across much of the USA. He recently relocated from the Phoenix area and now lives in Lake Havasu City.
URL:https://murphydeals.com/event/top-shelf-at-the-flying-x-saloon-in-lake-havasu/
LOCATION:Flying X Saloon\, 2030 McCulloch Blvd N\, Lake Havasu City\, AZ\, 86403
CATEGORIES:Music | Concerts
ATTACH;FMTTYPE=image/jpeg:https://murphydeals.com/wp-content/uploads/2023/03/topshelf1-e1679941924516.jpg
END:VEVENT
BEGIN:VEVENT
DTSTART;TZID=America/Phoenix:20230218T180000
DTEND;TZID=America/Phoenix:20230218T210000
DTSTAMP:20260425T171439
CREATED:20230213T224759Z
LAST-MODIFIED:20230213T224759Z
UID:10007181-1676743200-1676754000@murphydeals.com
SUMMARY:Lonesome Dick at the Flying X Saloon
DESCRIPTION:The band’s popularity has been growing in the area as more people latch onto their musical stylings of rockabilly\, surf\, vintage country blues and swing\, intermingled with some original tunes. \nThe band has been playing Arizona\, California and Nevada venues since 2001\, including the Sundowner Saloon\, Diana’s Cellar Door and Black Bridge Brewery in Kingman\, Lazy Harry’s in Bullhead City and Viva Las Vegas. \nThe band features Garland on guitar and vocals\, Rogelio (Roger) Casanova on upright bass and vocals\, and Ramon Torres on drums and vocals.
URL:https://murphydeals.com/event/lonesome-dick-at-the-flying-x-saloon/
LOCATION:Flying X Saloon\, 2030 McCulloch Blvd N\, Lake Havasu City\, AZ\, 86403
CATEGORIES:Music | Concerts
ATTACH;FMTTYPE=image/jpeg:https://murphydeals.com/wp-content/uploads/2023/02/Lonesome_Dick_t715_t715-e1676328224857.jpg
END:VEVENT
BEGIN:VEVENT
DTSTART;TZID=America/Phoenix:20230218T150000
DTEND;TZID=America/Phoenix:20230218T150000
DTSTAMP:20260425T171439
CREATED:20230124T210046Z
LAST-MODIFIED:20230124T210046Z
UID:10007130-1676732400-1676732400@murphydeals.com
SUMMARY:Big Sandy & His Fly-Rite Boys at Lake Havasu Rockabilly Reunion
DESCRIPTION:Since 1988\, Big Sandy and the Fly-Rite Boys have been bringing their brand of swinging rhythm & roots music to audiences around the world\, with appearances on The Grand Ole Opry\, Late Night with Conan O’Brien\, and countless European festivals. Members of the Rockabilly Hall of Fame\, these two time Ameripolitan Award winners are moving forward into the new decade with a highly acclaimed new release – “Big Sandy and his Fly-Rite Boys Sing & Play The Songs of Freddy Fender”. \nBUY TICKETS
URL:https://murphydeals.com/event/big-sandy-his-fly-rite-boys-at-lake-havasu-rockabilly-reunion/
LOCATION:Lake Havasu State Park\, 699 London Bridge Rd\, Lake Havasu City\, Arizona\, 86403
CATEGORIES:Event,Music | Concerts
ATTACH;FMTTYPE=image/jpeg:https://murphydeals.com/wp-content/uploads/2023/01/bigsandy-1-e1674593957243.jpg
END:VEVENT
BEGIN:VEVENT
DTSTART;TZID=America/Phoenix:20230202T190000
DTEND;TZID=America/Phoenix:20230202T233000
DTSTAMP:20260425T171439
CREATED:20230124T235626Z
LAST-MODIFIED:20230130T225646Z
UID:10007136-1675364400-1675380600@murphydeals.com
SUMMARY:Reverend Horton Heat in Flagstaff
DESCRIPTION:Tickets starting at $25 \nThe Reverend Horton Heat is the stage name of American musician James C. Heath (born 1959) as well as the name of his Dallas\, Texas-based psychobilly trio. Heath is a singer\, songwriter and guitarist. A Prick magazine reviewer called Heath the “godfather of modern rockabilly and psychobilly”. \nThe group formed in 1986\, playing its first gigs in Dallas’ Deep Ellum neighborhood. The core members are Jim “Reverend Horton” Heath on guitars and lead vocals\, and Jimbo Wallace on the upright bass. The band signed to Victory Records in 2012\, and released its 12th studio album\, Whole New Life\, on November 30\, 2018. \nThe band plays rock and roll with influences from 1950s country\, surf\, punk\, big band\, swing\, and rockabilly standards. \nBUY TICKETS
URL:https://murphydeals.com/event/reverend-horton-heat-in-flagstaff/
LOCATION:Yucca North\, 15 N WC Riles St\, Flagstaff\, AZ\, 86001\, United States
CATEGORIES:Event,Music | Concerts
ATTACH;FMTTYPE=image/jpeg:https://murphydeals.com/wp-content/uploads/2023/01/horton-1-e1674604525748.jpg
END:VEVENT
END:VCALENDAR