BEGIN:VCALENDAR
VERSION:2.0
PRODID:-//Murphy Deals - ECPv6.15.20//NONSGML v1.0//EN
CALSCALE:GREGORIAN
METHOD:PUBLISH
X-WR-CALNAME:Murphy Deals
X-ORIGINAL-URL:https://murphydeals.com
X-WR-CALDESC:Events for Murphy Deals
REFRESH-INTERVAL;VALUE=DURATION:PT1H
X-Robots-Tag:noindex
X-PUBLISHED-TTL:PT1H
BEGIN:VTIMEZONE
TZID:America/Phoenix
BEGIN:STANDARD
TZOFFSETFROM:-0700
TZOFFSETTO:-0700
TZNAME:MST
DTSTART:20220101T000000
END:STANDARD
END:VTIMEZONE
BEGIN:VEVENT
DTSTART;TZID=America/Phoenix:20230629T163000
DTEND;TZID=America/Phoenix:20230629T190000
DTSTAMP:20260425T154259
CREATED:20230626T224826Z
LAST-MODIFIED:20230626T224826Z
UID:10008316-1688056200-1688065200@murphydeals.com
SUMMARY:Havasis TapTV Trivia Night at Romano's
DESCRIPTION:HAVASIS TAPTV TRIVIA NIGHT \nJoin in the fun! Grab your friends & phone and help us take Romano’s to #1
URL:https://murphydeals.com/event/havasis-taptv-trivia-night-at-romanos/
LOCATION:Romano’s\, 1519 Queens Bay\, Lake Havasu City\, AZ\, 86403\, United States
CATEGORIES:Event
ATTACH;FMTTYPE=image/jpeg:https://murphydeals.com/wp-content/uploads/2023/06/8e1b5f1c84e04f158004dc06f21bbd9db3a3e535dafd28076b9d156819a3aef9-rimg-w960-h541-gmir-e1687819677435.jpg
END:VEVENT
END:VCALENDAR