BEGIN:VCALENDAR
VERSION:2.0
PRODID:-//Murphy Deals - ECPv6.15.20//NONSGML v1.0//EN
CALSCALE:GREGORIAN
METHOD:PUBLISH
X-WR-CALNAME:Murphy Deals
X-ORIGINAL-URL:https://murphydeals.com
X-WR-CALDESC:Events for Murphy Deals
REFRESH-INTERVAL;VALUE=DURATION:PT1H
X-Robots-Tag:noindex
X-PUBLISHED-TTL:PT1H
BEGIN:VTIMEZONE
TZID:America/Phoenix
BEGIN:STANDARD
TZOFFSETFROM:-0700
TZOFFSETTO:-0700
TZNAME:MST
DTSTART:20220101T000000
END:STANDARD
END:VTIMEZONE
BEGIN:VEVENT
DTSTART;TZID=America/Phoenix:20230304T170000
DTEND;TZID=America/Phoenix:20230304T200000
DTSTAMP:20260425T174830
CREATED:20230130T203033Z
LAST-MODIFIED:20230224T200619Z
UID:10007145-1677949200-1677960000@murphydeals.com
SUMMARY:Ron Howard and the Invisibles at Rickety Cricket
DESCRIPTION:
URL:https://murphydeals.com/event/ron-howard-pza-food-truck-at-rickety-cricket/2023-03-04/
LOCATION:Rickety Cricket\, 2068 McCulloch Blvd N Suite A\, Lake Havasu\, AZ\, 86403
CATEGORIES:Event
ATTACH;FMTTYPE=image/jpeg:https://murphydeals.com/wp-content/uploads/2023/01/Rickety-Cricket-e1675177658324.jpg
END:VEVENT
BEGIN:VEVENT
DTSTART;TZID=America/Phoenix:20230325T170000
DTEND;TZID=America/Phoenix:20230325T200000
DTSTAMP:20260425T174830
CREATED:20230130T203033Z
LAST-MODIFIED:20230224T200619Z
UID:10007272-1679763600-1679774400@murphydeals.com
SUMMARY:Ron Howard and the Invisibles at Rickety Cricket
DESCRIPTION:
URL:https://murphydeals.com/event/ron-howard-pza-food-truck-at-rickety-cricket/2023-03-25/
LOCATION:Rickety Cricket\, 2068 McCulloch Blvd N Suite A\, Lake Havasu\, AZ\, 86403
CATEGORIES:Event
ATTACH;FMTTYPE=image/jpeg:https://murphydeals.com/wp-content/uploads/2023/01/Rickety-Cricket-e1675177658324.jpg
END:VEVENT
END:VCALENDAR