BEGIN:VCALENDAR
VERSION:2.0
PRODID:-//Murphy Deals - ECPv6.15.20//NONSGML v1.0//EN
CALSCALE:GREGORIAN
METHOD:PUBLISH
X-ORIGINAL-URL:https://murphydeals.com
X-WR-CALDESC:Events for Murphy Deals
REFRESH-INTERVAL;VALUE=DURATION:PT1H
X-Robots-Tag:noindex
X-PUBLISHED-TTL:PT1H
BEGIN:VTIMEZONE
TZID:America/Phoenix
BEGIN:STANDARD
TZOFFSETFROM:-0700
TZOFFSETTO:-0700
TZNAME:MST
DTSTART:20210101T000000
END:STANDARD
END:VTIMEZONE
BEGIN:VEVENT
DTSTART;TZID=America/Phoenix:20240120T084500
DTEND;TZID=America/Phoenix:20240120T130000
DTSTAMP:20260425T201946
CREATED:20221028T223324Z
LAST-MODIFIED:20231204T233752Z
UID:10006524-1705740300-1705755600@murphydeals.com
SUMMARY:Balloon Festival 5K/10K Fun Run/Walk
DESCRIPTION:
URL:https://murphydeals.com/event/balloon-festival-5k-10k-fun-run-walk/
LOCATION:Lake Havasu State Park – Windsor 4\, 699 London Bridge Road\, Lake Havasu City\, AZ\, 86403\, United States
CATEGORIES:Event,Sports | Activities
ATTACH;FMTTYPE=image/jpeg:https://murphydeals.com/wp-content/uploads/2022/10/11.4.23.Flyer-Balloon-Festival-510K-Fun-Run-1_page-0001-1-1-e1701730760171.jpg
END:VEVENT
BEGIN:VEVENT
DTSTART;TZID=America/Phoenix:20230415T060000
DTEND;TZID=America/Phoenix:20230415T103000
DTSTAMP:20260425T201946
CREATED:20230110T180738Z
LAST-MODIFIED:20230110T182238Z
UID:10006910-1681538400-1681554600@murphydeals.com
SUMMARY:Havasu Half Marathon & 5K
DESCRIPTION:Havasu Half Marathon & 5K is happening on Saturday\, April 15\, 2023 at 06:00AM MST at London Bridge Beach with tickets starting at $85.00 \n\nThank you for joining our 3rd Annual event. The Half Marathon will start on April 15th\, 2023 at 6:00am\, the 5K will start at 9:00am. \nIf you would like to do both\, sign up for the Lighthouse Challenge and you will receive a bonus medal in addition to the 5K and Half Marathon medals. If you can’t make it in person\, please join us for the virtual event. \nThe Doggie Dash will be the night before on April 14th at 6:30pm \nMore event information at www.runhavasu.com \n 
URL:https://murphydeals.com/event/havasu-half-marathon-5k/2023-04-15/
LOCATION:London Bridge Beach\, 1340 McCulloch Boulevard North\, Lake Havasu City\, AZ\, 86403\, United States
CATEGORIES:Event
ATTACH;FMTTYPE=image/jpeg:https://murphydeals.com/wp-content/uploads/2023/01/halfrun-e1673374943525.jpg
END:VEVENT
BEGIN:VEVENT
DTSTART;TZID=America/Phoenix:20230414T183000
DTEND;TZID=America/Phoenix:20230414T191500
DTSTAMP:20260425T201946
CREATED:20230110T180738Z
LAST-MODIFIED:20230110T182238Z
UID:10006909-1681497000-1681499700@murphydeals.com
SUMMARY:Havasu Half Marathon & 5K
DESCRIPTION:Havasu Half Marathon & 5K is happening on Saturday\, April 15\, 2023 at 06:00AM MST at London Bridge Beach with tickets starting at $85.00 \n\nThank you for joining our 3rd Annual event. The Half Marathon will start on April 15th\, 2023 at 6:00am\, the 5K will start at 9:00am. \nIf you would like to do both\, sign up for the Lighthouse Challenge and you will receive a bonus medal in addition to the 5K and Half Marathon medals. If you can’t make it in person\, please join us for the virtual event. \nThe Doggie Dash will be the night before on April 14th at 6:30pm \nMore event information at www.runhavasu.com \n 
URL:https://murphydeals.com/event/havasu-half-marathon-5k/2023-04-14/
LOCATION:London Bridge Beach\, 1340 McCulloch Boulevard North\, Lake Havasu City\, AZ\, 86403\, United States
CATEGORIES:Event
ATTACH;FMTTYPE=image/jpeg:https://murphydeals.com/wp-content/uploads/2023/01/halfrun-e1673374943525.jpg
END:VEVENT
BEGIN:VEVENT
DTSTART;TZID=America/Phoenix:20221210T080000
DTEND;TZID=America/Phoenix:20221210T100000
DTSTAMP:20260425T201946
CREATED:20221122T202147Z
LAST-MODIFIED:20221130T203633Z
UID:10006628-1670659200-1670666400@murphydeals.com
SUMMARY:Jingle Bell Walk & Fun Run 5k in Lake Havasu
DESCRIPTION:
URL:https://murphydeals.com/event/jingle-bell-walk-fun-run-5k-in-lake-havasu/
LOCATION:Island Ball Fields Venue\, 1150 McCulloch Blvd (on the Island)\, Lake Havasu City\, AZ\, 86403\, United States
CATEGORIES:Event,Sports | Activities
ATTACH;FMTTYPE=image/webp:https://murphydeals.com/wp-content/uploads/2022/11/FunRun-e1669840530736.webp
END:VEVENT
END:VCALENDAR