BEGIN:VCALENDAR
VERSION:2.0
PRODID:-//Murphy Deals - ECPv6.15.20//NONSGML v1.0//EN
CALSCALE:GREGORIAN
METHOD:PUBLISH
X-WR-CALNAME:Murphy Deals
X-ORIGINAL-URL:https://murphydeals.com
X-WR-CALDESC:Events for Murphy Deals
REFRESH-INTERVAL;VALUE=DURATION:PT1H
X-Robots-Tag:noindex
X-PUBLISHED-TTL:PT1H
BEGIN:VTIMEZONE
TZID:America/Phoenix
BEGIN:STANDARD
TZOFFSETFROM:-0700
TZOFFSETTO:-0700
TZNAME:MST
DTSTART:20210101T000000
END:STANDARD
END:VTIMEZONE
BEGIN:VEVENT
DTSTART;TZID=America/Phoenix:20221210T100000
DTEND;TZID=America/Phoenix:20221210T220000
DTSTAMP:20260425T150455
CREATED:20221206T210648Z
LAST-MODIFIED:20221206T210648Z
UID:10006804-1670666400-1670709600@murphydeals.com
SUMMARY:Winter Wonderland in Bullhead
DESCRIPTION:
URL:https://murphydeals.com/event/winter-wonderland-in-bullhead/
LOCATION:Anderson Field House\, 3663 Bullhead Parkway\, Bullhead City\, AZ\, 86442\, United States
CATEGORIES:Event
ATTACH;FMTTYPE=image/jpeg:https://murphydeals.com/wp-content/uploads/2022/12/EventPhotoFull_winter-1-e1670360695522.jpg
END:VEVENT
BEGIN:VEVENT
DTSTART;TZID=America/Phoenix:20221210T130000
DTEND;TZID=America/Phoenix:20221210T150000
DTSTAMP:20260425T150455
CREATED:20221207T232142Z
LAST-MODIFIED:20221208T210437Z
UID:10006811-1670677200-1670684400@murphydeals.com
SUMMARY:Visit with Santa and Toy Drive!
DESCRIPTION:Visionary is located at 2100 McCulloch Blvd
URL:https://murphydeals.com/event/visit-with-santa-and-toy-drive/
LOCATION:AZ
CATEGORIES:Event
ATTACH;FMTTYPE=image/png:https://murphydeals.com/wp-content/uploads/2022/12/Grinchtime-1-e1670454984237.png
END:VEVENT
BEGIN:VEVENT
DTSTART;TZID=America/Phoenix:20221217T083000
DTEND;TZID=America/Phoenix:20221217T103000
DTSTAMP:20260425T150455
CREATED:20221202T234544Z
LAST-MODIFIED:20221202T235338Z
UID:10006784-1671265800-1671273000@murphydeals.com
SUMMARY:Pancakes With Santa
DESCRIPTION:Join Us on December 17th at the Telesis Cafeteria for Pancakes with Santa! \nBreakfast includes pancakes\, toppings and juice\, water or hot chocolate. \nBring in a coupon for $5 per plate or its $6 at the door. \nTelesis Preparatory Academy \n2598 Starlite Ln\, Lake Havasu City\, AZ 86403 \nPh. (928) 855-8661
URL:https://murphydeals.com/event/pancakes-with-santa/
LOCATION:AZ
CATEGORIES:Event
ATTACH;FMTTYPE=image/webp:https://murphydeals.com/wp-content/uploads/2022/12/SantaClause-e1670024725887.webp
END:VEVENT
BEGIN:VEVENT
DTSTART;TZID=America/Phoenix:20221217T133000
DTEND;TZID=America/Phoenix:20221217T153000
DTSTAMP:20260425T150455
CREATED:20221212T185458Z
LAST-MODIFIED:20221212T185458Z
UID:10006815-1671283800-1671291000@murphydeals.com
SUMMARY:Santa Paddle at Rotary Community Park
DESCRIPTION:December 17th\, 2022 @ 1:30pm – 3:30pm\nRotary Community Park\nAdmission Price:  Free\n\n\n\nDress like Mr. and Mrs. Clause and enjoy a paddle from Rotary Park through the Bridgewater Channel to the London Bridge.
URL:https://murphydeals.com/event/santa-paddle-at-rotary-community-park/
LOCATION:Rotary Park of Lake Havasu\, 1400 S Smoketree Avenue\, Lake Havasu City\, Arizona\, 86403
CATEGORIES:Event
ATTACH;FMTTYPE=image/jpeg:https://murphydeals.com/wp-content/uploads/2022/12/santa-e1670871178123.jpg
END:VEVENT
BEGIN:VEVENT
DTSTART;TZID=America/Phoenix:20231202T100000
DTEND;TZID=America/Phoenix:20231203T160000
DTSTAMP:20260425T150455
CREATED:20230619T203304Z
LAST-MODIFIED:20230619T203304Z
UID:10008282-1701511200-1701619200@murphydeals.com
SUMMARY:Jingle & Mingle Holiday Bazaar at Mohave County Fairgrounds
DESCRIPTION:Mark your calendars and take advantage of Mohave County surrounding areas Holiday Bazaar. Kicking off with two days of fun with over 60 vendors selling various crafts and goodies. Bring your family and friends and gear up on some early holiday shopping. \nSpecial guest – Santa
URL:https://murphydeals.com/event/jingle-mingle-holiday-bazaar-at-mohave-county-fairgrounds/
LOCATION:Mohave County Fairgrounds\, 2600 Fairgrounds Blvd\, Kingman\, AZ\, 86401
CATEGORIES:Event
ATTACH;FMTTYPE=image/jpeg:https://murphydeals.com/wp-content/uploads/2023/06/christmas-decoration-hanging-on-wooden-background-2021-08-26-16-19-08-utc-1-e1687206690727.jpg
END:VEVENT
END:VCALENDAR