BEGIN:VCALENDAR
VERSION:2.0
PRODID:-//Murphy Deals - ECPv6.15.20//NONSGML v1.0//EN
CALSCALE:GREGORIAN
METHOD:PUBLISH
X-WR-CALNAME:Murphy Deals
X-ORIGINAL-URL:https://murphydeals.com
X-WR-CALDESC:Events for Murphy Deals
REFRESH-INTERVAL;VALUE=DURATION:PT1H
X-Robots-Tag:noindex
X-PUBLISHED-TTL:PT1H
BEGIN:VTIMEZONE
TZID:America/Phoenix
BEGIN:STANDARD
TZOFFSETFROM:-0700
TZOFFSETTO:-0700
TZNAME:MST
DTSTART:20220101T000000
END:STANDARD
END:VTIMEZONE
BEGIN:VEVENT
DTSTART;TZID=America/Phoenix:20230308T190000
DTEND;TZID=America/Phoenix:20230308T203000
DTSTAMP:20260425T150652
CREATED:20221114T192048Z
LAST-MODIFIED:20221130T231102Z
UID:10006583-1678302000-1678307400@murphydeals.com
SUMMARY:Man In Black at Don Laughlin's in Laughlin
DESCRIPTION:Born and raised in a working-class suburb of St. Louis\, Shawn Barker took a schoolboy love for singing in church with his family and turned it into a career; a one-of-a-kind tribute to Johnny Cash\, one of America’s greatest musical icons. Universally considered the pre-eminent Johnny Cash tribute artist\, Barker has an uncanny resemblance to Cash. His strikingly similar looks\, voice\, and spot-on mannerisms revitalize the true character of Mr. Cash himself and have led Barker to an immensely successful career performing his tribute to the original “Man in Black.” \n\nShow Time 7:00 PM PST\nFloor Seats: $38.00 + $4.36 SVC CHG + Tax\nRiser Seats: $32.00 + $4.36 SVC CHG + Tax\nLocals: Floor Seats $33.00 + $4.36 SVC CHG + Tax\nLocals: Riser Seats $28.00 + $4.36 SVC CHG + Tax\n\nGET TICKETS
URL:https://murphydeals.com/event/man-in-black-at-don-laughlins-riverside-resort-hotel-and-casino-in-laughlin/2023-03-08/
LOCATION:Don Laughlin’s Riverside Resort Hotel and Casino\, 1650 S Casino Drive\, Laughlin\, Nevada\, 89029
CATEGORIES:Event,Music | Concerts
ATTACH;FMTTYPE=image/jpeg:https://murphydeals.com/wp-content/uploads/2022/11/ManinBlack-1-e1669849557175.jpg
END:VEVENT
BEGIN:VEVENT
DTSTART;TZID=America/Phoenix:20230309T190000
DTEND;TZID=America/Phoenix:20230309T203000
DTSTAMP:20260425T150652
CREATED:20221114T192048Z
LAST-MODIFIED:20221130T231102Z
UID:10006584-1678388400-1678393800@murphydeals.com
SUMMARY:Man In Black at Don Laughlin's in Laughlin
DESCRIPTION:Born and raised in a working-class suburb of St. Louis\, Shawn Barker took a schoolboy love for singing in church with his family and turned it into a career; a one-of-a-kind tribute to Johnny Cash\, one of America’s greatest musical icons. Universally considered the pre-eminent Johnny Cash tribute artist\, Barker has an uncanny resemblance to Cash. His strikingly similar looks\, voice\, and spot-on mannerisms revitalize the true character of Mr. Cash himself and have led Barker to an immensely successful career performing his tribute to the original “Man in Black.” \n\nShow Time 7:00 PM PST\nFloor Seats: $38.00 + $4.36 SVC CHG + Tax\nRiser Seats: $32.00 + $4.36 SVC CHG + Tax\nLocals: Floor Seats $33.00 + $4.36 SVC CHG + Tax\nLocals: Riser Seats $28.00 + $4.36 SVC CHG + Tax\n\nGET TICKETS
URL:https://murphydeals.com/event/man-in-black-at-don-laughlins-riverside-resort-hotel-and-casino-in-laughlin/2023-03-09/
LOCATION:Don Laughlin’s Riverside Resort Hotel and Casino\, 1650 S Casino Drive\, Laughlin\, Nevada\, 89029
CATEGORIES:Event,Music | Concerts
ATTACH;FMTTYPE=image/jpeg:https://murphydeals.com/wp-content/uploads/2022/11/ManinBlack-1-e1669849557175.jpg
END:VEVENT
BEGIN:VEVENT
DTSTART;TZID=America/Phoenix:20230310T190000
DTEND;TZID=America/Phoenix:20230310T203000
DTSTAMP:20260425T150652
CREATED:20221114T192048Z
LAST-MODIFIED:20221130T231102Z
UID:10006585-1678474800-1678480200@murphydeals.com
SUMMARY:Man In Black at Don Laughlin's in Laughlin
DESCRIPTION:Born and raised in a working-class suburb of St. Louis\, Shawn Barker took a schoolboy love for singing in church with his family and turned it into a career; a one-of-a-kind tribute to Johnny Cash\, one of America’s greatest musical icons. Universally considered the pre-eminent Johnny Cash tribute artist\, Barker has an uncanny resemblance to Cash. His strikingly similar looks\, voice\, and spot-on mannerisms revitalize the true character of Mr. Cash himself and have led Barker to an immensely successful career performing his tribute to the original “Man in Black.” \n\nShow Time 7:00 PM PST\nFloor Seats: $38.00 + $4.36 SVC CHG + Tax\nRiser Seats: $32.00 + $4.36 SVC CHG + Tax\nLocals: Floor Seats $33.00 + $4.36 SVC CHG + Tax\nLocals: Riser Seats $28.00 + $4.36 SVC CHG + Tax\n\nGET TICKETS
URL:https://murphydeals.com/event/man-in-black-at-don-laughlins-riverside-resort-hotel-and-casino-in-laughlin/2023-03-10/
LOCATION:Don Laughlin’s Riverside Resort Hotel and Casino\, 1650 S Casino Drive\, Laughlin\, Nevada\, 89029
CATEGORIES:Event,Music | Concerts
ATTACH;FMTTYPE=image/jpeg:https://murphydeals.com/wp-content/uploads/2022/11/ManinBlack-1-e1669849557175.jpg
END:VEVENT
BEGIN:VEVENT
DTSTART;TZID=America/Phoenix:20230311T190000
DTEND;TZID=America/Phoenix:20230311T203000
DTSTAMP:20260425T150652
CREATED:20221114T192048Z
LAST-MODIFIED:20221130T231102Z
UID:10006586-1678561200-1678566600@murphydeals.com
SUMMARY:Man In Black at Don Laughlin's in Laughlin
DESCRIPTION:Born and raised in a working-class suburb of St. Louis\, Shawn Barker took a schoolboy love for singing in church with his family and turned it into a career; a one-of-a-kind tribute to Johnny Cash\, one of America’s greatest musical icons. Universally considered the pre-eminent Johnny Cash tribute artist\, Barker has an uncanny resemblance to Cash. His strikingly similar looks\, voice\, and spot-on mannerisms revitalize the true character of Mr. Cash himself and have led Barker to an immensely successful career performing his tribute to the original “Man in Black.” \n\nShow Time 7:00 PM PST\nFloor Seats: $38.00 + $4.36 SVC CHG + Tax\nRiser Seats: $32.00 + $4.36 SVC CHG + Tax\nLocals: Floor Seats $33.00 + $4.36 SVC CHG + Tax\nLocals: Riser Seats $28.00 + $4.36 SVC CHG + Tax\n\nGET TICKETS
URL:https://murphydeals.com/event/man-in-black-at-don-laughlins-riverside-resort-hotel-and-casino-in-laughlin/2023-03-11/
LOCATION:Don Laughlin’s Riverside Resort Hotel and Casino\, 1650 S Casino Drive\, Laughlin\, Nevada\, 89029
CATEGORIES:Event,Music | Concerts
ATTACH;FMTTYPE=image/jpeg:https://murphydeals.com/wp-content/uploads/2022/11/ManinBlack-1-e1669849557175.jpg
END:VEVENT
BEGIN:VEVENT
DTSTART;TZID=America/Phoenix:20230312T190000
DTEND;TZID=America/Phoenix:20230312T203000
DTSTAMP:20260425T150652
CREATED:20221114T192048Z
LAST-MODIFIED:20221130T231102Z
UID:10006587-1678647600-1678653000@murphydeals.com
SUMMARY:Man In Black at Don Laughlin's in Laughlin
DESCRIPTION:Born and raised in a working-class suburb of St. Louis\, Shawn Barker took a schoolboy love for singing in church with his family and turned it into a career; a one-of-a-kind tribute to Johnny Cash\, one of America’s greatest musical icons. Universally considered the pre-eminent Johnny Cash tribute artist\, Barker has an uncanny resemblance to Cash. His strikingly similar looks\, voice\, and spot-on mannerisms revitalize the true character of Mr. Cash himself and have led Barker to an immensely successful career performing his tribute to the original “Man in Black.” \n\nShow Time 7:00 PM PST\nFloor Seats: $38.00 + $4.36 SVC CHG + Tax\nRiser Seats: $32.00 + $4.36 SVC CHG + Tax\nLocals: Floor Seats $33.00 + $4.36 SVC CHG + Tax\nLocals: Riser Seats $28.00 + $4.36 SVC CHG + Tax\n\nGET TICKETS
URL:https://murphydeals.com/event/man-in-black-at-don-laughlins-riverside-resort-hotel-and-casino-in-laughlin/2023-03-12/
LOCATION:Don Laughlin’s Riverside Resort Hotel and Casino\, 1650 S Casino Drive\, Laughlin\, Nevada\, 89029
CATEGORIES:Event,Music | Concerts
ATTACH;FMTTYPE=image/jpeg:https://murphydeals.com/wp-content/uploads/2022/11/ManinBlack-1-e1669849557175.jpg
END:VEVENT
END:VCALENDAR