BEGIN:VCALENDAR
VERSION:2.0
PRODID:-//Murphy Deals - ECPv6.15.20//NONSGML v1.0//EN
CALSCALE:GREGORIAN
METHOD:PUBLISH
X-WR-CALNAME:Murphy Deals
X-ORIGINAL-URL:https://murphydeals.com
X-WR-CALDESC:Events for Murphy Deals
REFRESH-INTERVAL;VALUE=DURATION:PT1H
X-Robots-Tag:noindex
X-PUBLISHED-TTL:PT1H
BEGIN:VTIMEZONE
TZID:America/Phoenix
BEGIN:STANDARD
TZOFFSETFROM:-0700
TZOFFSETTO:-0700
TZNAME:MST
DTSTART:20220101T000000
END:STANDARD
END:VTIMEZONE
BEGIN:VEVENT
DTSTART;TZID=America/Phoenix:20230325T190000
DTEND;TZID=America/Phoenix:20230325T213000
DTSTAMP:20260425T121706
CREATED:20230220T193313Z
LAST-MODIFIED:20230323T223150Z
UID:10007209-1679770800-1679779800@murphydeals.com
SUMMARY:Shine On Floyd: A Tribute to Pink Floyd at Lake Havasu Performing Arts Center
DESCRIPTION:March 25th\, 2023 @ 7:00pm – 9:30pm\nWIN TICKETS\nLake Havasu High School Performing Arts Center\nshineonfloyd.com | Admission Price: $40-$45\nGet ready Pink Floyd lovers … a real Pink Floyd experience is coming to the Lake Havasu Performing Arts Center. \nShine On Floyd is one of the best Pink Floyd tribute bands in the U.S. performing songs from the albums Animals\, The Wall\, and Wish You Were Here\, plus the entire album The Dark Side of the Moon – note-for-note along with a laser light show\, video wall\, backup singers\, and special effects. \nTickets must be purchased at ShineOnFloyd.com. Doors open at 6pm.
URL:https://murphydeals.com/event/shine-on-floyd-a-tribute-to-pink-floyd-lake-havasu-high-school-performing-arts-center/
LOCATION:Lake Havasu Performing Arts Center\, 2675 S. Palo Verde Blvd.\, Lake Havasu City\, AZ\, 86403
CATEGORIES:Event,Music | Concerts
ATTACH;FMTTYPE=image/jpeg:https://murphydeals.com/wp-content/uploads/2023/02/ShineOnFloyd-EventListingGraphic-e1679411881884.jpg
END:VEVENT
END:VCALENDAR