BEGIN:VCALENDAR
VERSION:2.0
PRODID:-//Murphy Deals - ECPv6.15.20//NONSGML v1.0//EN
CALSCALE:GREGORIAN
METHOD:PUBLISH
X-ORIGINAL-URL:https://murphydeals.com
X-WR-CALDESC:Events for Murphy Deals
REFRESH-INTERVAL;VALUE=DURATION:PT1H
X-Robots-Tag:noindex
X-PUBLISHED-TTL:PT1H
BEGIN:VTIMEZONE
TZID:America/Phoenix
BEGIN:STANDARD
TZOFFSETFROM:-0700
TZOFFSETTO:-0700
TZNAME:MST
DTSTART:20220101T000000
END:STANDARD
END:VTIMEZONE
BEGIN:VEVENT
DTSTART;TZID=America/Phoenix:20230528T203000
DTEND;TZID=America/Phoenix:20230528T233000
DTSTAMP:20260425T153352
CREATED:20230501T201250Z
LAST-MODIFIED:20230526T171705Z
UID:10007753-1685305800-1685316600@murphydeals.com
SUMMARY:Shotgun Jefferson at the Flying X Saloon
DESCRIPTION:See Shotgun Jefferson at the Flying X Saloon.
URL:https://murphydeals.com/event/shotgun-jefferson-at-the-flying-x-saloon-in-lake-havasu/2023-05-28/
LOCATION:Flying X Saloon\, 2030 McCulloch Blvd N\, Lake Havasu City\, AZ\, 86403
CATEGORIES:Event,Music | Concerts
ATTACH;FMTTYPE=image/jpeg:https://murphydeals.com/wp-content/uploads/2023/05/ShotgunJefferson-2-e1685120394443.jpg
END:VEVENT
BEGIN:VEVENT
DTSTART;TZID=America/Phoenix:20230527T203000
DTEND;TZID=America/Phoenix:20230527T233000
DTSTAMP:20260425T153352
CREATED:20230501T201250Z
LAST-MODIFIED:20230526T171705Z
UID:10007752-1685219400-1685230200@murphydeals.com
SUMMARY:Shotgun Jefferson at the Flying X Saloon
DESCRIPTION:See Shotgun Jefferson at the Flying X Saloon.
URL:https://murphydeals.com/event/shotgun-jefferson-at-the-flying-x-saloon-in-lake-havasu/2023-05-27/
LOCATION:Flying X Saloon\, 2030 McCulloch Blvd N\, Lake Havasu City\, AZ\, 86403
CATEGORIES:Event,Music | Concerts
ATTACH;FMTTYPE=image/jpeg:https://murphydeals.com/wp-content/uploads/2023/05/ShotgunJefferson-2-e1685120394443.jpg
END:VEVENT
BEGIN:VEVENT
DTSTART;TZID=America/Phoenix:20230526T203000
DTEND;TZID=America/Phoenix:20230526T233000
DTSTAMP:20260425T153352
CREATED:20230501T201250Z
LAST-MODIFIED:20230526T171705Z
UID:10007751-1685133000-1685143800@murphydeals.com
SUMMARY:Shotgun Jefferson at the Flying X Saloon
DESCRIPTION:See Shotgun Jefferson at the Flying X Saloon.
URL:https://murphydeals.com/event/shotgun-jefferson-at-the-flying-x-saloon-in-lake-havasu/2023-05-26/
LOCATION:Flying X Saloon\, 2030 McCulloch Blvd N\, Lake Havasu City\, AZ\, 86403
CATEGORIES:Event,Music | Concerts
ATTACH;FMTTYPE=image/jpeg:https://murphydeals.com/wp-content/uploads/2023/05/ShotgunJefferson-2-e1685120394443.jpg
END:VEVENT
END:VCALENDAR