BEGIN:VCALENDAR
VERSION:2.0
PRODID:-//Murphy Deals - ECPv6.15.20//NONSGML v1.0//EN
CALSCALE:GREGORIAN
METHOD:PUBLISH
X-WR-CALNAME:Murphy Deals
X-ORIGINAL-URL:https://murphydeals.com
X-WR-CALDESC:Events for Murphy Deals
REFRESH-INTERVAL;VALUE=DURATION:PT1H
X-Robots-Tag:noindex
X-PUBLISHED-TTL:PT1H
BEGIN:VTIMEZONE
TZID:America/Phoenix
BEGIN:STANDARD
TZOFFSETFROM:-0700
TZOFFSETTO:-0700
TZNAME:MST
DTSTART:20220101T000000
END:STANDARD
END:VTIMEZONE
BEGIN:VEVENT
DTSTART;TZID=America/Phoenix:20230311T090000
DTEND;TZID=America/Phoenix:20230311T170000
DTSTAMP:20260425T082511
CREATED:20230220T173840Z
LAST-MODIFIED:20230220T174447Z
UID:10007205-1678525200-1678554000@murphydeals.com
SUMMARY:The Smurfs Great Escape Mobile App Experience
DESCRIPTION:March 11th\, 2023 @ 9:00am – 5:00pm\n\ncluedupp.com | Admission Price:See website \n\n\n\n\nSave the Smurfs from the evil wizard Gargamel at this immersive new escape-room-style experience! \nFor one day only\, the streets of Lake Havasu City will turn into a giant\, escape-room-style experience. Although teams are welcome to dress in costume\, CluedUpp will not be placing physical sets\, decorations or actors throughout the city; the experience is following clues on the mobile app. \nSolve puzzles\, complete challenges\, as you race against the clock to save the Smurfs. \nYour team will be given access to a mobile app that will unveil clues that will lead you around the city to save the Smurfs! \nPrice is per team (2-6 adults)\, children younger than 16 play for free\, only one ticket needed per team \nAverage game duration is 2-3 hours \nStart anytime between 9am-5pm \nThere will be a secret start location \nReviews have mentioned having a way to quickly charge phone batteries. \nPrizes (which are not disclosed) are awarded for: \nPrizes are awarded for each of the following categories: \n-Fastest team \nBest Fancy Dress (Smurf inspired) \nBest Team Picture \nBest Team Name \nBest Mini Player (Under 16’s Prize) \nPawesome Pooch (Best Dog Photo)
URL:https://murphydeals.com/event/the-smurfs-great-escape-mobile-app-experience/
CATEGORIES:Event
ATTACH;FMTTYPE=image/jpeg:https://murphydeals.com/wp-content/uploads/2023/02/SMURFS-GREAT-ESCAPE-e1676915074285.jpg
END:VEVENT
END:VCALENDAR