BEGIN:VCALENDAR
VERSION:2.0
PRODID:-//Murphy Deals - ECPv6.15.20//NONSGML v1.0//EN
CALSCALE:GREGORIAN
METHOD:PUBLISH
X-WR-CALNAME:Murphy Deals
X-ORIGINAL-URL:https://murphydeals.com
X-WR-CALDESC:Events for Murphy Deals
REFRESH-INTERVAL;VALUE=DURATION:PT1H
X-Robots-Tag:noindex
X-PUBLISHED-TTL:PT1H
BEGIN:VTIMEZONE
TZID:America/Phoenix
BEGIN:STANDARD
TZOFFSETFROM:-0700
TZOFFSETTO:-0700
TZNAME:MST
DTSTART:20220101T000000
END:STANDARD
END:VTIMEZONE
BEGIN:VEVENT
DTSTART;TZID=America/Phoenix:20230228T193000
DTEND;TZID=America/Phoenix:20230228T213000
DTSTAMP:20260425T174906
CREATED:20221129T210237Z
LAST-MODIFIED:20221130T225642Z
UID:10006667-1677612600-1677619800@murphydeals.com
SUMMARY:Eric Johnson in Concert at Orpheum Theater in Flagstaff
DESCRIPTION:Eric Johnson has been traveling on a prolific odyssey over the course of more than four decades. Along the way\, his creations have encompassed repertoire that cross pollinate genres which include rock\, blues\, jazz\, fusion\, soul\, folk\, new-age\, classical and even country. Inevitably\, E.J. says it best himself in sharing\, “It really boils down to the music and the song at the end of the day\,” he explains. “If it doesn’t have that it gets boring for me. The most important thing for me is to grow musically and make a more expansive and meaningful artistic statement with every new project.” \nDuring the Pandemic\, the Grammy winning guitarist\, vocalist\, composer\, and multi-instrumentalist has been busy releasing weekly\, donation-based\, virtual “Mini-Lessons” benefitting Food Banks across the country and working in the studio on previously un-released tracks and new recordings. The currently untitled new record is scheduled for release later this year. \nThroughout his career\, Johnson has approached music as a healing force\, a way to enhance a listener’s consciousness\, and conjure joy and inspiration. More than a year into the Pandemic\, and because of the Pandemic\, he reflects that this approach has become reinforced and more enhanced. \nThe 2022 Treasure Tour will feature some of the previously un-released gems\, some new songs\, and some older favorites. His band will include Tom Brechtlein on drums\, and Roscoe Beck on bass. \nGET TICKETS
URL:https://murphydeals.com/event/eric-johnson-in-concert-at-orpheum-theater-in-flagstaff/
LOCATION:Orpheum Theater\, 15 W. Aspen Avenue\, Flagstaff\, AZ\, 86001\, United States
CATEGORIES:Event,Music | Concerts
ATTACH;FMTTYPE=image/jpeg:https://murphydeals.com/wp-content/uploads/2022/11/eric-johnson-1-sm-e1669848973825.jpg
END:VEVENT
END:VCALENDAR