BEGIN:VCALENDAR
VERSION:2.0
PRODID:-//Murphy Deals - ECPv6.15.20//NONSGML v1.0//EN
CALSCALE:GREGORIAN
METHOD:PUBLISH
X-WR-CALNAME:Murphy Deals
X-ORIGINAL-URL:https://murphydeals.com
X-WR-CALDESC:Events for Murphy Deals
REFRESH-INTERVAL;VALUE=DURATION:PT1H
X-Robots-Tag:noindex
X-PUBLISHED-TTL:PT1H
BEGIN:VTIMEZONE
TZID:America/Phoenix
BEGIN:STANDARD
TZOFFSETFROM:-0700
TZOFFSETTO:-0700
TZNAME:MST
DTSTART:20220101T000000
END:STANDARD
END:VTIMEZONE
BEGIN:VEVENT
DTSTART;TZID=America/Phoenix:20230224T180000
DTEND;TZID=America/Phoenix:20230224T200000
DTSTAMP:20260425T170921
CREATED:20230220T163040Z
LAST-MODIFIED:20230224T205737Z
UID:10007203-1677261600-1677268800@murphydeals.com
SUMMARY:Lake Havasu Museum of History presents: Through the Eyes of the Youth
DESCRIPTION:Through the Eyes of the Youth: Life in the Będzin Ghetto \nPresented by:\nJanice Klein\, Brian Springeberg\, London Bridge Resort\, Martin-Springer Institute of NAU \nABOUT THE EXHIBIT\nOpening Night: February 24th at 6pm. Members Free | Public by Donation Only \nExhibit at LHMH: Feb 24-April 1st \nFollow eight stories of strength\, pain\, and the search for small joys for young people growing up in Jewish ghetto of Będzin (Poland) before\, during\, and after the Holocaust. \nIn 1939\, Nazi Germany invaded Poland. German forces occupied the Polish city of Będzin\, changing the lives of Jewish people forever. Youth of Będzin struggled with growing up amid violence\, hatred\, and loss\, while still trying to find small joys in life. \nThe exhibit was inspired by Doris Martin\, the founder of the Martin-Springer Institute. She grew up in Bedzin\, and she and her family survived the Holocaust. She lived in AZ. \nThe exhibit has been shown in communities and schools in Arizona and New York. It has been translated into Polish and exhibited in Sosnowiec\, Poland. It has also been shown in the South African Holocaust centers of Johannesburg\, Durban\, and Cape Town. \n__\nOPENING NIGHT\nMeet director of Martin-Springer Institute\, Bjorn Krondorfer\, as he welcomes you to the exhibition in a special opening event. \nDoors Open at 6pm. Open & Welcome to all ages \nMembers are FREE | Public by Donation Only \n 
URL:https://murphydeals.com/event/lake-havasu-museum-of-history-presents-through-the-eyes-of-the-youth-special-exhibit/
LOCATION:Lake Havasu Museum of History\, 320 London Bridge Rd\, Lake Havasu City\, AZ\, 86403\, United States
CATEGORIES:Event
ATTACH;FMTTYPE=image/jpeg:https://murphydeals.com/wp-content/uploads/2023/02/Museum-opening-night-e1676910224712.jpg
END:VEVENT
END:VCALENDAR