BEGIN:VCALENDAR
VERSION:2.0
PRODID:-//Murphy Deals - ECPv6.15.20//NONSGML v1.0//EN
CALSCALE:GREGORIAN
METHOD:PUBLISH
X-WR-CALNAME:Murphy Deals
X-ORIGINAL-URL:https://murphydeals.com
X-WR-CALDESC:Events for Murphy Deals
REFRESH-INTERVAL;VALUE=DURATION:PT1H
X-Robots-Tag:noindex
X-PUBLISHED-TTL:PT1H
BEGIN:VTIMEZONE
TZID:America/Phoenix
BEGIN:STANDARD
TZOFFSETFROM:-0700
TZOFFSETTO:-0700
TZNAME:MST
DTSTART:20220101T000000
END:STANDARD
END:VTIMEZONE
BEGIN:VEVENT
DTSTART;TZID=America/Phoenix:20230625T200000
DTEND;TZID=America/Phoenix:20230625T220000
DTSTAMP:20260425T203333
CREATED:20230324T211404Z
LAST-MODIFIED:20230324T220246Z
UID:10007350-1687723200-1687730400@murphydeals.com
SUMMARY:Spice Wannabe–The Spice Girls Tribute at Don Laughlin’s Riverside Resort
DESCRIPTION:“SPICE WANNABE” is bringing us back to the 90’s with their high energy show\, paying tribute to the bestselling girl group of all time\, The Spice Girls!  \nLive with five part harmonies\, original choreography\, iconic costumes and British accents\, this Girl Power cast delivers a nostalgic experience that is sure to “Spice Up Your Life”!  Creating an electrifying atmosphere\, this production has everyone singing and dancing along to the biggest Spice Girl hits including ‘Wannabe’\, ‘2 Become 1’\, ‘Say You’ll Be There’ \, ‘Spice Up Your Life’\, ‘Too Much’\, and many more! Equipped with professional tribute artists\, musicians and back up dancers who are the best in the business\, “Spice Wannabe” is an experience not to be missed! \n\nShow Time 8:00 PM PST\nFloor Seats: $38.00 + $4.36 SVC CHG + Tax\nRiser Seats: $32.00 + $4.36 SVC CHG + Tax\nLocals: Floor Seats $33.00 + $4.36 SVC CHG + Tax\nLocals: Riser Seats $28.00 + $4.36 SVC CHG + Tax\n\nBUY TICKETS \n  \n 
URL:https://murphydeals.com/event/spice-wannabe-the-spice-girls-tribute-at-don-laughlins-riverside-resort-hotel-casino-in-laughlin/2023-06-25/
LOCATION:Don Laughlin’s Riverside Resort Hotel and Casino\, 1650 S Casino Drive\, Laughlin\, Nevada\, 89029
CATEGORIES:Music | Concerts
ATTACH;FMTTYPE=image/jpeg:https://murphydeals.com/wp-content/uploads/2023/03/Wannabe-e1679692166521.jpg
END:VEVENT
BEGIN:VEVENT
DTSTART;TZID=America/Phoenix:20230624T200000
DTEND;TZID=America/Phoenix:20230624T220000
DTSTAMP:20260425T203333
CREATED:20230324T211404Z
LAST-MODIFIED:20230324T220246Z
UID:10007349-1687636800-1687644000@murphydeals.com
SUMMARY:Spice Wannabe–The Spice Girls Tribute at Don Laughlin’s Riverside Resort
DESCRIPTION:“SPICE WANNABE” is bringing us back to the 90’s with their high energy show\, paying tribute to the bestselling girl group of all time\, The Spice Girls!  \nLive with five part harmonies\, original choreography\, iconic costumes and British accents\, this Girl Power cast delivers a nostalgic experience that is sure to “Spice Up Your Life”!  Creating an electrifying atmosphere\, this production has everyone singing and dancing along to the biggest Spice Girl hits including ‘Wannabe’\, ‘2 Become 1’\, ‘Say You’ll Be There’ \, ‘Spice Up Your Life’\, ‘Too Much’\, and many more! Equipped with professional tribute artists\, musicians and back up dancers who are the best in the business\, “Spice Wannabe” is an experience not to be missed! \n\nShow Time 8:00 PM PST\nFloor Seats: $38.00 + $4.36 SVC CHG + Tax\nRiser Seats: $32.00 + $4.36 SVC CHG + Tax\nLocals: Floor Seats $33.00 + $4.36 SVC CHG + Tax\nLocals: Riser Seats $28.00 + $4.36 SVC CHG + Tax\n\nBUY TICKETS \n  \n 
URL:https://murphydeals.com/event/spice-wannabe-the-spice-girls-tribute-at-don-laughlins-riverside-resort-hotel-casino-in-laughlin/2023-06-24/
LOCATION:Don Laughlin’s Riverside Resort Hotel and Casino\, 1650 S Casino Drive\, Laughlin\, Nevada\, 89029
CATEGORIES:Music | Concerts
ATTACH;FMTTYPE=image/jpeg:https://murphydeals.com/wp-content/uploads/2023/03/Wannabe-e1679692166521.jpg
END:VEVENT
BEGIN:VEVENT
DTSTART;TZID=America/Phoenix:20230623T200000
DTEND;TZID=America/Phoenix:20230623T220000
DTSTAMP:20260425T203333
CREATED:20230324T211404Z
LAST-MODIFIED:20230324T220246Z
UID:10007348-1687550400-1687557600@murphydeals.com
SUMMARY:Spice Wannabe–The Spice Girls Tribute at Don Laughlin’s Riverside Resort
DESCRIPTION:“SPICE WANNABE” is bringing us back to the 90’s with their high energy show\, paying tribute to the bestselling girl group of all time\, The Spice Girls!  \nLive with five part harmonies\, original choreography\, iconic costumes and British accents\, this Girl Power cast delivers a nostalgic experience that is sure to “Spice Up Your Life”!  Creating an electrifying atmosphere\, this production has everyone singing and dancing along to the biggest Spice Girl hits including ‘Wannabe’\, ‘2 Become 1’\, ‘Say You’ll Be There’ \, ‘Spice Up Your Life’\, ‘Too Much’\, and many more! Equipped with professional tribute artists\, musicians and back up dancers who are the best in the business\, “Spice Wannabe” is an experience not to be missed! \n\nShow Time 8:00 PM PST\nFloor Seats: $38.00 + $4.36 SVC CHG + Tax\nRiser Seats: $32.00 + $4.36 SVC CHG + Tax\nLocals: Floor Seats $33.00 + $4.36 SVC CHG + Tax\nLocals: Riser Seats $28.00 + $4.36 SVC CHG + Tax\n\nBUY TICKETS \n  \n 
URL:https://murphydeals.com/event/spice-wannabe-the-spice-girls-tribute-at-don-laughlins-riverside-resort-hotel-casino-in-laughlin/2023-06-23/
LOCATION:Don Laughlin’s Riverside Resort Hotel and Casino\, 1650 S Casino Drive\, Laughlin\, Nevada\, 89029
CATEGORIES:Music | Concerts
ATTACH;FMTTYPE=image/jpeg:https://murphydeals.com/wp-content/uploads/2023/03/Wannabe-e1679692166521.jpg
END:VEVENT
BEGIN:VEVENT
DTSTART;TZID=America/Phoenix:20230622T200000
DTEND;TZID=America/Phoenix:20230622T220000
DTSTAMP:20260425T203333
CREATED:20230324T211404Z
LAST-MODIFIED:20230324T220246Z
UID:10007347-1687464000-1687471200@murphydeals.com
SUMMARY:Spice Wannabe–The Spice Girls Tribute at Don Laughlin’s Riverside Resort
DESCRIPTION:“SPICE WANNABE” is bringing us back to the 90’s with their high energy show\, paying tribute to the bestselling girl group of all time\, The Spice Girls!  \nLive with five part harmonies\, original choreography\, iconic costumes and British accents\, this Girl Power cast delivers a nostalgic experience that is sure to “Spice Up Your Life”!  Creating an electrifying atmosphere\, this production has everyone singing and dancing along to the biggest Spice Girl hits including ‘Wannabe’\, ‘2 Become 1’\, ‘Say You’ll Be There’ \, ‘Spice Up Your Life’\, ‘Too Much’\, and many more! Equipped with professional tribute artists\, musicians and back up dancers who are the best in the business\, “Spice Wannabe” is an experience not to be missed! \n\nShow Time 8:00 PM PST\nFloor Seats: $38.00 + $4.36 SVC CHG + Tax\nRiser Seats: $32.00 + $4.36 SVC CHG + Tax\nLocals: Floor Seats $33.00 + $4.36 SVC CHG + Tax\nLocals: Riser Seats $28.00 + $4.36 SVC CHG + Tax\n\nBUY TICKETS \n  \n 
URL:https://murphydeals.com/event/spice-wannabe-the-spice-girls-tribute-at-don-laughlins-riverside-resort-hotel-casino-in-laughlin/2023-06-22/
LOCATION:Don Laughlin’s Riverside Resort Hotel and Casino\, 1650 S Casino Drive\, Laughlin\, Nevada\, 89029
CATEGORIES:Music | Concerts
ATTACH;FMTTYPE=image/jpeg:https://murphydeals.com/wp-content/uploads/2023/03/Wannabe-e1679692166521.jpg
END:VEVENT
END:VCALENDAR