BEGIN:VCALENDAR
VERSION:2.0
PRODID:-//Murphy Deals - ECPv6.15.20//NONSGML v1.0//EN
CALSCALE:GREGORIAN
METHOD:PUBLISH
X-ORIGINAL-URL:https://murphydeals.com
X-WR-CALDESC:Events for Murphy Deals
REFRESH-INTERVAL;VALUE=DURATION:PT1H
X-Robots-Tag:noindex
X-PUBLISHED-TTL:PT1H
BEGIN:VTIMEZONE
TZID:America/Phoenix
BEGIN:STANDARD
TZOFFSETFROM:-0700
TZOFFSETTO:-0700
TZNAME:MST
DTSTART:20220101T000000
END:STANDARD
END:VTIMEZONE
BEGIN:VEVENT
DTSTART;TZID=America/Phoenix:20230817T193000
DTEND;TZID=America/Phoenix:20230817T223000
DTSTAMP:20260425T203157
CREATED:20230815T225621Z
LAST-MODIFIED:20230816T170154Z
UID:10008351-1692300600-1692311400@murphydeals.com
SUMMARY:Splash Cirkus at Mohave County Fairgrounds in Kingman
DESCRIPTION:CLAIM YOUR FREE TICKETS NOW!
URL:https://murphydeals.com/event/splash-cirkus/2023-08-17/
LOCATION:Mohave County Fairgrounds\, 2600 Fairgrounds Blvd\, Kingman\, AZ\, 86401
CATEGORIES:Event
ATTACH;FMTTYPE=image/jpeg:https://murphydeals.com/wp-content/uploads/2023/08/sPLASH1-e1692137472987.jpg
END:VEVENT
BEGIN:VEVENT
DTSTART;TZID=America/Phoenix:20230818T193000
DTEND;TZID=America/Phoenix:20230818T223000
DTSTAMP:20260425T203157
CREATED:20230815T225621Z
LAST-MODIFIED:20230816T170154Z
UID:10008352-1692387000-1692397800@murphydeals.com
SUMMARY:Splash Cirkus at Mohave County Fairgrounds in Kingman
DESCRIPTION:CLAIM YOUR FREE TICKETS NOW!
URL:https://murphydeals.com/event/splash-cirkus/2023-08-18/
LOCATION:Mohave County Fairgrounds\, 2600 Fairgrounds Blvd\, Kingman\, AZ\, 86401
CATEGORIES:Event
ATTACH;FMTTYPE=image/jpeg:https://murphydeals.com/wp-content/uploads/2023/08/sPLASH1-e1692137472987.jpg
END:VEVENT
BEGIN:VEVENT
DTSTART;TZID=America/Phoenix:20230819T170000
DTEND;TZID=America/Phoenix:20230821T190000
DTSTAMP:20260425T203157
CREATED:20230815T225621Z
LAST-MODIFIED:20230816T170154Z
UID:10008353-1692464400-1692644400@murphydeals.com
SUMMARY:Splash Cirkus at Mohave County Fairgrounds in Kingman
DESCRIPTION:CLAIM YOUR FREE TICKETS NOW!
URL:https://murphydeals.com/event/splash-cirkus/2023-08-19/1/
LOCATION:Mohave County Fairgrounds\, 2600 Fairgrounds Blvd\, Kingman\, AZ\, 86401
CATEGORIES:Event
ATTACH;FMTTYPE=image/jpeg:https://murphydeals.com/wp-content/uploads/2023/08/sPLASH1-e1692137472987.jpg
END:VEVENT
BEGIN:VEVENT
DTSTART;TZID=America/Phoenix:20230819T193000
DTEND;TZID=America/Phoenix:20230819T223000
DTSTAMP:20260425T203157
CREATED:20230815T225621Z
LAST-MODIFIED:20230816T170154Z
UID:10008354-1692473400-1692484200@murphydeals.com
SUMMARY:Splash Cirkus at Mohave County Fairgrounds in Kingman
DESCRIPTION:CLAIM YOUR FREE TICKETS NOW!
URL:https://murphydeals.com/event/splash-cirkus/2023-08-19/2/
LOCATION:Mohave County Fairgrounds\, 2600 Fairgrounds Blvd\, Kingman\, AZ\, 86401
CATEGORIES:Event
ATTACH;FMTTYPE=image/jpeg:https://murphydeals.com/wp-content/uploads/2023/08/sPLASH1-e1692137472987.jpg
END:VEVENT
BEGIN:VEVENT
DTSTART;TZID=America/Phoenix:20230820T170000
DTEND;TZID=America/Phoenix:20230823T190000
DTSTAMP:20260425T203157
CREATED:20230815T225621Z
LAST-MODIFIED:20230816T170154Z
UID:10008355-1692550800-1692817200@murphydeals.com
SUMMARY:Splash Cirkus at Mohave County Fairgrounds in Kingman
DESCRIPTION:CLAIM YOUR FREE TICKETS NOW!
URL:https://murphydeals.com/event/splash-cirkus/2023-08-20/
LOCATION:Mohave County Fairgrounds\, 2600 Fairgrounds Blvd\, Kingman\, AZ\, 86401
CATEGORIES:Event
ATTACH;FMTTYPE=image/jpeg:https://murphydeals.com/wp-content/uploads/2023/08/sPLASH1-e1692137472987.jpg
END:VEVENT
END:VCALENDAR