BEGIN:VCALENDAR
VERSION:2.0
PRODID:-//Murphy Deals - ECPv6.15.20//NONSGML v1.0//EN
CALSCALE:GREGORIAN
METHOD:PUBLISH
X-ORIGINAL-URL:https://murphydeals.com
X-WR-CALDESC:Events for Murphy Deals
REFRESH-INTERVAL;VALUE=DURATION:PT1H
X-Robots-Tag:noindex
X-PUBLISHED-TTL:PT1H
BEGIN:VTIMEZONE
TZID:America/Phoenix
BEGIN:STANDARD
TZOFFSETFROM:-0700
TZOFFSETTO:-0700
TZNAME:MST
DTSTART:20220101T000000
END:STANDARD
END:VTIMEZONE
BEGIN:VEVENT
DTSTART;TZID=America/Phoenix:20230819T180000
DTEND;TZID=America/Phoenix:20230819T223000
DTSTAMP:20260425T093509
CREATED:20230626T215436Z
LAST-MODIFIED:20230626T215436Z
UID:10008309-1692468000-1692484200@murphydeals.com
SUMMARY:Summer Cool Down Concert Series at London Bridge Resort Convention Center
DESCRIPTION:Buffet’s Margaritaville Kicks Off London Bridge Resort’s Summer Cool Down Concert Series on July 15th! \nDoors open at 6pm (Food Trucks) – Showtime Begins at 7:30pm \nHead to www.purplepass.com/lbrconcerts to purchase your tickets today! \nCool down this summer when London Bridge Resort presents the Summer Cool Down Concert Series! \nGrab a Season Pass for all 3 shows with a 15% discount through July 14th: \nGA Season Pass for all 3 shows: $80 \nVIP Season Pass for all 3 shows: $105 \nTickets can be purchased by clicking here! \nDoors open at 6pm (food trucks) / Show begins at 7:30pm \nBuffet’s Margaritaville (Jimmy Buffett Tribute) \nSat.\, July 15th @ 7:30pm \nGA tickets are $29.95 \nVIP tickets are $39.95 \nGARTH LIVE! (Garth Brooks Tribute) \nFri.\, August 4th @ 7:30pm \nGA Tickets are $34.95 \nVIP Tickets are $44.95 \nVoyager (Tribute to Journey) \nSat.\, August 19th @ 7:30pm \nGA tickets are $29.95 \nVIP tickets are $39.95 \nBUY TICKETS\n\n\n  \n 
URL:https://murphydeals.com/event/summer-cool-down-concert-series-at-london-bridge-resort-convention-center/2023-08-19/
LOCATION:London Bridge Convention Center\, 1477 Queens Bay\, Lake Havasu City\, AZ\, 86403\, United States
CATEGORIES:Music | Concerts
ATTACH;FMTTYPE=image/jpeg:https://murphydeals.com/wp-content/uploads/2023/06/lbr-1-e1687816455696.jpg
END:VEVENT
BEGIN:VEVENT
DTSTART;TZID=America/Phoenix:20230804T180000
DTEND;TZID=America/Phoenix:20230804T223000
DTSTAMP:20260425T093509
CREATED:20230626T215436Z
LAST-MODIFIED:20230626T215436Z
UID:10008308-1691172000-1691188200@murphydeals.com
SUMMARY:Summer Cool Down Concert Series at London Bridge Resort Convention Center
DESCRIPTION:Buffet’s Margaritaville Kicks Off London Bridge Resort’s Summer Cool Down Concert Series on July 15th! \nDoors open at 6pm (Food Trucks) – Showtime Begins at 7:30pm \nHead to www.purplepass.com/lbrconcerts to purchase your tickets today! \nCool down this summer when London Bridge Resort presents the Summer Cool Down Concert Series! \nGrab a Season Pass for all 3 shows with a 15% discount through July 14th: \nGA Season Pass for all 3 shows: $80 \nVIP Season Pass for all 3 shows: $105 \nTickets can be purchased by clicking here! \nDoors open at 6pm (food trucks) / Show begins at 7:30pm \nBuffet’s Margaritaville (Jimmy Buffett Tribute) \nSat.\, July 15th @ 7:30pm \nGA tickets are $29.95 \nVIP tickets are $39.95 \nGARTH LIVE! (Garth Brooks Tribute) \nFri.\, August 4th @ 7:30pm \nGA Tickets are $34.95 \nVIP Tickets are $44.95 \nVoyager (Tribute to Journey) \nSat.\, August 19th @ 7:30pm \nGA tickets are $29.95 \nVIP tickets are $39.95 \nBUY TICKETS\n\n\n  \n 
URL:https://murphydeals.com/event/summer-cool-down-concert-series-at-london-bridge-resort-convention-center/2023-08-04/
LOCATION:London Bridge Convention Center\, 1477 Queens Bay\, Lake Havasu City\, AZ\, 86403\, United States
CATEGORIES:Music | Concerts
ATTACH;FMTTYPE=image/jpeg:https://murphydeals.com/wp-content/uploads/2023/06/lbr-1-e1687816455696.jpg
END:VEVENT
BEGIN:VEVENT
DTSTART;TZID=America/Phoenix:20230715T180000
DTEND;TZID=America/Phoenix:20230715T223000
DTSTAMP:20260425T093509
CREATED:20230626T215436Z
LAST-MODIFIED:20230626T215436Z
UID:10008307-1689444000-1689460200@murphydeals.com
SUMMARY:Summer Cool Down Concert Series at London Bridge Resort Convention Center
DESCRIPTION:Buffet’s Margaritaville Kicks Off London Bridge Resort’s Summer Cool Down Concert Series on July 15th! \nDoors open at 6pm (Food Trucks) – Showtime Begins at 7:30pm \nHead to www.purplepass.com/lbrconcerts to purchase your tickets today! \nCool down this summer when London Bridge Resort presents the Summer Cool Down Concert Series! \nGrab a Season Pass for all 3 shows with a 15% discount through July 14th: \nGA Season Pass for all 3 shows: $80 \nVIP Season Pass for all 3 shows: $105 \nTickets can be purchased by clicking here! \nDoors open at 6pm (food trucks) / Show begins at 7:30pm \nBuffet’s Margaritaville (Jimmy Buffett Tribute) \nSat.\, July 15th @ 7:30pm \nGA tickets are $29.95 \nVIP tickets are $39.95 \nGARTH LIVE! (Garth Brooks Tribute) \nFri.\, August 4th @ 7:30pm \nGA Tickets are $34.95 \nVIP Tickets are $44.95 \nVoyager (Tribute to Journey) \nSat.\, August 19th @ 7:30pm \nGA tickets are $29.95 \nVIP tickets are $39.95 \nBUY TICKETS\n\n\n  \n 
URL:https://murphydeals.com/event/summer-cool-down-concert-series-at-london-bridge-resort-convention-center/2023-07-15/
LOCATION:London Bridge Convention Center\, 1477 Queens Bay\, Lake Havasu City\, AZ\, 86403\, United States
CATEGORIES:Music | Concerts
ATTACH;FMTTYPE=image/jpeg:https://murphydeals.com/wp-content/uploads/2023/06/lbr-1-e1687816455696.jpg
END:VEVENT
END:VCALENDAR