BEGIN:VCALENDAR
VERSION:2.0
PRODID:-//Murphy Deals - ECPv6.15.20//NONSGML v1.0//EN
CALSCALE:GREGORIAN
METHOD:PUBLISH
X-WR-CALNAME:Murphy Deals
X-ORIGINAL-URL:https://murphydeals.com
X-WR-CALDESC:Events for Murphy Deals
REFRESH-INTERVAL;VALUE=DURATION:PT1H
X-Robots-Tag:noindex
X-PUBLISHED-TTL:PT1H
BEGIN:VTIMEZONE
TZID:America/Phoenix
BEGIN:STANDARD
TZOFFSETFROM:-0700
TZOFFSETTO:-0700
TZNAME:MST
DTSTART:20220101T000000
END:STANDARD
END:VTIMEZONE
BEGIN:VEVENT
DTSTART;TZID=America/Phoenix:20230417T180000
DTEND;TZID=America/Phoenix:20230417T200000
DTSTAMP:20260425T095838
CREATED:20230403T203737Z
LAST-MODIFIED:20230403T203737Z
UID:10007430-1681754400-1681761600@murphydeals.com
SUMMARY:Build Your Own Charcuterie Night at SummeRay Wine Bar in Lake Havasu
DESCRIPTION:  \nWe invite you to come in and design your own 1-2 person charcuterie board accompanied by a complimentary glass of wine. RSVP required ~ $30 a person. Please don’t hesitate to call if you have any questions. \n 
URL:https://murphydeals.com/event/build-your-own-charcuterie-night-at-summeray-wine-bar-in-lake-havasu/
LOCATION:SummeRay Wine Bar Lake Havasu\, 2097 McCulloch Blvd N\, Lake Havasu City\, AZ\, 86403\, United States
CATEGORIES:Event
ATTACH;FMTTYPE=image/jpeg:https://murphydeals.com/wp-content/uploads/2023/04/summeraycharcuterie-1-1-e1680554116363.jpg
END:VEVENT
BEGIN:VEVENT
DTSTART;TZID=America/Phoenix:20230403T180000
DTEND;TZID=America/Phoenix:20230403T193000
DTSTAMP:20260425T095838
CREATED:20230327T232221Z
LAST-MODIFIED:20230327T232221Z
UID:10007408-1680544800-1680550200@murphydeals.com
SUMMARY:Bless This Nest Home Decor Class at SummeRay in Lake Havasu
DESCRIPTION:This event will feature local business owner Amber Lohrman of Bless This Nest woodworks. You will be guided through making your own wood frame and insert for your own personal home decor. Cost is $35 a person and includes all materials and a complimentary glass of wine. We hope to see you there! \n 
URL:https://murphydeals.com/event/bless-this-nest-home-decor-class-at-summeray-in-lake-havasu/
LOCATION:SummeRay Wine Bar Lake Havasu\, 2097 McCulloch Blvd N\, Lake Havasu City\, AZ\, 86403\, United States
CATEGORIES:Event
ATTACH;FMTTYPE=image/jpeg:https://murphydeals.com/wp-content/uploads/2023/03/blessthisnest-e1679958958942.jpg
END:VEVENT
END:VCALENDAR