BEGIN:VCALENDAR
VERSION:2.0
PRODID:-//Murphy Deals - ECPv6.15.20//NONSGML v1.0//EN
CALSCALE:GREGORIAN
METHOD:PUBLISH
X-ORIGINAL-URL:https://murphydeals.com
X-WR-CALDESC:Events for Murphy Deals
REFRESH-INTERVAL;VALUE=DURATION:PT1H
X-Robots-Tag:noindex
X-PUBLISHED-TTL:PT1H
BEGIN:VTIMEZONE
TZID:America/Phoenix
BEGIN:STANDARD
TZOFFSETFROM:-0700
TZOFFSETTO:-0700
TZNAME:MST
DTSTART:20210101T000000
END:STANDARD
END:VTIMEZONE
BEGIN:VEVENT
DTSTART;TZID=America/Phoenix:20221211T150000
DTEND;TZID=America/Phoenix:20221211T170000
DTSTAMP:20260425T075848
CREATED:20221128T204856Z
LAST-MODIFIED:20221130T210055Z
UID:10006640-1670770800-1670778000@murphydeals.com
SUMMARY:Holiday Music at Lake Havasu Performing Arts Center
DESCRIPTION:Enjoy the classic holiday sounds of: The Polar Express\, A Fireside Christmas\, Christmas Vacation\, A Holly Jolly Christmas\, and It’s the Most Wonderful Time of the Year. \nTickets can be purchased online here or in-person prior to the show date at Sound Bank and River City Music \nTickets are $10 for adults and children with a paid adult and students with an ID are free. \nTicket sales the day of event begin 30 minutes before the concert. Event dates and times are subject to change. Please contact event coordinator to verify information. \nDecember 11th\, 2022 @ 3:00pm – 5:00pm\nLake Havasu Performing Arts Center\n2675 S. Palo Verde Blvd.\nLake Havasu City\, Arizona 86403\n 
URL:https://murphydeals.com/event/lake-havasu-symphonic-winds-presents-holiday-music/
LOCATION:Lake Havasu High School\, 2675 Palo Verde Blvd S\, Lake Havasu City\, Arizona\, 86403
CATEGORIES:Arts | Theatre,Music | Concerts
ATTACH;FMTTYPE=image/jpeg:https://murphydeals.com/wp-content/uploads/2022/11/Holiday-music-e1669842023920.jpg
END:VEVENT
BEGIN:VEVENT
DTSTART;TZID=America/Phoenix:20230416T150000
DTEND;TZID=America/Phoenix:20230416T170000
DTSTAMP:20260425T075848
CREATED:20230221T201650Z
LAST-MODIFIED:20230221T201650Z
UID:10007235-1681657200-1681664400@murphydeals.com
SUMMARY:Lake Havasu Symphonic Winds Presents All That Jazz at Lake Havasu High School Performing Arts Center
DESCRIPTION:Your toes will be tapping when enjoying the sounds of All That Jazz! \nTickets can be purchased online here or in-person prior to the show date at Sound Bank and River City Music \nTickets are $10 for adults and children with a paid adult and students with an ID are free. \nTicket sales the day of event begin 30 minutes before the concert. Event dates and times are subject to change. Please contact event coordinator to verify information.
URL:https://murphydeals.com/event/lake-havasu-symphonic-winds-presents-all-that-jazz-at-lake-havasu-high-school-performing-arts-center/
LOCATION:Lake Havasu Performing Arts Center\, 2675 S. Palo Verde Blvd.\, Lake Havasu City\, AZ\, 86403
CATEGORIES:Event,Music | Concerts
ATTACH;FMTTYPE=image/jpeg:https://murphydeals.com/wp-content/uploads/2023/02/symphonic-e1677010465155.jpg
END:VEVENT
END:VCALENDAR