BEGIN:VCALENDAR
VERSION:2.0
PRODID:-//Murphy Deals - ECPv6.15.20//NONSGML v1.0//EN
CALSCALE:GREGORIAN
METHOD:PUBLISH
X-WR-CALNAME:Murphy Deals
X-ORIGINAL-URL:https://murphydeals.com
X-WR-CALDESC:Events for Murphy Deals
REFRESH-INTERVAL;VALUE=DURATION:PT1H
X-Robots-Tag:noindex
X-PUBLISHED-TTL:PT1H
BEGIN:VTIMEZONE
TZID:America/Phoenix
BEGIN:STANDARD
TZOFFSETFROM:-0700
TZOFFSETTO:-0700
TZNAME:MST
DTSTART:20220101T000000
END:STANDARD
END:VTIMEZONE
BEGIN:VEVENT
DTSTART;TZID=America/Phoenix:20230517T180000
DTEND;TZID=America/Phoenix:20230517T200000
DTSTAMP:20260425T154259
CREATED:20230515T214238Z
LAST-MODIFIED:20230515T214238Z
UID:10007817-1684346400-1684353600@murphydeals.com
SUMMARY:Paint Pawty at That Dane Bar in Lake Havasu
DESCRIPTION:Paint Pawty! $40 per person.Includes all materials\, instruction and one drink. \n Wednesday May 17th\, 6-8pm. Advance reservations required.  No experience necessary.  \nHave fun and make it your own masterpiece!Visit That Dane Bar to purchase your tickets. \n 
URL:https://murphydeals.com/event/paint-pawty-at-that-dane-bar-in-lake-havasu/
LOCATION:That Dane Bar Bark Park & Brew\, 2213 West Acoma Boulevard\, Lake Havasu City\, AZ\, 86403\, United States
CATEGORIES:Event
ATTACH;FMTTYPE=image/jpeg:https://murphydeals.com/wp-content/uploads/2023/05/paintpawty-e1684186429742.jpg
END:VEVENT
END:VCALENDAR