BEGIN:VCALENDAR
VERSION:2.0
PRODID:-//Murphy Deals - ECPv6.15.20//NONSGML v1.0//EN
CALSCALE:GREGORIAN
METHOD:PUBLISH
X-WR-CALNAME:Murphy Deals
X-ORIGINAL-URL:https://murphydeals.com
X-WR-CALDESC:Events for Murphy Deals
REFRESH-INTERVAL;VALUE=DURATION:PT1H
X-Robots-Tag:noindex
X-PUBLISHED-TTL:PT1H
BEGIN:VTIMEZONE
TZID:America/Phoenix
BEGIN:STANDARD
TZOFFSETFROM:-0700
TZOFFSETTO:-0700
TZNAME:MST
DTSTART:20220101T000000
END:STANDARD
END:VTIMEZONE
BEGIN:VEVENT
DTSTART;TZID=America/Phoenix:20230819T190000
DTEND;TZID=America/Phoenix:20230819T203000
DTSTAMP:20260425T203548
CREATED:20230605T163450Z
LAST-MODIFIED:20230814T233645Z
UID:10008208-1692471600-1692477000@murphydeals.com
SUMMARY:Terry Fator at The Edge Pavilion
DESCRIPTION:“America’s Got Talent” winner\, Terry Fator\, and his cast of puppet characters will bring laughs\, impressions and music to Laughlin with a performance at The Edge Pavilion\, formerly the E Center\, located at Edgewater Casino Resort\, on Saturday\, Aug. 19. \nNamed the “Best Las Vegas Strip Headliner” by Las Vegas Weekly for three consecutive years\, Fator captivates audiences with his unique brand of entertainment that combines ventriloquism\, singing\, comedy and stellar celebrity impressions. Fator’s unique talent lies in his ability to bring his puppets to life\, each offering a distinct personality and voice. Among his eclectic cast of characters are Winston\, the impersonating turtle; Emma Taylor\, the little girl with the big voice; Maynard Thompkins\, the Elvis impersonator; Duggie Scott Walker\, the annoying neighbor; and a host of famous singers. His newest show\, “Who’s the Dummy Now?\,” is a comedic and musical origin story that showcases how Fator came up with his cast of famous puppet partners. \nBUY TICKETS  \nhttp://murphydeals.com/wp-content/uploads/2023/06/Terry-Fator_walter.mp4
URL:https://murphydeals.com/event/terry-fator-at-the-edge-pavilion/
LOCATION:Edge Pavilion\, 2020 S Casino Drive\, Laughlin\, 89029\, 89029
CATEGORIES:Comedy | Comedian,Event
ATTACH;FMTTYPE=image/jpeg:https://murphydeals.com/wp-content/uploads/2023/06/terry.fator-1-e1685982733143.jpg
END:VEVENT
BEGIN:VEVENT
DTSTART;TZID=America/Phoenix:20230617T190000
DTEND;TZID=America/Phoenix:20230617T200000
DTSTAMP:20260425T203548
CREATED:20230403T191417Z
LAST-MODIFIED:20230403T191417Z
UID:10007426-1687028400-1687032000@murphydeals.com
SUMMARY:Jay Leno at The Edge Pavilion
DESCRIPTION:An acclaimed late night TV show host\, admired stand-up comedian\, best-selling children’s book author\, in-demand corporate speaker\, voice-over artist\, pioneering car builder and mechanic and philanthropist\, Leno is widely characterized as “the hardest working man in show business.” Leno’s late night television ratings domination included two decades as the host of the No. 1 rated “The Tonight Show with Jay Leno.” He currently produces and is host of the CNBC primetime series “Jay Leno’s Garage\,” now in its seventh season. Leno is the recipient of many honors\, including Emmy\, People’s Choice and TV Guide awards; Harris Poll selection as most popular star on television; the Hasty Pudding Award at Harvard University; The Mark Twain Prize; recipient of the Patriot Award given by the Congressional Medal of Honor Society; has a star on Hollywood’s Walk of Fame; and was the first person to drive the pace car of all major NASCAR events. \nBUY TICKETS 
URL:https://murphydeals.com/event/jay-leno-at-the-edge-pavilion/
LOCATION:Edge Pavilion\, 2020 S Casino Drive\, Laughlin\, 89029\, 89029
CATEGORIES:Comedy | Comedian,Event
ATTACH;FMTTYPE=image/jpeg:https://murphydeals.com/wp-content/uploads/2023/04/jayleno-1-e1680549139781.jpg
END:VEVENT
END:VCALENDAR