BEGIN:VCALENDAR
VERSION:2.0
PRODID:-//Murphy Deals - ECPv6.15.20//NONSGML v1.0//EN
CALSCALE:GREGORIAN
METHOD:PUBLISH
X-ORIGINAL-URL:https://murphydeals.com
X-WR-CALDESC:Events for Murphy Deals
REFRESH-INTERVAL;VALUE=DURATION:PT1H
X-Robots-Tag:noindex
X-PUBLISHED-TTL:PT1H
BEGIN:VTIMEZONE
TZID:America/Phoenix
BEGIN:STANDARD
TZOFFSETFROM:-0700
TZOFFSETTO:-0700
TZNAME:MST
DTSTART:20220101T000000
END:STANDARD
END:VTIMEZONE
BEGIN:VEVENT
DTSTART;TZID=America/Phoenix:20230618T210000
DTEND;TZID=America/Phoenix:20230618T223000
DTSTAMP:20260425T145321
CREATED:20230612T161649Z
LAST-MODIFIED:20230612T161649Z
UID:10008231-1687122000-1687127400@murphydeals.com
SUMMARY:JC Currais at The Edgewater Resort
DESCRIPTION:Born and raised in Miami\, FL. JC Currais mixes a larger than life stage persona with his high energy performance style. He has performed on Last Call with Carson Daly\, FOX’s Laughs and TBS’s CONAN. He was named one of TBS’s Top Comics to Watch at the New York Comedy Festival and one of the New Faces of Comedy at the Just For Laughs Festival in Montreal. \nAs an actor\, he has appeared on FOX’s Lethal Weapon\, BET’s Real Husbands of Hollywood and was a writer on Comedy Central’s TripTank. He made his film debut in the Sundance Film Festival feature “New Low”. He became a series regular on the Disney Channel original series Just Roll With It in its second season. \nHis presence is as big as his imagination and you never know where the show will end up when this man-child is the ring master. Currais has opened for such comedians as Steve Byrne\, Hannibal Burress\, Whitney Cummings\, Kyle Kinane and Ralphie May. \nBUY TICKETS 
URL:https://murphydeals.com/event/jc-currais-at-the-edgewater-resort/2023-06-18/
LOCATION:Edgewater Resort\, 2020 S Casino Dr\, Laughlin\, NV\, 89029\, United States
CATEGORIES:Comedy | Comedian
ATTACH;FMTTYPE=image/jpeg:https://murphydeals.com/wp-content/uploads/2023/06/jc-currais-e1686586548690.jpg
END:VEVENT
BEGIN:VEVENT
DTSTART;TZID=America/Phoenix:20230617T210000
DTEND;TZID=America/Phoenix:20230617T223000
DTSTAMP:20260425T145321
CREATED:20230612T161649Z
LAST-MODIFIED:20230612T161649Z
UID:10008230-1687035600-1687041000@murphydeals.com
SUMMARY:JC Currais at The Edgewater Resort
DESCRIPTION:Born and raised in Miami\, FL. JC Currais mixes a larger than life stage persona with his high energy performance style. He has performed on Last Call with Carson Daly\, FOX’s Laughs and TBS’s CONAN. He was named one of TBS’s Top Comics to Watch at the New York Comedy Festival and one of the New Faces of Comedy at the Just For Laughs Festival in Montreal. \nAs an actor\, he has appeared on FOX’s Lethal Weapon\, BET’s Real Husbands of Hollywood and was a writer on Comedy Central’s TripTank. He made his film debut in the Sundance Film Festival feature “New Low”. He became a series regular on the Disney Channel original series Just Roll With It in its second season. \nHis presence is as big as his imagination and you never know where the show will end up when this man-child is the ring master. Currais has opened for such comedians as Steve Byrne\, Hannibal Burress\, Whitney Cummings\, Kyle Kinane and Ralphie May. \nBUY TICKETS 
URL:https://murphydeals.com/event/jc-currais-at-the-edgewater-resort/2023-06-17/
LOCATION:Edgewater Resort\, 2020 S Casino Dr\, Laughlin\, NV\, 89029\, United States
CATEGORIES:Comedy | Comedian
ATTACH;FMTTYPE=image/jpeg:https://murphydeals.com/wp-content/uploads/2023/06/jc-currais-e1686586548690.jpg
END:VEVENT
BEGIN:VEVENT
DTSTART;TZID=America/Phoenix:20230616T210000
DTEND;TZID=America/Phoenix:20230616T223000
DTSTAMP:20260425T145321
CREATED:20230612T161649Z
LAST-MODIFIED:20230612T161649Z
UID:10008229-1686949200-1686954600@murphydeals.com
SUMMARY:JC Currais at The Edgewater Resort
DESCRIPTION:Born and raised in Miami\, FL. JC Currais mixes a larger than life stage persona with his high energy performance style. He has performed on Last Call with Carson Daly\, FOX’s Laughs and TBS’s CONAN. He was named one of TBS’s Top Comics to Watch at the New York Comedy Festival and one of the New Faces of Comedy at the Just For Laughs Festival in Montreal. \nAs an actor\, he has appeared on FOX’s Lethal Weapon\, BET’s Real Husbands of Hollywood and was a writer on Comedy Central’s TripTank. He made his film debut in the Sundance Film Festival feature “New Low”. He became a series regular on the Disney Channel original series Just Roll With It in its second season. \nHis presence is as big as his imagination and you never know where the show will end up when this man-child is the ring master. Currais has opened for such comedians as Steve Byrne\, Hannibal Burress\, Whitney Cummings\, Kyle Kinane and Ralphie May. \nBUY TICKETS 
URL:https://murphydeals.com/event/jc-currais-at-the-edgewater-resort/2023-06-16/
LOCATION:Edgewater Resort\, 2020 S Casino Dr\, Laughlin\, NV\, 89029\, United States
CATEGORIES:Comedy | Comedian
ATTACH;FMTTYPE=image/jpeg:https://murphydeals.com/wp-content/uploads/2023/06/jc-currais-e1686586548690.jpg
END:VEVENT
BEGIN:VEVENT
DTSTART;TZID=America/Phoenix:20230615T210000
DTEND;TZID=America/Phoenix:20230615T223000
DTSTAMP:20260425T145321
CREATED:20230612T161649Z
LAST-MODIFIED:20230612T161649Z
UID:10008228-1686862800-1686868200@murphydeals.com
SUMMARY:JC Currais at The Edgewater Resort
DESCRIPTION:Born and raised in Miami\, FL. JC Currais mixes a larger than life stage persona with his high energy performance style. He has performed on Last Call with Carson Daly\, FOX’s Laughs and TBS’s CONAN. He was named one of TBS’s Top Comics to Watch at the New York Comedy Festival and one of the New Faces of Comedy at the Just For Laughs Festival in Montreal. \nAs an actor\, he has appeared on FOX’s Lethal Weapon\, BET’s Real Husbands of Hollywood and was a writer on Comedy Central’s TripTank. He made his film debut in the Sundance Film Festival feature “New Low”. He became a series regular on the Disney Channel original series Just Roll With It in its second season. \nHis presence is as big as his imagination and you never know where the show will end up when this man-child is the ring master. Currais has opened for such comedians as Steve Byrne\, Hannibal Burress\, Whitney Cummings\, Kyle Kinane and Ralphie May. \nBUY TICKETS 
URL:https://murphydeals.com/event/jc-currais-at-the-edgewater-resort/2023-06-15/
LOCATION:Edgewater Resort\, 2020 S Casino Dr\, Laughlin\, NV\, 89029\, United States
CATEGORIES:Comedy | Comedian
ATTACH;FMTTYPE=image/jpeg:https://murphydeals.com/wp-content/uploads/2023/06/jc-currais-e1686586548690.jpg
END:VEVENT
BEGIN:VEVENT
DTSTART;TZID=America/Phoenix:20230614T210000
DTEND;TZID=America/Phoenix:20230614T223000
DTSTAMP:20260425T145321
CREATED:20230612T161649Z
LAST-MODIFIED:20230612T161649Z
UID:10008227-1686776400-1686781800@murphydeals.com
SUMMARY:JC Currais at The Edgewater Resort
DESCRIPTION:Born and raised in Miami\, FL. JC Currais mixes a larger than life stage persona with his high energy performance style. He has performed on Last Call with Carson Daly\, FOX’s Laughs and TBS’s CONAN. He was named one of TBS’s Top Comics to Watch at the New York Comedy Festival and one of the New Faces of Comedy at the Just For Laughs Festival in Montreal. \nAs an actor\, he has appeared on FOX’s Lethal Weapon\, BET’s Real Husbands of Hollywood and was a writer on Comedy Central’s TripTank. He made his film debut in the Sundance Film Festival feature “New Low”. He became a series regular on the Disney Channel original series Just Roll With It in its second season. \nHis presence is as big as his imagination and you never know where the show will end up when this man-child is the ring master. Currais has opened for such comedians as Steve Byrne\, Hannibal Burress\, Whitney Cummings\, Kyle Kinane and Ralphie May. \nBUY TICKETS 
URL:https://murphydeals.com/event/jc-currais-at-the-edgewater-resort/2023-06-14/
LOCATION:Edgewater Resort\, 2020 S Casino Dr\, Laughlin\, NV\, 89029\, United States
CATEGORIES:Comedy | Comedian
ATTACH;FMTTYPE=image/jpeg:https://murphydeals.com/wp-content/uploads/2023/06/jc-currais-e1686586548690.jpg
END:VEVENT
END:VCALENDAR