BEGIN:VCALENDAR
VERSION:2.0
PRODID:-//Murphy Deals - ECPv6.15.20//NONSGML v1.0//EN
CALSCALE:GREGORIAN
METHOD:PUBLISH
X-ORIGINAL-URL:https://murphydeals.com
X-WR-CALDESC:Events for Murphy Deals
REFRESH-INTERVAL;VALUE=DURATION:PT1H
X-Robots-Tag:noindex
X-PUBLISHED-TTL:PT1H
BEGIN:VTIMEZONE
TZID:America/Phoenix
BEGIN:STANDARD
TZOFFSETFROM:-0700
TZOFFSETTO:-0700
TZNAME:MST
DTSTART:20220101T000000
END:STANDARD
END:VTIMEZONE
BEGIN:VEVENT
DTSTART;TZID=America/Phoenix:20230621T190000
DTEND;TZID=America/Phoenix:20230621T220000
DTSTAMP:20260425T162429
CREATED:20230612T213712Z
LAST-MODIFIED:20230612T213712Z
UID:10008252-1687374000-1687384800@murphydeals.com
SUMMARY:Bike Night at The Flying X Saloon
DESCRIPTION:Every week\, motorcycle enthusiasts gather in front of The Flying X Saloon to showcase their bikes and share their love for motorcycles. The street is lined with an impressive array of motorcycles\, each reflecting its owner’s unique style and personality. The event creates a lively atmosphere as riders swap stories and admire each other’s bikes. The sight of gleaming chrome and custom paint jobs creates an exciting backdrop for the event. It’s a weekly tradition that brings together the local motorcycle community and adds vibrant energy to the city’s nightlife.
URL:https://murphydeals.com/event/bike-night-at-the-flying-x-saloon/
LOCATION:Flying X Saloon\, 2030 McCulloch Blvd N\, Lake Havasu City\, AZ\, 86403
CATEGORIES:Event
ATTACH;FMTTYPE=image/jpeg:https://murphydeals.com/wp-content/uploads/2023/06/bike_night_at_flying_x_saloon-e1686605739572.jpg
END:VEVENT
END:VCALENDAR