BEGIN:VCALENDAR
VERSION:2.0
PRODID:-//Murphy Deals - ECPv6.15.20//NONSGML v1.0//EN
CALSCALE:GREGORIAN
METHOD:PUBLISH
X-WR-CALNAME:Murphy Deals
X-ORIGINAL-URL:https://murphydeals.com
X-WR-CALDESC:Events for Murphy Deals
REFRESH-INTERVAL;VALUE=DURATION:PT1H
X-Robots-Tag:noindex
X-PUBLISHED-TTL:PT1H
BEGIN:VTIMEZONE
TZID:America/Phoenix
BEGIN:STANDARD
TZOFFSETFROM:-0700
TZOFFSETTO:-0700
TZNAME:MST
DTSTART:20220101T000000
END:STANDARD
END:VTIMEZONE
BEGIN:VEVENT
DTSTART;TZID=America/Phoenix:20230228T190000
DTEND;TZID=America/Phoenix:20230228T210000
DTSTAMP:20260425T151232
CREATED:20221213T182636Z
LAST-MODIFIED:20221213T182636Z
UID:10006826-1677610800-1677618000@murphydeals.com
SUMMARY:The Jack at Lake Havasu City Aquatic Center
DESCRIPTION:THE #1 TRIBUTE TO AC/DC \nIn most circles of Rock-n-Roll influence\, AC/DC is largely considered to be one of the very best live rock and roll bands of all time. “The Jack” is the Ultimate and true to life AC/DC experience that will indeed leave you “Thunderstruck” and screaming for more!! \nThe seasoned professionals that make up The Jack are very passionate about re-creating AC/DC’s iconic sound and stage performance right before your very eyes. Their attention to detail\, the sound\, the notes\, the look… it’s all there. \nThis high energy\, full on stage performance never stops. Crowds all across America just can’t get enough of The Jack. \nCLICK HERE FOR TICKETS
URL:https://murphydeals.com/event/the-jack-at-lake-havasu-city-aquatic-center/
LOCATION:Lake Havasu City Aquatic Center\, 100 Park Ave\, Lake Havasu City\, AZ\, 86403\, United States
CATEGORIES:Event,Music | Concerts
ATTACH;FMTTYPE=image/jpeg:https://murphydeals.com/wp-content/uploads/2022/12/The-Jack-Purple-Pass-952x579-1-e1670955954737.jpg
END:VEVENT
END:VCALENDAR