BEGIN:VCALENDAR
VERSION:2.0
PRODID:-//Murphy Deals - ECPv6.15.20//NONSGML v1.0//EN
CALSCALE:GREGORIAN
METHOD:PUBLISH
X-ORIGINAL-URL:https://murphydeals.com
X-WR-CALDESC:Events for Murphy Deals
REFRESH-INTERVAL;VALUE=DURATION:PT1H
X-Robots-Tag:noindex
X-PUBLISHED-TTL:PT1H
BEGIN:VTIMEZONE
TZID:America/Phoenix
BEGIN:STANDARD
TZOFFSETFROM:-0700
TZOFFSETTO:-0700
TZNAME:MST
DTSTART:20220101T000000
END:STANDARD
END:VTIMEZONE
BEGIN:VEVENT
DTSTART;TZID=America/Phoenix:20230111T190000
DTEND;TZID=America/Phoenix:20230111T210000
DTSTAMP:20260425T150853
CREATED:20221031T224746Z
LAST-MODIFIED:20221129T231619Z
UID:10006539-1673463600-1673470800@murphydeals.com
SUMMARY:Happy Birthday to the King in Laughlin
DESCRIPTION:Happy Birthday to the King! Starring Don Rose! Don has been called by his fans one of the hardest working men in show business. His stage charisma and his strong voice are what fans most compare him with to Elvis. Don Rose has performed his Elvis tributes all across the United States and Canada. His tributes to THE KING are said to be the best in the business. Don knows that there will never be another Elvis Presley and considers himself to be a bigger Elvis fan than an impersonator. Vocally trained in Orlando Florida and Nashville Tennessee\, Don works hard to make every event a special occasion and looks forward to meeting Elvis fans all around the world. Don’t miss the wonderful evening of entertainment reliving all the greatest songs from Elvis movies and Concerts in one high energy Show. \nGET TICKETS \n\n\n\nShow Time 7:00 PM PST\nFloor Seats: $36.00 + $4.36 SVC CHG + Tax\nRiser Seats: $30.00 + $4.36 SVC CHG + Tax\nLocals: Floor Seats $31.00 + $4.36 SVC CHG + Tax\nLocals: Riser Seats $25.00 + $4.36 SVC CHG + Tax
URL:https://murphydeals.com/event/happy-birthday-to-the-king-in-laughlin/2023-01-11/
LOCATION:Don Laughlin’s Riverside Resort Hotel and Casino\, 1650 S Casino Drive\, Laughlin\, Nevada\, 89029
CATEGORIES:Event,Music | Concerts
ATTACH;FMTTYPE=image/jpeg:https://murphydeals.com/wp-content/uploads/2022/10/download-6.jpg
END:VEVENT
BEGIN:VEVENT
DTSTART;TZID=America/Phoenix:20230112T190000
DTEND;TZID=America/Phoenix:20230112T210000
DTSTAMP:20260425T150853
CREATED:20221031T224746Z
LAST-MODIFIED:20221129T231619Z
UID:10006540-1673550000-1673557200@murphydeals.com
SUMMARY:Happy Birthday to the King in Laughlin
DESCRIPTION:Happy Birthday to the King! Starring Don Rose! Don has been called by his fans one of the hardest working men in show business. His stage charisma and his strong voice are what fans most compare him with to Elvis. Don Rose has performed his Elvis tributes all across the United States and Canada. His tributes to THE KING are said to be the best in the business. Don knows that there will never be another Elvis Presley and considers himself to be a bigger Elvis fan than an impersonator. Vocally trained in Orlando Florida and Nashville Tennessee\, Don works hard to make every event a special occasion and looks forward to meeting Elvis fans all around the world. Don’t miss the wonderful evening of entertainment reliving all the greatest songs from Elvis movies and Concerts in one high energy Show. \nGET TICKETS \n\n\n\nShow Time 7:00 PM PST\nFloor Seats: $36.00 + $4.36 SVC CHG + Tax\nRiser Seats: $30.00 + $4.36 SVC CHG + Tax\nLocals: Floor Seats $31.00 + $4.36 SVC CHG + Tax\nLocals: Riser Seats $25.00 + $4.36 SVC CHG + Tax
URL:https://murphydeals.com/event/happy-birthday-to-the-king-in-laughlin/2023-01-12/
LOCATION:Don Laughlin’s Riverside Resort Hotel and Casino\, 1650 S Casino Drive\, Laughlin\, Nevada\, 89029
CATEGORIES:Event,Music | Concerts
ATTACH;FMTTYPE=image/jpeg:https://murphydeals.com/wp-content/uploads/2022/10/download-6.jpg
END:VEVENT
BEGIN:VEVENT
DTSTART;TZID=America/Phoenix:20230113T190000
DTEND;TZID=America/Phoenix:20230113T210000
DTSTAMP:20260425T150853
CREATED:20221031T224746Z
LAST-MODIFIED:20221129T231619Z
UID:10006541-1673636400-1673643600@murphydeals.com
SUMMARY:Happy Birthday to the King in Laughlin
DESCRIPTION:Happy Birthday to the King! Starring Don Rose! Don has been called by his fans one of the hardest working men in show business. His stage charisma and his strong voice are what fans most compare him with to Elvis. Don Rose has performed his Elvis tributes all across the United States and Canada. His tributes to THE KING are said to be the best in the business. Don knows that there will never be another Elvis Presley and considers himself to be a bigger Elvis fan than an impersonator. Vocally trained in Orlando Florida and Nashville Tennessee\, Don works hard to make every event a special occasion and looks forward to meeting Elvis fans all around the world. Don’t miss the wonderful evening of entertainment reliving all the greatest songs from Elvis movies and Concerts in one high energy Show. \nGET TICKETS \n\n\n\nShow Time 7:00 PM PST\nFloor Seats: $36.00 + $4.36 SVC CHG + Tax\nRiser Seats: $30.00 + $4.36 SVC CHG + Tax\nLocals: Floor Seats $31.00 + $4.36 SVC CHG + Tax\nLocals: Riser Seats $25.00 + $4.36 SVC CHG + Tax
URL:https://murphydeals.com/event/happy-birthday-to-the-king-in-laughlin/2023-01-13/
LOCATION:Don Laughlin’s Riverside Resort Hotel and Casino\, 1650 S Casino Drive\, Laughlin\, Nevada\, 89029
CATEGORIES:Event,Music | Concerts
ATTACH;FMTTYPE=image/jpeg:https://murphydeals.com/wp-content/uploads/2022/10/download-6.jpg
END:VEVENT
BEGIN:VEVENT
DTSTART;TZID=America/Phoenix:20230114T190000
DTEND;TZID=America/Phoenix:20230114T210000
DTSTAMP:20260425T150853
CREATED:20221031T224746Z
LAST-MODIFIED:20221129T231619Z
UID:10006542-1673722800-1673730000@murphydeals.com
SUMMARY:Happy Birthday to the King in Laughlin
DESCRIPTION:Happy Birthday to the King! Starring Don Rose! Don has been called by his fans one of the hardest working men in show business. His stage charisma and his strong voice are what fans most compare him with to Elvis. Don Rose has performed his Elvis tributes all across the United States and Canada. His tributes to THE KING are said to be the best in the business. Don knows that there will never be another Elvis Presley and considers himself to be a bigger Elvis fan than an impersonator. Vocally trained in Orlando Florida and Nashville Tennessee\, Don works hard to make every event a special occasion and looks forward to meeting Elvis fans all around the world. Don’t miss the wonderful evening of entertainment reliving all the greatest songs from Elvis movies and Concerts in one high energy Show. \nGET TICKETS \n\n\n\nShow Time 7:00 PM PST\nFloor Seats: $36.00 + $4.36 SVC CHG + Tax\nRiser Seats: $30.00 + $4.36 SVC CHG + Tax\nLocals: Floor Seats $31.00 + $4.36 SVC CHG + Tax\nLocals: Riser Seats $25.00 + $4.36 SVC CHG + Tax
URL:https://murphydeals.com/event/happy-birthday-to-the-king-in-laughlin/2023-01-14/
LOCATION:Don Laughlin’s Riverside Resort Hotel and Casino\, 1650 S Casino Drive\, Laughlin\, Nevada\, 89029
CATEGORIES:Event,Music | Concerts
ATTACH;FMTTYPE=image/jpeg:https://murphydeals.com/wp-content/uploads/2022/10/download-6.jpg
END:VEVENT
BEGIN:VEVENT
DTSTART;TZID=America/Phoenix:20230115T190000
DTEND;TZID=America/Phoenix:20230115T210000
DTSTAMP:20260425T150853
CREATED:20221031T224746Z
LAST-MODIFIED:20221129T231619Z
UID:10006543-1673809200-1673816400@murphydeals.com
SUMMARY:Happy Birthday to the King in Laughlin
DESCRIPTION:Happy Birthday to the King! Starring Don Rose! Don has been called by his fans one of the hardest working men in show business. His stage charisma and his strong voice are what fans most compare him with to Elvis. Don Rose has performed his Elvis tributes all across the United States and Canada. His tributes to THE KING are said to be the best in the business. Don knows that there will never be another Elvis Presley and considers himself to be a bigger Elvis fan than an impersonator. Vocally trained in Orlando Florida and Nashville Tennessee\, Don works hard to make every event a special occasion and looks forward to meeting Elvis fans all around the world. Don’t miss the wonderful evening of entertainment reliving all the greatest songs from Elvis movies and Concerts in one high energy Show. \nGET TICKETS \n\n\n\nShow Time 7:00 PM PST\nFloor Seats: $36.00 + $4.36 SVC CHG + Tax\nRiser Seats: $30.00 + $4.36 SVC CHG + Tax\nLocals: Floor Seats $31.00 + $4.36 SVC CHG + Tax\nLocals: Riser Seats $25.00 + $4.36 SVC CHG + Tax
URL:https://murphydeals.com/event/happy-birthday-to-the-king-in-laughlin/2023-01-15/
LOCATION:Don Laughlin’s Riverside Resort Hotel and Casino\, 1650 S Casino Drive\, Laughlin\, Nevada\, 89029
CATEGORIES:Event,Music | Concerts
ATTACH;FMTTYPE=image/jpeg:https://murphydeals.com/wp-content/uploads/2022/10/download-6.jpg
END:VEVENT
END:VCALENDAR