BEGIN:VCALENDAR
VERSION:2.0
PRODID:-//Murphy Deals - ECPv6.15.20//NONSGML v1.0//EN
CALSCALE:GREGORIAN
METHOD:PUBLISH
X-ORIGINAL-URL:https://murphydeals.com
X-WR-CALDESC:Events for Murphy Deals
REFRESH-INTERVAL;VALUE=DURATION:PT1H
X-Robots-Tag:noindex
X-PUBLISHED-TTL:PT1H
BEGIN:VTIMEZONE
TZID:America/Phoenix
BEGIN:STANDARD
TZOFFSETFROM:-0700
TZOFFSETTO:-0700
TZNAME:MST
DTSTART:20220101T000000
END:STANDARD
END:VTIMEZONE
BEGIN:VEVENT
DTSTART;TZID=America/Phoenix:20230909T190000
DTEND;TZID=America/Phoenix:20230909T213000
DTSTAMP:20260425T120424
CREATED:20230501T165704Z
LAST-MODIFIED:20230501T165704Z
UID:10007727-1694286000-1694295000@murphydeals.com
SUMMARY:The Temptations at the Edge Pavilion in Laughlin
DESCRIPTION:The Temptations\, often referred to as “American Music Royalty\,” are world-renowned superstars of entertainment\, revered for their phenomenal catalog of music and prolific career. Named the “No. 1 R&B/Hip Hop Artists of All Time” and one of the “125 Greatest of All Time Artists” by Billboard magazine\, as well as one of the “100 Greatest Artists of All Time” by Rolling Stone Magazine\, the group’s 60-year history spans the 20th and 21st centuries\, and their music transcends generations. Throughout the group’s evolution\, The Temptations have produced 53 Billboard Hot 100 Hit singles\, including “My Girl\,” “I Can’t Get Next to You\,” “Just My Imagination” and “Papa Was a Rollin’ Stone\,” which became No. 1 pop singles. The Temptations have released 43 Top 10 R&B hit singles\, 14 of which were No. 1 R&B hits\, including timeless classics such as “Ain’t Too Proud to Beg\,” “Beauty Is Only Skin Deep\,” “I Wish It Would Rain” and songs influenced by their funk-psychedelic soul sound including “Happy People” and “Shakey Ground.” \nBUY TICKETS  \n 
URL:https://murphydeals.com/event/the-temptations-at-the-edge-pavilion-in-laughlin/
LOCATION:Edge Pavilion\, 2020 S Casino Drive\, Laughlin\, 89029\, 89029
CATEGORIES:Event,Music | Concerts
ATTACH;FMTTYPE=image/jpeg:https://murphydeals.com/wp-content/uploads/2023/05/temptation-1-e1682960070958.jpg
END:VEVENT
END:VCALENDAR