BEGIN:VCALENDAR
VERSION:2.0
PRODID:-//Murphy Deals - ECPv6.15.20//NONSGML v1.0//EN
CALSCALE:GREGORIAN
METHOD:PUBLISH
X-ORIGINAL-URL:https://murphydeals.com
X-WR-CALDESC:Events for Murphy Deals
REFRESH-INTERVAL;VALUE=DURATION:PT1H
X-Robots-Tag:noindex
X-PUBLISHED-TTL:PT1H
BEGIN:VTIMEZONE
TZID:America/Phoenix
BEGIN:STANDARD
TZOFFSETFROM:-0700
TZOFFSETTO:-0700
TZNAME:MST
DTSTART:20220101T000000
END:STANDARD
END:VTIMEZONE
BEGIN:VEVENT
DTSTART;TZID=America/Phoenix:20230623T180000
DTEND;TZID=America/Phoenix:20230623T210000
DTSTAMP:20260425T154334
CREATED:20230612T202333Z
LAST-MODIFIED:20230612T202333Z
UID:10008248-1687543200-1687554000@murphydeals.com
SUMMARY:The Terry Hopple Experience at Harleyz And Hot Rodz
DESCRIPTION:Come down to Harleyz And Hot Rodz to listen and sing along with Terry Hopple. He’s been rockin up and down The Colorado River for years. Not you average acoustic gig!
URL:https://murphydeals.com/event/the-terry-hopple-experience-at-harleyz-and-hot-rodz/
LOCATION:Harleyz And Hot Rodz\, 2061 Swanson Ave\, Lake Havasu City\, AZ\, 86403\, United States
CATEGORIES:Music | Concerts
ATTACH;FMTTYPE=image/jpeg:https://murphydeals.com/wp-content/uploads/2023/06/terry.hopple-e1686601364369.jpg
END:VEVENT
END:VCALENDAR