BEGIN:VCALENDAR
VERSION:2.0
PRODID:-//Murphy Deals - ECPv6.15.20//NONSGML v1.0//EN
CALSCALE:GREGORIAN
METHOD:PUBLISH
X-WR-CALNAME:Murphy Deals
X-ORIGINAL-URL:https://murphydeals.com
X-WR-CALDESC:Events for Murphy Deals
REFRESH-INTERVAL;VALUE=DURATION:PT1H
X-Robots-Tag:noindex
X-PUBLISHED-TTL:PT1H
BEGIN:VTIMEZONE
TZID:America/Phoenix
BEGIN:STANDARD
TZOFFSETFROM:-0700
TZOFFSETTO:-0700
TZNAME:MST
DTSTART:20220101T000000
END:STANDARD
END:VTIMEZONE
BEGIN:VEVENT
DTSTART;TZID=America/Phoenix:20230403T180000
DTEND;TZID=America/Phoenix:20230403T210000
DTSTAMP:20260425T124520
CREATED:20230327T180246Z
LAST-MODIFIED:20230327T180246Z
UID:10007381-1680544800-1680555600@murphydeals.com
SUMMARY:The UAPs at the Flying X Saloon in Lake Havasu
DESCRIPTION:The UAPs Band will be performing for the first time together at Flying X Saloon on Monday April 3rd from 6-9 PM. Come on down and enjoy an evening at The Flying X. \n 
URL:https://murphydeals.com/event/the-uaps-at-the-flying-x-saloon-in-lake-havasu/
LOCATION:Flying X Saloon\, 2030 McCulloch Blvd N\, Lake Havasu City\, AZ\, 86403
CATEGORIES:Music | Concerts
ATTACH;FMTTYPE=image/jpeg:https://murphydeals.com/wp-content/uploads/2023/03/theuaps-1-e1679940018793.jpg
END:VEVENT
END:VCALENDAR