BEGIN:VCALENDAR
VERSION:2.0
PRODID:-//Murphy Deals - ECPv6.15.20//NONSGML v1.0//EN
CALSCALE:GREGORIAN
METHOD:PUBLISH
X-ORIGINAL-URL:https://murphydeals.com
X-WR-CALDESC:Events for Murphy Deals
REFRESH-INTERVAL;VALUE=DURATION:PT1H
X-Robots-Tag:noindex
X-PUBLISHED-TTL:PT1H
BEGIN:VTIMEZONE
TZID:America/Phoenix
BEGIN:STANDARD
TZOFFSETFROM:-0700
TZOFFSETTO:-0700
TZNAME:MST
DTSTART:20220101T000000
END:STANDARD
END:VTIMEZONE
BEGIN:VEVENT
DTSTART;TZID=America/Phoenix:20230902T190000
DTEND;TZID=America/Phoenix:20230902T210000
DTSTAMP:20260425T113435
CREATED:20230626T181201Z
LAST-MODIFIED:20230626T181201Z
UID:10008278-1693681200-1693688400@murphydeals.com
SUMMARY:Three Dog Night at the Edge Pavilion
DESCRIPTION:Three Dog Night claims some of the most astonishing statistics in popular music. In the years from 1969 through 1974\, no other group achieved more top 10 hits\, moved more records or sold more concert tickets. Three Dog Night had 21 Top 40 hits between 1969 and 1975\, with “Mama Told Me Not to Come\,” “Joy to the World” and “Black and White” reaching No. 1 in the U.S.  The GRAMMY nominated band had 21 consecutive Top 40 hits\, including the three No. 1 singles\, 11 Top 10s\, 18 straight Top 20s\, seven million-selling singles and 12 straight RIAA Certified Gold LPs. The hits appeared on best-selling charts in rock\, pop and country genres. \nBUY TICKETS  \n  \n 
URL:https://murphydeals.com/event/three-dog-night-at-the-edge-pavilion/
LOCATION:Edge Pavilion\, 2020 S Casino Drive\, Laughlin\, 89029\, 89029
CATEGORIES:Music | Concerts
ATTACH;FMTTYPE=image/jpeg:https://murphydeals.com/wp-content/uploads/2023/06/3dog-e1687803057776.jpg
END:VEVENT
END:VCALENDAR