BEGIN:VCALENDAR
VERSION:2.0
PRODID:-//Murphy Deals - ECPv6.15.20//NONSGML v1.0//EN
CALSCALE:GREGORIAN
METHOD:PUBLISH
X-WR-CALNAME:Murphy Deals
X-ORIGINAL-URL:https://murphydeals.com
X-WR-CALDESC:Events for Murphy Deals
REFRESH-INTERVAL;VALUE=DURATION:PT1H
X-Robots-Tag:noindex
X-PUBLISHED-TTL:PT1H
BEGIN:VTIMEZONE
TZID:America/Phoenix
BEGIN:STANDARD
TZOFFSETFROM:-0700
TZOFFSETTO:-0700
TZNAME:MST
DTSTART:20220101T000000
END:STANDARD
END:VTIMEZONE
BEGIN:VEVENT
DTSTART;TZID=America/Phoenix:20231203T120000
DTEND;TZID=America/Phoenix:20231203T170000
DTSTAMP:20260425T151821
CREATED:20230414T183303Z
LAST-MODIFIED:20230414T183303Z
UID:10007516-1701604800-1701622800@murphydeals.com
SUMMARY:River Riders M/C 40th Annual Toy Run at the Pirate's Den in Parker
DESCRIPTION:Meet the River Riders Motorcycle Club and about 1\,500+ of your friends and neighbors at Pirate’s Den in Parker (Arizona side) before noon for the 40th Annual Toy Run! 2017’s event brought over 1\,800 bikes and about 5\,000 people on the boulevard\, and participants donated well over 3\,000 toys. \nSTART LOCATION\nAt 12pm sharp\, depart from the Pirate’s Den in Parker (Arizona side) for a leisurely putt to the Flying X Saloon in Lake Havasu City (2030 N. McCulloch Blvd) where toys will be collected for distribution to children whose families are experiencing difficult times. All street-legal motorcycles and trikes are welcome to participate and please arrive early so everyone can ride together. All new\, unwrapped toys will be collected at the end of the run. There will be plenty of food and a live band at the finish. Don’t miss out on the 50/50 drawing! Contact Paul Blazer for more information. \nSpectators who wish to line Main Street to watch the River Riders pull in are invited to come down to McCulloch Blvd N at 12:30 p.m. \nWhile you are out and about\, make sure to stop by the New Horizons beer garden by Flying X Saloon from noon to 4pm; all proceeds will go to New Horizons. \nMcCulloch Blvd will be closed from Smoketree Ave to Acoma Blvd. There will be plenty of spectator parking behind the businesses off of Mesquite Ave or Swanson Ave. Please plan accordingly. Event dates\, times and/or details are subject to change. Please contact event coordinator to verify information. \nFree
URL:https://murphydeals.com/event/river-riders-m-c-40th-annual-toy-run-at-the-pirates-den-in-parker/
LOCATION:Pirate’s Den\, 7350 Riverside Dr\, Parker\, AZ\, 85344\, United States
CATEGORIES:Event
ATTACH;FMTTYPE=image/jpeg:https://murphydeals.com/wp-content/uploads/2023/04/motorcycles-e1681496837725.jpg
END:VEVENT
BEGIN:VEVENT
DTSTART;TZID=America/Phoenix:20230129T180000
DTEND;TZID=America/Phoenix:20230129T233000
DTSTAMP:20260425T151821
CREATED:20221108T203544Z
LAST-MODIFIED:20230124T172338Z
UID:10007105-1675015200-1675035000@murphydeals.com
SUMMARY:Flying X Saloon Entertainment
DESCRIPTION:Jan 20-21 Shotgun Jefferson 8pm\nJan 22 The Black Donnellys 6pm\nJan 23 Jam Night 6pm\nJan 25 Dry Heat 6pm\nJan 26 TBD\nJan 27-28 Brad Johnson 8pm\nJan 29 Tyler Halsey 6pm\nJan 30 Jam Night 6pm
URL:https://murphydeals.com/event/river-riders-m-c-39th-annual-toy-run-at-flying-x-in-lake-havasu-city/2023-01-29/
LOCATION:Flying X Saloon\, 2030 McCulloch Blvd N\, Lake Havasu City\, AZ\, 86403
CATEGORIES:Event
ATTACH;FMTTYPE=image/webp:https://murphydeals.com/wp-content/uploads/2022/11/FlyingX-e1674580891336.webp
END:VEVENT
BEGIN:VEVENT
DTSTART;TZID=America/Phoenix:20230128T200000
DTEND;TZID=America/Phoenix:20230128T233000
DTSTAMP:20260425T151821
CREATED:20221108T203544Z
LAST-MODIFIED:20230124T172338Z
UID:10007104-1674936000-1674948600@murphydeals.com
SUMMARY:Flying X Saloon Entertainment
DESCRIPTION:Jan 20-21 Shotgun Jefferson 8pm\nJan 22 The Black Donnellys 6pm\nJan 23 Jam Night 6pm\nJan 25 Dry Heat 6pm\nJan 26 TBD\nJan 27-28 Brad Johnson 8pm\nJan 29 Tyler Halsey 6pm\nJan 30 Jam Night 6pm
URL:https://murphydeals.com/event/river-riders-m-c-39th-annual-toy-run-at-flying-x-in-lake-havasu-city/2023-01-28/
LOCATION:Flying X Saloon\, 2030 McCulloch Blvd N\, Lake Havasu City\, AZ\, 86403
CATEGORIES:Event
ATTACH;FMTTYPE=image/webp:https://murphydeals.com/wp-content/uploads/2022/11/FlyingX-e1674580891336.webp
END:VEVENT
BEGIN:VEVENT
DTSTART;TZID=America/Phoenix:20230127T200000
DTEND;TZID=America/Phoenix:20230127T233000
DTSTAMP:20260425T151821
CREATED:20221108T203544Z
LAST-MODIFIED:20230124T172338Z
UID:10007103-1674849600-1674862200@murphydeals.com
SUMMARY:Flying X Saloon Entertainment
DESCRIPTION:Jan 20-21 Shotgun Jefferson 8pm\nJan 22 The Black Donnellys 6pm\nJan 23 Jam Night 6pm\nJan 25 Dry Heat 6pm\nJan 26 TBD\nJan 27-28 Brad Johnson 8pm\nJan 29 Tyler Halsey 6pm\nJan 30 Jam Night 6pm
URL:https://murphydeals.com/event/river-riders-m-c-39th-annual-toy-run-at-flying-x-in-lake-havasu-city/2023-01-27/
LOCATION:Flying X Saloon\, 2030 McCulloch Blvd N\, Lake Havasu City\, AZ\, 86403
CATEGORIES:Event
ATTACH;FMTTYPE=image/webp:https://murphydeals.com/wp-content/uploads/2022/11/FlyingX-e1674580891336.webp
END:VEVENT
BEGIN:VEVENT
DTSTART;TZID=America/Phoenix:20230125T180000
DTEND;TZID=America/Phoenix:20230125T233000
DTSTAMP:20260425T151821
CREATED:20221108T203544Z
LAST-MODIFIED:20230124T172338Z
UID:10007102-1674669600-1674689400@murphydeals.com
SUMMARY:Flying X Saloon Entertainment
DESCRIPTION:Jan 20-21 Shotgun Jefferson 8pm\nJan 22 The Black Donnellys 6pm\nJan 23 Jam Night 6pm\nJan 25 Dry Heat 6pm\nJan 26 TBD\nJan 27-28 Brad Johnson 8pm\nJan 29 Tyler Halsey 6pm\nJan 30 Jam Night 6pm
URL:https://murphydeals.com/event/river-riders-m-c-39th-annual-toy-run-at-flying-x-in-lake-havasu-city/2023-01-25/
LOCATION:Flying X Saloon\, 2030 McCulloch Blvd N\, Lake Havasu City\, AZ\, 86403
CATEGORIES:Event
ATTACH;FMTTYPE=image/webp:https://murphydeals.com/wp-content/uploads/2022/11/FlyingX-e1674580891336.webp
END:VEVENT
BEGIN:VEVENT
DTSTART;TZID=America/Phoenix:20230122T180000
DTEND;TZID=America/Phoenix:20230122T233000
DTSTAMP:20260425T151822
CREATED:20221108T203544Z
LAST-MODIFIED:20230124T172338Z
UID:10007101-1674410400-1674430200@murphydeals.com
SUMMARY:Flying X Saloon Entertainment
DESCRIPTION:Jan 20-21 Shotgun Jefferson 8pm\nJan 22 The Black Donnellys 6pm\nJan 23 Jam Night 6pm\nJan 25 Dry Heat 6pm\nJan 26 TBD\nJan 27-28 Brad Johnson 8pm\nJan 29 Tyler Halsey 6pm\nJan 30 Jam Night 6pm
URL:https://murphydeals.com/event/river-riders-m-c-39th-annual-toy-run-at-flying-x-in-lake-havasu-city/2023-01-22/
LOCATION:Flying X Saloon\, 2030 McCulloch Blvd N\, Lake Havasu City\, AZ\, 86403
CATEGORIES:Event
ATTACH;FMTTYPE=image/webp:https://murphydeals.com/wp-content/uploads/2022/11/FlyingX-e1674580891336.webp
END:VEVENT
BEGIN:VEVENT
DTSTART;TZID=America/Phoenix:20230121T200000
DTEND;TZID=America/Phoenix:20230121T233000
DTSTAMP:20260425T151822
CREATED:20221108T203544Z
LAST-MODIFIED:20230124T172338Z
UID:10007100-1674331200-1674343800@murphydeals.com
SUMMARY:Flying X Saloon Entertainment
DESCRIPTION:Jan 20-21 Shotgun Jefferson 8pm\nJan 22 The Black Donnellys 6pm\nJan 23 Jam Night 6pm\nJan 25 Dry Heat 6pm\nJan 26 TBD\nJan 27-28 Brad Johnson 8pm\nJan 29 Tyler Halsey 6pm\nJan 30 Jam Night 6pm
URL:https://murphydeals.com/event/river-riders-m-c-39th-annual-toy-run-at-flying-x-in-lake-havasu-city/2023-01-21/
LOCATION:Flying X Saloon\, 2030 McCulloch Blvd N\, Lake Havasu City\, AZ\, 86403
CATEGORIES:Event
ATTACH;FMTTYPE=image/webp:https://murphydeals.com/wp-content/uploads/2022/11/FlyingX-e1674580891336.webp
END:VEVENT
BEGIN:VEVENT
DTSTART;TZID=America/Phoenix:20230120T200000
DTEND;TZID=America/Phoenix:20230120T233000
DTSTAMP:20260425T151822
CREATED:20221108T203544Z
LAST-MODIFIED:20230124T172338Z
UID:10007099-1674244800-1674257400@murphydeals.com
SUMMARY:Flying X Saloon Entertainment
DESCRIPTION:Jan 20-21 Shotgun Jefferson 8pm\nJan 22 The Black Donnellys 6pm\nJan 23 Jam Night 6pm\nJan 25 Dry Heat 6pm\nJan 26 TBD\nJan 27-28 Brad Johnson 8pm\nJan 29 Tyler Halsey 6pm\nJan 30 Jam Night 6pm
URL:https://murphydeals.com/event/river-riders-m-c-39th-annual-toy-run-at-flying-x-in-lake-havasu-city/2023-01-20/
LOCATION:Flying X Saloon\, 2030 McCulloch Blvd N\, Lake Havasu City\, AZ\, 86403
CATEGORIES:Event
ATTACH;FMTTYPE=image/webp:https://murphydeals.com/wp-content/uploads/2022/11/FlyingX-e1674580891336.webp
END:VEVENT
END:VCALENDAR