BEGIN:VCALENDAR
VERSION:2.0
PRODID:-//Murphy Deals - ECPv6.15.20//NONSGML v1.0//EN
CALSCALE:GREGORIAN
METHOD:PUBLISH
X-ORIGINAL-URL:https://murphydeals.com
X-WR-CALDESC:Events for Murphy Deals
REFRESH-INTERVAL;VALUE=DURATION:PT1H
X-Robots-Tag:noindex
X-PUBLISHED-TTL:PT1H
BEGIN:VTIMEZONE
TZID:America/Phoenix
BEGIN:STANDARD
TZOFFSETFROM:-0700
TZOFFSETTO:-0700
TZNAME:MST
DTSTART:20220101T000000
END:STANDARD
END:VTIMEZONE
BEGIN:VEVENT
DTSTART;TZID=America/Phoenix:20230115T070000
DTEND;TZID=America/Phoenix:20230115T220000
DTSTAMP:20260425T093523
CREATED:20221128T235639Z
LAST-MODIFIED:20221128T235639Z
UID:10006652-1673766000-1673820000@murphydeals.com
SUMMARY:Buses by the Bridge at Lake Havasu State Park\, Windsor 4
DESCRIPTION:It’s time for a cruise and blast to the past! \nEnjoy more than 600 Volkwagen buses at this year’s Buses by the Bridge. \nWhat started as a split-window campout has turned into a Volkswagen extravaganza with VW buses coming from all over the county to camp out in our Lake Havasu State Park. \nThis event will showcase VW buses of all makes and models including vintage. \nGather the kids on this bright and beautiful Saturday to help burn off some extra energy in the bouncy houses. \nFor some adult fun\, we encourage you to enjoy a scenic hot air balloon ride or participate in the chili cook-off. The finale of this groovy event will be a delicious pancake breakfast on Sunday morning. \nENTRANCE FEES $5 per person for walk-in spectators (children 17 years old and younger are free)\, good all weekend. See the Buses by the Bridge fees for camping rates. \nFor a full event schedule\, click here \nCampers\, motorhomes\, trailers\, non-VW Vans\, etc. can park in the designated RV parking area. Pre-registration NOT required. There is space to accommodate over 600 vehicles. Parking is first come-first served\, however\, State Park rules apply. \n\nPets are welcome\, but must be on a leash at all times (this means all pets\, not just dogs). Absolutely no pets are allowed on the beach at any time (State Park rule).\nYou must pick up after your pet!\nNo glass! No glass containers are allowed (State Park rule).\nQuiet time begins at 10pm (State Park rule).\nNo fires on grass-no exceptions!\n\nFree spectator parking is available\, use the entrance next to the Bridgewater Motel off London Bridge Rd. Event dates and times are subject to change. Please contact event coordinator to verify information or visit busesbythebridge.com.
URL:https://murphydeals.com/event/buses-by-the-bridge-at-lake-havasu-state-park-windsor-4/2023-01-15/
LOCATION:Windsor 4 Beach\, Lake Havasu State Park\, Lake Havasu City\, AZ\, United States
CATEGORIES:Event
ATTACH;FMTTYPE=image/jpeg:https://murphydeals.com/wp-content/uploads/2022/11/Buses-by-the-Bridge-e1669679455647.jpg
END:VEVENT
BEGIN:VEVENT
DTSTART;TZID=America/Phoenix:20230114T083000
DTEND;TZID=America/Phoenix:20230114T220000
DTSTAMP:20260425T093523
CREATED:20221128T235639Z
LAST-MODIFIED:20221128T235639Z
UID:10006651-1673685000-1673733600@murphydeals.com
SUMMARY:Buses by the Bridge at Lake Havasu State Park\, Windsor 4
DESCRIPTION:It’s time for a cruise and blast to the past! \nEnjoy more than 600 Volkwagen buses at this year’s Buses by the Bridge. \nWhat started as a split-window campout has turned into a Volkswagen extravaganza with VW buses coming from all over the county to camp out in our Lake Havasu State Park. \nThis event will showcase VW buses of all makes and models including vintage. \nGather the kids on this bright and beautiful Saturday to help burn off some extra energy in the bouncy houses. \nFor some adult fun\, we encourage you to enjoy a scenic hot air balloon ride or participate in the chili cook-off. The finale of this groovy event will be a delicious pancake breakfast on Sunday morning. \nENTRANCE FEES $5 per person for walk-in spectators (children 17 years old and younger are free)\, good all weekend. See the Buses by the Bridge fees for camping rates. \nFor a full event schedule\, click here \nCampers\, motorhomes\, trailers\, non-VW Vans\, etc. can park in the designated RV parking area. Pre-registration NOT required. There is space to accommodate over 600 vehicles. Parking is first come-first served\, however\, State Park rules apply. \n\nPets are welcome\, but must be on a leash at all times (this means all pets\, not just dogs). Absolutely no pets are allowed on the beach at any time (State Park rule).\nYou must pick up after your pet!\nNo glass! No glass containers are allowed (State Park rule).\nQuiet time begins at 10pm (State Park rule).\nNo fires on grass-no exceptions!\n\nFree spectator parking is available\, use the entrance next to the Bridgewater Motel off London Bridge Rd. Event dates and times are subject to change. Please contact event coordinator to verify information or visit busesbythebridge.com.
URL:https://murphydeals.com/event/buses-by-the-bridge-at-lake-havasu-state-park-windsor-4/2023-01-14/
LOCATION:Windsor 4 Beach\, Lake Havasu State Park\, Lake Havasu City\, AZ\, United States
CATEGORIES:Event
ATTACH;FMTTYPE=image/jpeg:https://murphydeals.com/wp-content/uploads/2022/11/Buses-by-the-Bridge-e1669679455647.jpg
END:VEVENT
BEGIN:VEVENT
DTSTART;TZID=America/Phoenix:20230113T100000
DTEND;TZID=America/Phoenix:20230113T220000
DTSTAMP:20260425T093523
CREATED:20221128T235639Z
LAST-MODIFIED:20221128T235639Z
UID:10006650-1673604000-1673647200@murphydeals.com
SUMMARY:Buses by the Bridge at Lake Havasu State Park\, Windsor 4
DESCRIPTION:It’s time for a cruise and blast to the past! \nEnjoy more than 600 Volkwagen buses at this year’s Buses by the Bridge. \nWhat started as a split-window campout has turned into a Volkswagen extravaganza with VW buses coming from all over the county to camp out in our Lake Havasu State Park. \nThis event will showcase VW buses of all makes and models including vintage. \nGather the kids on this bright and beautiful Saturday to help burn off some extra energy in the bouncy houses. \nFor some adult fun\, we encourage you to enjoy a scenic hot air balloon ride or participate in the chili cook-off. The finale of this groovy event will be a delicious pancake breakfast on Sunday morning. \nENTRANCE FEES $5 per person for walk-in spectators (children 17 years old and younger are free)\, good all weekend. See the Buses by the Bridge fees for camping rates. \nFor a full event schedule\, click here \nCampers\, motorhomes\, trailers\, non-VW Vans\, etc. can park in the designated RV parking area. Pre-registration NOT required. There is space to accommodate over 600 vehicles. Parking is first come-first served\, however\, State Park rules apply. \n\nPets are welcome\, but must be on a leash at all times (this means all pets\, not just dogs). Absolutely no pets are allowed on the beach at any time (State Park rule).\nYou must pick up after your pet!\nNo glass! No glass containers are allowed (State Park rule).\nQuiet time begins at 10pm (State Park rule).\nNo fires on grass-no exceptions!\n\nFree spectator parking is available\, use the entrance next to the Bridgewater Motel off London Bridge Rd. Event dates and times are subject to change. Please contact event coordinator to verify information or visit busesbythebridge.com.
URL:https://murphydeals.com/event/buses-by-the-bridge-at-lake-havasu-state-park-windsor-4/2023-01-13/
LOCATION:Windsor 4 Beach\, Lake Havasu State Park\, Lake Havasu City\, AZ\, United States
CATEGORIES:Event
ATTACH;FMTTYPE=image/jpeg:https://murphydeals.com/wp-content/uploads/2022/11/Buses-by-the-Bridge-e1669679455647.jpg
END:VEVENT
END:VCALENDAR