BEGIN:VCALENDAR
VERSION:2.0
PRODID:-//Murphy Deals - ECPv6.15.20//NONSGML v1.0//EN
CALSCALE:GREGORIAN
METHOD:PUBLISH
X-ORIGINAL-URL:https://murphydeals.com
X-WR-CALDESC:Events for Murphy Deals
REFRESH-INTERVAL;VALUE=DURATION:PT1H
X-Robots-Tag:noindex
X-PUBLISHED-TTL:PT1H
BEGIN:VTIMEZONE
TZID:America/Phoenix
BEGIN:STANDARD
TZOFFSETFROM:-0700
TZOFFSETTO:-0700
TZNAME:MST
DTSTART:20220101T000000
END:STANDARD
END:VTIMEZONE
BEGIN:VEVENT
DTSTART;TZID=America/Phoenix:20230623T190000
DTEND;TZID=America/Phoenix:20230623T220000
DTSTAMP:20260425T143902
CREATED:20230227T165144Z
LAST-MODIFIED:20230526T171645Z
UID:10007289-1687546800-1687557600@murphydeals.com
SUMMARY:Whiptail at Rickety Cricket Brewing
DESCRIPTION:
URL:https://murphydeals.com/event/whiptail-at-rickety-cricket-brewing/2023-06-23/
LOCATION:Rickety Cricket Brewing\, 312 E Beale St\, Kingman\, AZ\, 86401\, United States
CATEGORIES:Music | Concerts
ATTACH;FMTTYPE=image/jpeg:https://murphydeals.com/wp-content/uploads/2022/09/RCGO-e1664393502436.jpg
END:VEVENT
BEGIN:VEVENT
DTSTART;TZID=America/Phoenix:20230609T200000
DTEND;TZID=America/Phoenix:20230609T233000
DTSTAMP:20260425T143902
CREATED:20230224T231909Z
LAST-MODIFIED:20230526T172636Z
UID:10007281-1686340800-1686353400@murphydeals.com
SUMMARY:Whiptail at The Office Cocktail Lounge
DESCRIPTION:
URL:https://murphydeals.com/event/whiptail-at-the-office-cocktail-lounge/
LOCATION:The Office Cocktail Lounge & Grill\, 2180 W Acoma Blvd\, Lake Havasu City\, AZ\, 86403\, United States
CATEGORIES:Music | Concerts
ATTACH;FMTTYPE=image/jpeg:https://murphydeals.com/wp-content/uploads/2023/02/whiptail-e1677274949767.jpg
END:VEVENT
BEGIN:VEVENT
DTSTART;TZID=America/Phoenix:20230527T190000
DTEND;TZID=America/Phoenix:20230527T220000
DTSTAMP:20260425T143902
CREATED:20230227T165144Z
LAST-MODIFIED:20230526T171645Z
UID:10007288-1685214000-1685224800@murphydeals.com
SUMMARY:Whiptail at Rickety Cricket Brewing
DESCRIPTION:
URL:https://murphydeals.com/event/whiptail-at-rickety-cricket-brewing/2023-05-27/
LOCATION:Rickety Cricket Brewing\, 312 E Beale St\, Kingman\, AZ\, 86401\, United States
CATEGORIES:Music | Concerts
ATTACH;FMTTYPE=image/jpeg:https://murphydeals.com/wp-content/uploads/2022/09/RCGO-e1664393502436.jpg
END:VEVENT
BEGIN:VEVENT
DTSTART;TZID=America/Phoenix:20230513T200000
DTEND;TZID=America/Phoenix:20230513T230000
DTSTAMP:20260425T143902
CREATED:20230224T221016Z
LAST-MODIFIED:20230224T221224Z
UID:10007280-1684008000-1684018800@murphydeals.com
SUMMARY:Whiptail at Harleyz & Hot Rodz
DESCRIPTION:
URL:https://murphydeals.com/event/whiptail-at-harleyz-hot-rodz/2023-05-13/
LOCATION:Harleyz And Hot Rodz\, 2061 Swanson Ave\, Lake Havasu City\, AZ\, 86403\, United States
CATEGORIES:Music | Concerts
ATTACH;FMTTYPE=image/jpeg:https://murphydeals.com/wp-content/uploads/2023/02/hotrodz-e1677265025579.jpg
END:VEVENT
BEGIN:VEVENT
DTSTART;TZID=America/Phoenix:20230505T180000
DTEND;TZID=America/Phoenix:20230505T210000
DTSTAMP:20260425T143902
CREATED:20230227T160624Z
LAST-MODIFIED:20230227T160624Z
UID:10007283-1683309600-1683320400@murphydeals.com
SUMMARY:Whiptail at Roadhouse 95 Grill
DESCRIPTION:
URL:https://murphydeals.com/event/whiptail-at-roadhouse-95-grill/2023-05-05/
LOCATION:Roadhouse 95 Grill\, 5100 S Highway 95\, Fort Mohave\, AZ\, 86426\, United States
CATEGORIES:Music | Concerts
ATTACH;FMTTYPE=image/jpeg:https://murphydeals.com/wp-content/uploads/2023/02/roadhouse-1-e1677513773340.jpg
END:VEVENT
BEGIN:VEVENT
DTSTART;TZID=America/Phoenix:20230429T193000
DTEND;TZID=America/Phoenix:20230429T233000
DTSTAMP:20260425T143902
CREATED:20230227T163156Z
LAST-MODIFIED:20230321T000848Z
UID:10007286-1682796600-1682811000@murphydeals.com
SUMMARY:Whiptail at O’Leary’s Pub
DESCRIPTION:
URL:https://murphydeals.com/event/whiptail-at-olearys-pub/2023-04-29/
LOCATION:O’Leary’s Pub\, 1063 Highway 95\, Bullhead City\, AZ\, 86429\, United States
CATEGORIES:Music | Concerts
ATTACH;FMTTYPE=image/jpeg:https://murphydeals.com/wp-content/uploads/2023/02/group-of-friends-in-a-pub-2021-09-01-18-55-46-utc-1-e1679357304857.jpg
END:VEVENT
BEGIN:VEVENT
DTSTART;TZID=America/Phoenix:20230422T190000
DTEND;TZID=America/Phoenix:20230422T220000
DTSTAMP:20260425T143902
CREATED:20230227T165144Z
LAST-MODIFIED:20230526T171645Z
UID:10007287-1682190000-1682200800@murphydeals.com
SUMMARY:Whiptail at Rickety Cricket Brewing
DESCRIPTION:
URL:https://murphydeals.com/event/whiptail-at-rickety-cricket-brewing/2023-04-22/
LOCATION:Rickety Cricket Brewing\, 312 E Beale St\, Kingman\, AZ\, 86401\, United States
CATEGORIES:Music | Concerts
ATTACH;FMTTYPE=image/jpeg:https://murphydeals.com/wp-content/uploads/2022/09/RCGO-e1664393502436.jpg
END:VEVENT
BEGIN:VEVENT
DTSTART;TZID=America/Phoenix:20230416T140000
DTEND;TZID=America/Phoenix:20230416T180000
DTSTAMP:20260425T143902
CREATED:20230227T163156Z
LAST-MODIFIED:20230321T000848Z
UID:10007285-1681653600-1681668000@murphydeals.com
SUMMARY:Whiptail at O’Leary’s Pub
DESCRIPTION:
URL:https://murphydeals.com/event/whiptail-at-olearys-pub/2023-04-16/
LOCATION:O’Leary’s Pub\, 1063 Highway 95\, Bullhead City\, AZ\, 86429\, United States
CATEGORIES:Music | Concerts
ATTACH;FMTTYPE=image/jpeg:https://murphydeals.com/wp-content/uploads/2023/02/group-of-friends-in-a-pub-2021-09-01-18-55-46-utc-1-e1679357304857.jpg
END:VEVENT
BEGIN:VEVENT
DTSTART;TZID=America/Phoenix:20230408T200000
DTEND;TZID=America/Phoenix:20230408T230000
DTSTAMP:20260425T143902
CREATED:20230224T221016Z
LAST-MODIFIED:20230224T221224Z
UID:10007279-1680984000-1680994800@murphydeals.com
SUMMARY:Whiptail at Harleyz & Hot Rodz
DESCRIPTION:
URL:https://murphydeals.com/event/whiptail-at-harleyz-hot-rodz/2023-04-08/
LOCATION:Harleyz And Hot Rodz\, 2061 Swanson Ave\, Lake Havasu City\, AZ\, 86403\, United States
CATEGORIES:Music | Concerts
ATTACH;FMTTYPE=image/jpeg:https://murphydeals.com/wp-content/uploads/2023/02/hotrodz-e1677265025579.jpg
END:VEVENT
BEGIN:VEVENT
DTSTART;TZID=America/Phoenix:20230401T200000
DTEND;TZID=America/Phoenix:20230401T230000
DTSTAMP:20260425T143902
CREATED:20230227T161651Z
LAST-MODIFIED:20230227T161651Z
UID:10007284-1680379200-1680390000@murphydeals.com
SUMMARY:Whiptail at Riviera Roadhouse
DESCRIPTION:
URL:https://murphydeals.com/event/whiptail-at-riviera-roadhouse/
LOCATION:Riviera Roadhouse\, 2011 Commercial Way #3\, Bullhead City\, AZ\, 86442
CATEGORIES:Music | Concerts
ATTACH;FMTTYPE=image/jpeg:https://murphydeals.com/wp-content/uploads/2023/02/rivierardhouse-1-e1677514576227.jpg
END:VEVENT
BEGIN:VEVENT
DTSTART;TZID=America/Phoenix:20230331T193000
DTEND;TZID=America/Phoenix:20230331T223000
DTSTAMP:20260425T143902
CREATED:20230227T163156Z
LAST-MODIFIED:20230321T000848Z
UID:10007331-1680291000-1680301800@murphydeals.com
SUMMARY:Whiptail at O’Leary’s Pub
DESCRIPTION:
URL:https://murphydeals.com/event/whiptail-at-olearys-pub/2023-03-31/
LOCATION:O’Leary’s Pub\, 1063 Highway 95\, Bullhead City\, AZ\, 86429\, United States
CATEGORIES:Music | Concerts
ATTACH;FMTTYPE=image/jpeg:https://murphydeals.com/wp-content/uploads/2023/02/group-of-friends-in-a-pub-2021-09-01-18-55-46-utc-1-e1679357304857.jpg
END:VEVENT
BEGIN:VEVENT
DTSTART;TZID=America/Phoenix:20230303T180000
DTEND;TZID=America/Phoenix:20230303T210000
DTSTAMP:20260425T143902
CREATED:20230227T160624Z
LAST-MODIFIED:20230227T160624Z
UID:10007282-1677866400-1677877200@murphydeals.com
SUMMARY:Whiptail at Roadhouse 95 Grill
DESCRIPTION:
URL:https://murphydeals.com/event/whiptail-at-roadhouse-95-grill/2023-03-03/
LOCATION:Roadhouse 95 Grill\, 5100 S Highway 95\, Fort Mohave\, AZ\, 86426\, United States
CATEGORIES:Music | Concerts
ATTACH;FMTTYPE=image/jpeg:https://murphydeals.com/wp-content/uploads/2023/02/roadhouse-1-e1677513773340.jpg
END:VEVENT
END:VCALENDAR