BEGIN:VCALENDAR
VERSION:2.0
PRODID:-//Murphy Deals - ECPv6.15.20//NONSGML v1.0//EN
CALSCALE:GREGORIAN
METHOD:PUBLISH
X-WR-CALNAME:Murphy Deals
X-ORIGINAL-URL:https://murphydeals.com
X-WR-CALDESC:Events for Murphy Deals
REFRESH-INTERVAL;VALUE=DURATION:PT1H
X-Robots-Tag:noindex
X-PUBLISHED-TTL:PT1H
BEGIN:VTIMEZONE
TZID:America/Phoenix
BEGIN:STANDARD
TZOFFSETFROM:-0700
TZOFFSETTO:-0700
TZNAME:MST
DTSTART:20210101T000000
END:STANDARD
END:VTIMEZONE
BEGIN:VEVENT
DTSTART;TZID=America/Phoenix:20231126T080000
DTEND;TZID=America/Phoenix:20231126T170000
DTSTAMP:20260425T110605
CREATED:20230414T181759Z
LAST-MODIFIED:20230414T181759Z
UID:10007515-1700985600-1701018000@murphydeals.com
SUMMARY:6th Annual It’s All Good Lake Havasu Yoga Festival at the Nautical Beachfront Resort
DESCRIPTION:Enjoy an immersive weekend of a FREE yoga retreat with the beauty of Lake Havasu as your backdrop at the Nautical Beachfront Resort. Yoga lovers of all ages and experiences are welcome at the 6th Annual It’s All Good Lake Havasu Yoga Festival! (The link is to the 5th annual festival held in November 2022; it will be updated as information becomes available!) \nThis will be a casual weekend of exploring different styles of yoga while encouraging self discovery! \nAttend any of the weekend’s 90-minute Yoga Classes this year – donations are welcome (donors will receive a free yoga class at Ben Hicks Studio!) Donations can be made at the event or online here! \nClasses are scheduled daily to embody the foundations of traditional yoga. This year’s theme is “honor\,” to help honor a lifestyle free from stress\, make a pact with yourself to honor your true nature and full potential. \nThis is a FREE EVENT sponsored by Ben Hicks Yoga\, arrive to the yoga class on time to make sure you get a spot. \nCheck out the schedule! \nFree
URL:https://murphydeals.com/event/6th-annual-its-all-good-lake-havasu-yoga-festival-at-the-nautical-beachfront-resort/2023-11-26/
LOCATION:Nautical Beachfront Resort\, 1000 McCulloch Blvd N\, Lake Havasu City\, AZ\, 86403\, United States
CATEGORIES:Event
ATTACH;FMTTYPE=image/jpeg:https://murphydeals.com/wp-content/uploads/2023/04/a-happy-group-of-people-from-men-and-women-practic-2022-05-31-22-21-48-utc-1-e1681495877805.jpg
END:VEVENT
BEGIN:VEVENT
DTSTART;TZID=America/Phoenix:20231125T070000
DTEND;TZID=America/Phoenix:20231125T183000
DTSTAMP:20260425T110605
CREATED:20230414T181759Z
LAST-MODIFIED:20230414T181759Z
UID:10007514-1700895600-1700937000@murphydeals.com
SUMMARY:6th Annual It’s All Good Lake Havasu Yoga Festival at the Nautical Beachfront Resort
DESCRIPTION:Enjoy an immersive weekend of a FREE yoga retreat with the beauty of Lake Havasu as your backdrop at the Nautical Beachfront Resort. Yoga lovers of all ages and experiences are welcome at the 6th Annual It’s All Good Lake Havasu Yoga Festival! (The link is to the 5th annual festival held in November 2022; it will be updated as information becomes available!) \nThis will be a casual weekend of exploring different styles of yoga while encouraging self discovery! \nAttend any of the weekend’s 90-minute Yoga Classes this year – donations are welcome (donors will receive a free yoga class at Ben Hicks Studio!) Donations can be made at the event or online here! \nClasses are scheduled daily to embody the foundations of traditional yoga. This year’s theme is “honor\,” to help honor a lifestyle free from stress\, make a pact with yourself to honor your true nature and full potential. \nThis is a FREE EVENT sponsored by Ben Hicks Yoga\, arrive to the yoga class on time to make sure you get a spot. \nCheck out the schedule! \nFree
URL:https://murphydeals.com/event/6th-annual-its-all-good-lake-havasu-yoga-festival-at-the-nautical-beachfront-resort/2023-11-25/
LOCATION:Nautical Beachfront Resort\, 1000 McCulloch Blvd N\, Lake Havasu City\, AZ\, 86403\, United States
CATEGORIES:Event
ATTACH;FMTTYPE=image/jpeg:https://murphydeals.com/wp-content/uploads/2023/04/a-happy-group-of-people-from-men-and-women-practic-2022-05-31-22-21-48-utc-1-e1681495877805.jpg
END:VEVENT
BEGIN:VEVENT
DTSTART;TZID=America/Phoenix:20231124T173000
DTEND;TZID=America/Phoenix:20231124T203000
DTSTAMP:20260425T110605
CREATED:20230414T181759Z
LAST-MODIFIED:20230414T181759Z
UID:10007513-1700847000-1700857800@murphydeals.com
SUMMARY:6th Annual It’s All Good Lake Havasu Yoga Festival at the Nautical Beachfront Resort
DESCRIPTION:Enjoy an immersive weekend of a FREE yoga retreat with the beauty of Lake Havasu as your backdrop at the Nautical Beachfront Resort. Yoga lovers of all ages and experiences are welcome at the 6th Annual It’s All Good Lake Havasu Yoga Festival! (The link is to the 5th annual festival held in November 2022; it will be updated as information becomes available!) \nThis will be a casual weekend of exploring different styles of yoga while encouraging self discovery! \nAttend any of the weekend’s 90-minute Yoga Classes this year – donations are welcome (donors will receive a free yoga class at Ben Hicks Studio!) Donations can be made at the event or online here! \nClasses are scheduled daily to embody the foundations of traditional yoga. This year’s theme is “honor\,” to help honor a lifestyle free from stress\, make a pact with yourself to honor your true nature and full potential. \nThis is a FREE EVENT sponsored by Ben Hicks Yoga\, arrive to the yoga class on time to make sure you get a spot. \nCheck out the schedule! \nFree
URL:https://murphydeals.com/event/6th-annual-its-all-good-lake-havasu-yoga-festival-at-the-nautical-beachfront-resort/2023-11-24/
LOCATION:Nautical Beachfront Resort\, 1000 McCulloch Blvd N\, Lake Havasu City\, AZ\, 86403\, United States
CATEGORIES:Event
ATTACH;FMTTYPE=image/jpeg:https://murphydeals.com/wp-content/uploads/2023/04/a-happy-group-of-people-from-men-and-women-practic-2022-05-31-22-21-48-utc-1-e1681495877805.jpg
END:VEVENT
BEGIN:VEVENT
DTSTART;TZID=America/Phoenix:20221231T194500
DTEND;TZID=America/Phoenix:20221231T204500
DTSTAMP:20260425T110605
CREATED:20221108T231645Z
LAST-MODIFIED:20221108T231645Z
UID:10006580-1672515900-1672519500@murphydeals.com
SUMMARY:New Year Eve's Meditation with Sahaja Yoga Meditation online
DESCRIPTION:About this Event \nLife can be joyous when you are with people like you- spiritual and seekers of peace and higher purpose in life. \nSo join New Year Eve’s meditation session to learn and practice meditation and also unwind with some socialization towards end of session with fellow meditation practitioners and learners. \n\nLocation\nOnline-Zoom\, Zoom link to be shared after sign up\n\nHow to join? \nWe recommend joining by laptop for better experience. \nYou can join up to 15 minutes before start of event if you have some queries or would like some one to one help before meditation session starts. \n\n\nWhen to join? \n\nSaturday 31 December 7:45 PM \nWant to stay in touch? \nJoin us on WhatsApp \nWhat’s Next? \nJoin us for regular weekly meditation sessions in 2023. Sahaja Yoga is always free. Meditation is a journey and we like to support you all the way\, if you have that desire to make 2023 the year of peace and evolution for yourself. \nPlease feel free to email or WhatsApp following in case you have more questions or face difficulties joining Zoom session. We will try to keep you informed about more meditation events. \nBhargava.potukuchi@gmail.com \n513-203-8961 \nStay safe and keep meditating! \nNew Year’s Eve Meditation with Sahaja Yoga Meditation. Learn \, practice and unwind. \nAbout New Year & Meditation by Founder of Sahaja Yoga- Shri Mataji Nirmala Devi \nEvery year\, New Year comes and keeps coming. But\, the spirit of observing the New Year\, that people are not able to understand. Other than that\, on the day of the New Year\, new clothes will be worn\, will be celebrating. No one will think in a way that the New Year is coming\, what is the new thing that we will do. The way life is passing\, it will continue in the same way and in the same vein everyone will be wished for the New Year. In Sahaja Yoga\, when we are so collective\, we need to think as to what new we need to do in Sahaja Yoga. You have entered quite deep into meditation. You understand meditation and you have established your state. But in the New Year\, what is the new thing we should do\, our attention needs to be on that. In reality\, first we also need to think that what are the questions affecting our nation and what are the questions of the entire world and how do we bring solutions to those problems \nLet’s Meditate: Free Guided Online Meditation Class
URL:https://murphydeals.com/event/new-year-eves-meditation-with-sahaja-yoga-meditation-online/
LOCATION:AZ
CATEGORIES:Event
ATTACH;FMTTYPE=image/jpeg:https://murphydeals.com/wp-content/uploads/2022/11/meditation-1-e1667948509360.jpg
END:VEVENT
END:VCALENDAR