BEGIN:VCALENDAR
VERSION:2.0
PRODID:-//Murphy Deals - ECPv6.15.20//NONSGML v1.0//EN
CALSCALE:GREGORIAN
METHOD:PUBLISH
X-WR-CALNAME:Murphy Deals
X-ORIGINAL-URL:https://murphydeals.com
X-WR-CALDESC:Events for Murphy Deals
REFRESH-INTERVAL;VALUE=DURATION:PT1H
X-Robots-Tag:noindex
X-PUBLISHED-TTL:PT1H
BEGIN:VTIMEZONE
TZID:America/Phoenix
BEGIN:STANDARD
TZOFFSETFROM:-0700
TZOFFSETTO:-0700
TZNAME:MST
DTSTART:20220101T000000
END:STANDARD
END:VTIMEZONE
BEGIN:VEVENT
DTSTART;TZID=America/Phoenix:20230506T120000
DTEND;TZID=America/Phoenix:20230506T160000
DTSTAMP:20260425T093512
CREATED:20230424T162413Z
LAST-MODIFIED:20230424T162413Z
UID:10007592-1683374400-1683388800@murphydeals.com
SUMMARY:Mother's Day Poker Stroll
DESCRIPTION:Stroll downtown Lake Havasu City collecting poker cards from 5 local businesses\, treating Mom to exclusive discounts\, free gifts and more!\n\n\nA unique shopping experience just for Mom located in the heart of downtown Lake Havasu City! Gather friends and family and enjoy a day of leisure\, fun and surprises. \n♣️Event check in at KAWS on Saturday May 6th between 11am and 1pm.Check-in to receive event passes and map. \nEvent passes must stay on each participant at all times. \n♦️Participants are welcome to visit each of the 5 participating establishments at their leisure. Participants are not obligated to make any purchases during the event\, nor spend any designated amount of time at any establishment. \nCollect ONE poker card from each establishment.  \n👸✨Each business will provide exclusive menus\,offers/discount or gifts to each registered participant!✨️🤴 \nEstablishments remain the right to refuse business regardless or reason. Dwellers & Dreamers and Havasu Mama are not liable for any items lost or stolen\, nor responsible for any unpaid expenses or discrepancies on behalf of any participant. \n♥️Event will end at 4pm at KAWS where we will discover who has the winning poker hand and GRAND PRIZE WINNER!
URL:https://murphydeals.com/event/mothers-day-poker-stroll-2/
LOCATION:The KAWS\, 2144 McCulloch Boulevard North\, Lake Havasu City\, AZ\, 86403\, United States
ATTACH;FMTTYPE=image/jpeg:https://murphydeals.com/wp-content/uploads/2023/04/2cd84bf759a6c078a4905dea1ef72ac4.jpg
END:VEVENT
BEGIN:VEVENT
DTSTART;TZID=America/Phoenix:20230506T120000
DTEND;TZID=America/Phoenix:20230506T160000
DTSTAMP:20260425T093512
CREATED:20230424T162410Z
LAST-MODIFIED:20230424T162410Z
UID:10007591-1683374400-1683388800@murphydeals.com
SUMMARY:Mother's Day Poker Stroll
DESCRIPTION:Stroll downtown Lake Havasu City collecting poker cards from 5 local businesses\, treating Mom to exclusive discounts\, free gifts and more!\n\n\nA unique shopping experience just for Mom located in the heart of downtown Lake Havasu City! Gather friends and family and enjoy a day of leisure\, fun and surprises. \n♣️Event check in at KAWS on Saturday May 6th between 11am and 1pm.Check-in to receive event passes and map. \nEvent passes must stay on each participant at all times. \n♦️Participants are welcome to visit each of the 5 participating establishments at their leisure. Participants are not obligated to make any purchases during the event\, nor spend any designated amount of time at any establishment. \nCollect ONE poker card from each establishment.  \n👸✨Each business will provide exclusive menus\,offers/discount or gifts to each registered participant!✨️🤴 \nEstablishments remain the right to refuse business regardless or reason. Dwellers & Dreamers and Havasu Mama are not liable for any items lost or stolen\, nor responsible for any unpaid expenses or discrepancies on behalf of any participant. \n♥️Event will end at 4pm at KAWS where we will discover who has the winning poker hand and GRAND PRIZE WINNER!
URL:https://murphydeals.com/event/mothers-day-poker-stroll/
LOCATION:The KAWS\, 2144 McCulloch Boulevard North\, Lake Havasu City\, AZ\, 86403\, United States
ATTACH;FMTTYPE=image/jpeg:https://murphydeals.com/wp-content/uploads/2023/04/2cd84bf759a6c078a4905dea1ef72ac4.jpg
END:VEVENT
END:VCALENDAR