BEGIN:VCALENDAR
VERSION:2.0
PRODID:-//Murphy Deals - ECPv6.15.20//NONSGML v1.0//EN
CALSCALE:GREGORIAN
METHOD:PUBLISH
X-ORIGINAL-URL:https://murphydeals.com
X-WR-CALDESC:Events for Murphy Deals
REFRESH-INTERVAL;VALUE=DURATION:PT1H
X-Robots-Tag:noindex
X-PUBLISHED-TTL:PT1H
BEGIN:VTIMEZONE
TZID:America/Phoenix
BEGIN:STANDARD
TZOFFSETFROM:-0700
TZOFFSETTO:-0700
TZNAME:MST
DTSTART:20220101T000000
END:STANDARD
END:VTIMEZONE
BEGIN:VEVENT
DTSTART;TZID=America/Phoenix:20230902T110000
DTEND;TZID=America/Phoenix:20230902T180000
DTSTAMP:20260425T174423
CREATED:20230421T194743Z
LAST-MODIFIED:20230421T194743Z
UID:10007570-1693652400-1693677600@murphydeals.com
SUMMARY:Clint Howard Meet & Greet at Flashback Toys in Lake Havasu
DESCRIPTION:Meet Clint Howard! \nClint Howard has appeared in over 250 Major Motion Films and TV shows since he started working at the young age of 2 on The Andy Griffith Show. \nHe has done work ranging from lending his voice to Roo\, in Winnie The Pooh to playing parts in Austin Powers\, Star Trek\, Little Nicky and Water Boy. \nCome down and get your photo taken with clint for $20\, pick up a signed 8×10 photo (provided by Clint) for $50 or you can do both for $60. \n 
URL:https://murphydeals.com/event/clint-howard-meet-greet-at-flashback-toys-in-lake-havasu/
LOCATION:Flashback Toys & Collectibles\, 39 Querio Dr\, Lake Havasu City\, AZ\, 86403\, United States
CATEGORIES:Event
ATTACH;FMTTYPE=image/jpeg:https://murphydeals.com/wp-content/uploads/2023/04/clinthoward-e1682105924365.jpg
END:VEVENT
END:VCALENDAR