BEGIN:VCALENDAR
VERSION:2.0
PRODID:-//Murphy Deals - ECPv6.15.20//NONSGML v1.0//EN
CALSCALE:GREGORIAN
METHOD:PUBLISH
X-ORIGINAL-URL:https://murphydeals.com
X-WR-CALDESC:Events for Murphy Deals
REFRESH-INTERVAL;VALUE=DURATION:PT1H
X-Robots-Tag:noindex
X-PUBLISHED-TTL:PT1H
BEGIN:VTIMEZONE
TZID:America/Phoenix
BEGIN:STANDARD
TZOFFSETFROM:-0700
TZOFFSETTO:-0700
TZNAME:MST
DTSTART:20220101T000000
END:STANDARD
END:VTIMEZONE
BEGIN:VEVENT
DTSTART;TZID=America/Phoenix:20230413T210000
DTEND;TZID=America/Phoenix:20230413T230000
DTSTAMP:20260425T142822
CREATED:20230406T172644Z
LAST-MODIFIED:20230406T174739Z
UID:10007449-1681419600-1681426800@murphydeals.com
SUMMARY:The Bastard Suns (GA) \, Dial Drive (FL)\, &  Hardyville Stranglers
DESCRIPTION:FREE SHOW!!!!\nThe Bastards Suns & Dial Drive!\nDO NOT miss this high energy tour package!\n21+
URL:https://murphydeals.com/event/the-bastard-suns-ga-dial-drive-fl-hardyville-stranglers-2/
LOCATION:Havasu Concert Lounge\, 1519 Queens Bay\, Lake Havasu City\, AZ\, 86403\, United States
CATEGORIES:Music | Concerts
ATTACH;FMTTYPE=image/jpeg:https://murphydeals.com/wp-content/uploads/2023/04/788e392062e3c58432deadffb142ba77-e1680802428615.jpg
END:VEVENT
END:VCALENDAR