BEGIN:VCALENDAR
VERSION:2.0
PRODID:-//Murphy Deals - ECPv6.15.20//NONSGML v1.0//EN
CALSCALE:GREGORIAN
METHOD:PUBLISH
X-ORIGINAL-URL:https://murphydeals.com
X-WR-CALDESC:Events for Murphy Deals
REFRESH-INTERVAL;VALUE=DURATION:PT1H
X-Robots-Tag:noindex
X-PUBLISHED-TTL:PT1H
BEGIN:VTIMEZONE
TZID:America/Phoenix
BEGIN:STANDARD
TZOFFSETFROM:-0700
TZOFFSETTO:-0700
TZNAME:MST
DTSTART:20220101T000000
END:STANDARD
END:VTIMEZONE
BEGIN:VEVENT
DTSTART;TZID=America/Phoenix:20230128T140000
DTEND;TZID=America/Phoenix:20230128T163000
DTSTAMP:20260425T094046
CREATED:20221129T202656Z
LAST-MODIFIED:20221129T223305Z
UID:10006662-1674914400-1674923400@murphydeals.com
SUMMARY:Slot Canyon Hike
DESCRIPTION:Enjoy the most popular hike at SARA Park and marvel at the red rock formations
URL:https://murphydeals.com/event/slot-canyon-hike-4/
LOCATION:SARA Park\, 7260 Sara Parkway\, Lake Havasu City\, AZ\, 86406\, United States
CATEGORIES:Sports | Activities
ATTACH;FMTTYPE=image/jpeg:https://murphydeals.com/wp-content/uploads/2022/11/Slot-Canyon-e1669761125951.jpg
END:VEVENT
BEGIN:VEVENT
DTSTART;TZID=America/Phoenix:20230121T140000
DTEND;TZID=America/Phoenix:20230121T163000
DTSTAMP:20260425T094046
CREATED:20221129T202644Z
LAST-MODIFIED:20221130T214433Z
UID:10006661-1674309600-1674318600@murphydeals.com
SUMMARY:Slot Canyon Hike at Sara Park
DESCRIPTION:Enjoy the most popular hike at SARA Park and marvel at the red rock formations
URL:https://murphydeals.com/event/slot-canyon-hike-3/
LOCATION:SARA Park\, 7260 Sara Parkway\, Lake Havasu City\, AZ\, 86406\, United States
CATEGORIES:Sports | Activities
ATTACH;FMTTYPE=image/jpeg:https://murphydeals.com/wp-content/uploads/2022/11/Slot-Canyon-1-e1669844332884.jpg
END:VEVENT
BEGIN:VEVENT
DTSTART;TZID=America/Phoenix:20230114T140000
DTEND;TZID=America/Phoenix:20230114T163000
DTSTAMP:20260425T094046
CREATED:20221129T202630Z
LAST-MODIFIED:20221130T213952Z
UID:10006660-1673704800-1673713800@murphydeals.com
SUMMARY:Slot Canyon Hike at Sara Park
DESCRIPTION:Enjoy the most popular hike at SARA Park and marvel at the red rock formations
URL:https://murphydeals.com/event/slot-canyon-hike-2/
LOCATION:SARA Park\, 7260 Sara Parkway\, Lake Havasu City\, AZ\, 86406\, United States
CATEGORIES:Sports | Activities
ATTACH;FMTTYPE=image/jpeg:https://murphydeals.com/wp-content/uploads/2022/11/Slot-Canyon-1-e1669844332884.jpg
END:VEVENT
BEGIN:VEVENT
DTSTART;TZID=America/Phoenix:20230107T140000
DTEND;TZID=America/Phoenix:20230107T163000
DTSTAMP:20260425T094046
CREATED:20221129T202618Z
LAST-MODIFIED:20221129T223445Z
UID:10006659-1673100000-1673109000@murphydeals.com
SUMMARY:Slot Canyon Hike at Sara Park
DESCRIPTION:Enjoy the most popular hike at SARA Park and marvel at the red rock formations
URL:https://murphydeals.com/event/slot-canyon-hike/
LOCATION:SARA Park\, 7260 Sara Parkway\, Lake Havasu City\, AZ\, 86406\, United States
CATEGORIES:Sports | Activities
ATTACH;FMTTYPE=image/jpeg:https://murphydeals.com/wp-content/uploads/2022/11/Slot-Canyon-e1669761125951.jpg
END:VEVENT
END:VCALENDAR