BEGIN:VCALENDAR
VERSION:2.0
PRODID:-//Murphy Deals - ECPv6.15.20//NONSGML v1.0//EN
CALSCALE:GREGORIAN
METHOD:PUBLISH
X-WR-CALNAME:Murphy Deals
X-ORIGINAL-URL:https://murphydeals.com
X-WR-CALDESC:Events for Murphy Deals
REFRESH-INTERVAL;VALUE=DURATION:PT1H
X-Robots-Tag:noindex
X-PUBLISHED-TTL:PT1H
BEGIN:VTIMEZONE
TZID:America/Phoenix
BEGIN:STANDARD
TZOFFSETFROM:-0700
TZOFFSETTO:-0700
TZNAME:MST
DTSTART:20220101T000000
END:STANDARD
END:VTIMEZONE
BEGIN:VEVENT
DTSTART;TZID=America/Phoenix:20230330T180000
DTEND;TZID=America/Phoenix:20230330T220000
DTSTAMP:20260425T063255
CREATED:20230113T215514Z
LAST-MODIFIED:20230113T215514Z
UID:10007009-1680199200-1680213600@murphydeals.com
SUMMARY:MicroMania  Midget Wrestling: Lake Havasu\, AZ at BJ's Cabana Bar
DESCRIPTION:MicroMania Midget Wrestling returns to BJ’s Cabana Bar on Thursday March 30th\, 2023 in Lake Havasu\, AZ\n\n\nMicroMania Midget Wrestling returns to BJ’s Cabana Bar on Thursday March 30th\, 2023 in Lake Havasu\, AZ\n \n \nMicroMania Midget Wrestling is a high powered\, explosive\, athletic Pro Wrestling show with just the right touch of comedy thrown in to make for a unforgettable BIG event not necessarily BIG people!!\n \n \nThese 5 foot & under micro athletes may be short in stature but are giants in the world of entertainment where they will keep you on your feet screaming from the opening bell through the Main Event!\n \n \nMicroMania Midget Wrestling Promo Video\n \n \n\n \n \nAge Restrictions: 21+\n \n \nDoors Open: 6pm\n \n \nShow Time: 8pm\n \n \nPresale\n \n \n﻿$20-General Admission *\n \n \n$40-Ringside **\n \n \nTickets $5 More Day of the Show\n \n \n$180-Guest Referee Package *\n \n \n$300 -Sponsorship Package **\n \n \n*General admission varies per venue\, it is sometimes standing or seated. ﻿\n \n \n**Ringside Seating consists of a guaranteed seat surrounding the Ring. Depending on the venue capacity\, there can be any number of Ringside seated rows\, sometimes as many as 10. Seats are not numbered or reserved. In rare occasions Ringside doesn’t consist of a seat depending on Venue.\n \n \n* Guest Referee Package Here’s your chance to be a part of our MicroMania show as a guest referee for one of our matches. The Package also includes exclusive training to turn an ordinary fan into a MicroMania Referee for the evening. So don’t miss your chance of a lifetime and climb into our MicroMania ring and become the talk of the town with the experience of a lifetime. Only 2 Spots available per show. Includes 1 General Admission ticket with this Package.\n \n \n** Sponsorship Package\n \n \nHere’s your chance to advertise your business and enjoy MicroMania Midget Wrestling at the same time with this rare opportunity to showcase your business with the Biggest Little Show in the USA. This Package includes 5 Free General Admission tickets.\n \n \nCall Billy Blade (805)260–5586 for details\n \n \nNOTE: Tickets are nonrefundable unless the show gets canceled.\n \n \nFollow all things MicroMania\n \n \nFacebook: MicroMania Tour\n \n \nTik Tok: TheMicroManiaTour\n \n \nInstagram: MicroMania Tour\n \n \nWebsite & Booking info: www.MicroManiaTour.com
URL:https://murphydeals.com/event/micromania-midget-wrestling-lake-havasu-az-at-bjs-cabana-bar-3/
LOCATION:BJ’s Cabana Bar & Karaoke\, 2122 McCulloch Boulevard North\, Lake Havasu City\, AZ\, 86403\, United States
ATTACH;FMTTYPE=image/jpeg:https://murphydeals.com/wp-content/uploads/2023/01/e5cf6269cb0cf32cba98796e063cc0e5-1.jpg
END:VEVENT
END:VCALENDAR