BEGIN:VCALENDAR
VERSION:2.0
PRODID:-//Murphy Deals - ECPv6.15.20//NONSGML v1.0//EN
CALSCALE:GREGORIAN
METHOD:PUBLISH
X-WR-CALNAME:Murphy Deals
X-ORIGINAL-URL:https://murphydeals.com
X-WR-CALDESC:Events for Murphy Deals
REFRESH-INTERVAL;VALUE=DURATION:PT1H
X-Robots-Tag:noindex
X-PUBLISHED-TTL:PT1H
BEGIN:VTIMEZONE
TZID:America/Phoenix
BEGIN:STANDARD
TZOFFSETFROM:-0700
TZOFFSETTO:-0700
TZNAME:MST
DTSTART:20220101T000000
END:STANDARD
END:VTIMEZONE
BEGIN:VEVENT
DTSTART;TZID=America/Phoenix:20230426T100000
DTEND;TZID=America/Phoenix:20230430T220000
DTSTAMP:20260425T092613
CREATED:20230113T221137Z
LAST-MODIFIED:20230113T221137Z
UID:10007010-1682503200-1682892000@murphydeals.com
SUMMARY:BIKER CAMPING - Just over the hill from Laughlin & Oatman. Tent & RV.
DESCRIPTION:Camp with us for the area biker events April 26-30. Just over the hill from Laughlin & down the road from Oatman. Tent & RV spots available.\n\n\nW﻿ARNING: We are not responsible for;  \n-﻿Old Lady in wrong tent \n-﻿Old man in wrong tent \n-﻿Property damage \n-﻿Personal injury \n-﻿Weddings \n-﻿Divorces \n-﻿Loss of property \n-﻿Loss of clothing \n-﻿Loss of virginity \nWelcome to the Saddle Sore Ranch. Home of the best old school camping parties in the Southwest. Whether you are staying with us for “Route 66 Bike Week”\, or any of the other area biker events\, join us in Western Arizona as riders from all over the world unite for good times and great riding all along the longest uninterrupted stretch of 66 that still exists today. As seen in the biggest biker magazines in the world\, such as Easyriders\, Outlaw Biker\, Cycle Source\, The Horse-Backstreet Choppers and more. Our activities stretch from Needles\, CA to Seligman\, AZ\, with Rally Central being the Saddle Sore Ranch on Route 66. From there\, you can ride the Mother Road east and west\, with awesome stops all along the way.  \nFollow in the footsteps of Easy Rider film locations\, take a step back in time at a historic Route 66 diner. Stay overnight in a Route 66 motel. We will be planning activities all along this stretch of Route 66\, so you are sure to have a great time\, and mix in with other riders from around the world!!! Live music\, biker games\, poker runs\, contests\, and some of the most amazing riding that you will find anywhere. Get your Route 66 Passport stamped as you go\, for a one of a kind souvenir from your time at Route 66 Bike Week. When the sun goes down\, you will definitely want to make your way back to the Saddle Sore Ranch for some old school biker fun\, campfire parties\, live music and more. \n Route 66 Bike week is not made up of a parking lot full of vendors\, or some expensive host hotel… Instead\, stay in one of the many historic motels along Route 66. That is\, if you don’t camp with us at the Saddle Sore Ranch. While we will certainly have vendors\, entertainment\, biker games\, contests\, races and nightly campfire parties at the Saddle Sore Ranch\, Route 66 Bike Week is meant to encourage riders to get out and RIDE. We will be setting up activities all along the route\, as well as a scavenger hunt that will take you back in time. Ride in the footsteps of many Easy Rider filming locations\, as you make your way down the Mother Road.
URL:https://murphydeals.com/event/biker-camping-just-over-the-hill-from-laughlin-oatman-tent-rv/
LOCATION:Saddle Sore Ranch on Route 66 (milepost 36.5 on Oatman Hwy)\, Oatman Hwy\, Golden Valley\, AZ\, 86413\, United States
ATTACH;FMTTYPE=image/jpeg:https://murphydeals.com/wp-content/uploads/2023/01/e528f9aa9fad1e013771fa57c25bcf56.jpg
END:VEVENT
BEGIN:VEVENT
DTSTART;TZID=America/Phoenix:20230426T100000
DTEND;TZID=America/Phoenix:20230430T220000
DTSTAMP:20260425T092613
CREATED:20220602T224830Z
LAST-MODIFIED:20221202T200243Z
UID:10001634-1682503200-1682892000@murphydeals.com
SUMMARY:ROUTE 66 BIKE WEEK 2023
DESCRIPTION:“Route 66 Bike Week”. Come join us in Western Arizona as riders from all over the world unite for good times and great riding.\n\n\nWelcome to “Route 66 Bike Week”. Come join us in Western Arizona as riders from all over the world unite for good times and great riding all along the longest uninterrupted stretch of 66 that still exists today. From Needles\, CA to Seligman\, AZ\, with Rally Central being the Saddle Sore Ranch on Route 66. From there\, you can ride the Mother Road east and west\, with awesome stops all along the way. Follow in the footsteps of Easy Rider film locations\, take a step back in time at a historic Route 66 diner. Stay overnight in a Route 66 motel. We will be planning activities all along this stretch of Route 66\, so you are sure to have a great time\, and mix in with other riders from around the world!!! Live music\, biker games\, poker runs\, contests\, and some of the most amazing riding that you will find anywhere. Get your Route 66 Passport stamped as you go\, for a one of a kind souvenir from your time at Route 66 Bike Week. When the sun goes down\, you will definitely want to make your way back to the Saddle Sore Ranch for some old school biker fun\, campfire party\, live music and more. \nRoute 66 Bike week is not made up of a parking lot full of vendors\, or some expensive host hotel… Instead\, stay in one of the many historic motels along Route 66. That is\, if you don’t camp with us at the Saddle Sore Ranch. While we will certainly have vendors\, entertainment\, biker games\, contests\, races and nightly campfire parties at the Saddle Sore Ranch\, Route 66 Bike Week is meant to encourage riders to get out and RIDE. We will be setting up activities all along the route\, as well as a scavenger hunt that will take you back in time. Ride in the footsteps of many Easy Rider filming locations\, as you make your way down the Mother Road.
URL:https://murphydeals.com/event/route-66-bike-week-2023/
LOCATION:Saddle Sore Ranch on Route 66 (milepost 36.5 on Oatman Hwy)\, Oatman Hwy\, Golden Valley\, AZ\, 86413\, United States
CATEGORIES:Event
ATTACH;FMTTYPE=image/jpeg:https://murphydeals.com/wp-content/uploads/2022/06/maxresdefault-e1670009991716.jpg
END:VEVENT
END:VCALENDAR