BEGIN:VCALENDAR
VERSION:2.0
PRODID:-//Murphy Deals - ECPv6.15.20//NONSGML v1.0//EN
CALSCALE:GREGORIAN
METHOD:PUBLISH
X-ORIGINAL-URL:https://murphydeals.com
X-WR-CALDESC:Events for Murphy Deals
REFRESH-INTERVAL;VALUE=DURATION:PT1H
X-Robots-Tag:noindex
X-PUBLISHED-TTL:PT1H
BEGIN:VTIMEZONE
TZID:America/Phoenix
BEGIN:STANDARD
TZOFFSETFROM:-0700
TZOFFSETTO:-0700
TZNAME:MST
DTSTART:20220101T000000
END:STANDARD
END:VTIMEZONE
BEGIN:VEVENT
DTSTART;TZID=America/Phoenix:20230114T080000
DTEND;TZID=America/Phoenix:20230114T150000
DTSTAMP:20260425T163324
CREATED:20221129T204727Z
LAST-MODIFIED:20221130T213220Z
UID:10006665-1673683200-1673708400@murphydeals.com
SUMMARY:2023 Parker Color Run
DESCRIPTION:Join us for a day of fun\, festivities and flinging color! The 1st Annual Parker Color Run hosted by the Parks and Recreation Committee\n\n\n\nJoin us Saturday January 14th\, 2023 for day of fun. We will have food vendors\, music\, and flying colors! \nRegistration and packet pick up will begin at 8:00 AM @ City Ball Fields located at 1610 18th Street \n9:00 AM Shotgun Start \nFor questions please call 928-669-9265 ext. 1003
URL:https://murphydeals.com/event/2023-parker-color-run/
LOCATION:Town of Parker City Ball Field\, 1610 18th Street\, Parker\, AZ\, 85344\, United States
CATEGORIES:Event
ATTACH;FMTTYPE=image/jpeg:https://murphydeals.com/wp-content/uploads/2022/11/the-color-run-e1669843908106.jpg
END:VEVENT
END:VCALENDAR