BEGIN:VCALENDAR
VERSION:2.0
PRODID:-//Murphy Deals - ECPv6.15.20//NONSGML v1.0//EN
CALSCALE:GREGORIAN
METHOD:PUBLISH
X-ORIGINAL-URL:https://murphydeals.com
X-WR-CALDESC:Events for Murphy Deals
REFRESH-INTERVAL;VALUE=DURATION:PT1H
X-Robots-Tag:noindex
X-PUBLISHED-TTL:PT1H
BEGIN:VTIMEZONE
TZID:America/Phoenix
BEGIN:STANDARD
TZOFFSETFROM:-0700
TZOFFSETTO:-0700
TZNAME:MST
DTSTART:20230101T000000
END:STANDARD
END:VTIMEZONE
BEGIN:VEVENT
DTSTART;TZID=America/Phoenix:20240317T090000
DTEND;TZID=America/Phoenix:20240317T140000
DTSTAMP:20260425T161725
CREATED:20240306T204437Z
LAST-MODIFIED:20240306T204437Z
UID:10008588-1710666000-1710684000@murphydeals.com
SUMMARY:Pioneer Country Events Gun\, Knife\, Coins & Collectible Show
DESCRIPTION:Pioneer Country Events Gun\, Knife\, Coin & Collectible Show\nThere are New\, Collectible & Used Hand Guns as well as Long Guns!\nWe have Custom Knife Makers\, as well as U.S. Military Knives\, Pocket Knives of all kinds\, Ammo\, There will be Reloading Supplies available\, Concealed Purses by The Purse Hoarder\, Collectible Jewelry\, Hand-woven Jewelry\, Hidden Treasures w/Beautiful Wooden Puzzle Boxes as well as Self Defense items and Much Much More. \nWhen: March 16th & 17th\, 2024 \nWhere: The College Park Community Center\n1990 Jagerson Ave & Van Nuys\nKingman\, AZ\nSets Behind the College Community Center! \nAdmission: $7.00 per person\n$12.00 for a 2- Day Pass\n16 & under FREE with paid adult \nFood on Premises by:\nOlympus Diner of Kingman\, AZ \nWebsite:\nwww.PioneerCountryEvents.com \nEmail: PioneerCountryEvents@gmail.com \nOr you may call:\n928/692-0937 or 928/279-4775 \n$7.00 or 2-Day Pass $12.00 children 16 & under FREE with paid Adult \nPick up a Copy or print the CURRENT Flyer for $1.00 Off!
URL:https://murphydeals.com/event/pioneer-country-events-gun-knife-coins-collectible-show/2024-03-17/
LOCATION:1990 Jagerson Ave & Van Nuys
CATEGORIES:Sports | Activities
ATTACH;FMTTYPE=image/jpeg:https://murphydeals.com/wp-content/uploads/2024/03/Mar-2024-Flyer-scaled-e1709757854393.jpg
END:VEVENT
BEGIN:VEVENT
DTSTART;TZID=America/Phoenix:20240316T090000
DTEND;TZID=America/Phoenix:20240316T140000
DTSTAMP:20260425T161725
CREATED:20240306T204437Z
LAST-MODIFIED:20240306T204437Z
UID:10008587-1710579600-1710597600@murphydeals.com
SUMMARY:Pioneer Country Events Gun\, Knife\, Coins & Collectible Show
DESCRIPTION:Pioneer Country Events Gun\, Knife\, Coin & Collectible Show\nThere are New\, Collectible & Used Hand Guns as well as Long Guns!\nWe have Custom Knife Makers\, as well as U.S. Military Knives\, Pocket Knives of all kinds\, Ammo\, There will be Reloading Supplies available\, Concealed Purses by The Purse Hoarder\, Collectible Jewelry\, Hand-woven Jewelry\, Hidden Treasures w/Beautiful Wooden Puzzle Boxes as well as Self Defense items and Much Much More. \nWhen: March 16th & 17th\, 2024 \nWhere: The College Park Community Center\n1990 Jagerson Ave & Van Nuys\nKingman\, AZ\nSets Behind the College Community Center! \nAdmission: $7.00 per person\n$12.00 for a 2- Day Pass\n16 & under FREE with paid adult \nFood on Premises by:\nOlympus Diner of Kingman\, AZ \nWebsite:\nwww.PioneerCountryEvents.com \nEmail: PioneerCountryEvents@gmail.com \nOr you may call:\n928/692-0937 or 928/279-4775 \n$7.00 or 2-Day Pass $12.00 children 16 & under FREE with paid Adult \nPick up a Copy or print the CURRENT Flyer for $1.00 Off!
URL:https://murphydeals.com/event/pioneer-country-events-gun-knife-coins-collectible-show/2024-03-16/
LOCATION:1990 Jagerson Ave & Van Nuys
CATEGORIES:Sports | Activities
ATTACH;FMTTYPE=image/jpeg:https://murphydeals.com/wp-content/uploads/2024/03/Mar-2024-Flyer-scaled-e1709757854393.jpg
END:VEVENT
END:VCALENDAR