BEGIN:VCALENDAR
VERSION:2.0
PRODID:-//Murphy Deals - ECPv6.15.20//NONSGML v1.0//EN
CALSCALE:GREGORIAN
METHOD:PUBLISH
X-WR-CALNAME:Murphy Deals
X-ORIGINAL-URL:https://murphydeals.com
X-WR-CALDESC:Events for Murphy Deals
REFRESH-INTERVAL;VALUE=DURATION:PT1H
X-Robots-Tag:noindex
X-PUBLISHED-TTL:PT1H
BEGIN:VTIMEZONE
TZID:America/Phoenix
BEGIN:STANDARD
TZOFFSETFROM:-0700
TZOFFSETTO:-0700
TZNAME:MST
DTSTART:20220101T000000
END:STANDARD
END:VTIMEZONE
BEGIN:VEVENT
DTSTART;TZID=America/Phoenix:20230508T180000
DTEND;TZID=America/Phoenix:20230508T200000
DTSTAMP:20260425T191228
CREATED:20230424T162237Z
LAST-MODIFIED:20230424T162237Z
UID:10007588-1683568800-1683576000@murphydeals.com
SUMMARY:Wine and Paint Party
DESCRIPTION:Calling all art enthusiasts! Join us for our monthly Paint Party\, every second Monday of the month at 6pm.\n\n\nUnleash your creativity and let your imagination run wild as our experienced instructors guide you through the process of creating your very own masterpiece. No prior experience is necessary\, as our Paint Party is perfect for both beginners and experienced painters alike. \nAll of the necessary supplies will be provided\, including paints\, brushes\, canvases\, and more. Bring your friends and family along and make it a night to remember with good company\, great music\, and delicious drinks. \nWhether you’re looking to de-stress after a long day at work or simply looking for a fun night out\, our Paint Party is the perfect opportunity to tap into your artistic side and create something truly unique. Don’t miss out on the fun and sign up today! \n \nWe can’t wait to see you there.
URL:https://murphydeals.com/event/wine-and-paint-party-2/
LOCATION:2097 McCulloch Blvd N\, 2097 McCulloch Boulevard North\, Lake Havasu City\, AZ\, 86403\, United States
ATTACH;FMTTYPE=image/jpeg:https://murphydeals.com/wp-content/uploads/2023/04/70330f9887c41329ae97d85b8d448b23.jpg
END:VEVENT
END:VCALENDAR